Workbook

Sheet Tab 1 Budget summary
B3: Table 1: Total budget MACP USD | E3: Table 5: Total budget OF USD
B4: Organization | C4: Total (2024-2027) | E4: Organization | F4: Total (2024-2027)
B5: UNHCR | C5: =C15+C25 -> 10751880 | E5: UNHCR | F5: =SUM(F15+F25) -> 0
B6: UNICEF | C6: =SUM(C16+C26+C35) -> 15312998 | E6: UNICEF | F6: =SUM(F16+F26+F35) -> 0
B7: ILO | C7: =SUM(C17+C27+C36) -> 15247967 | E7: ILO | F7: =SUM(F17+F27+F36) -> 0
B8: World Bank | C8: =SUM(C18+C28) -> 7000000 | E8: World Bank | F8: =SUM(F18+F28) -> 0
B9: IFC | C9: =SUM(C19+C29) -> 4000000 | E9: IFC | F9: 0
B10: Total | C10: =SUM(C5:C9) -> 52312845 | E10: Total | F10: =SUM(F5:F9) -> 0
B13: Table 2: Total activity costs MACP USD | E13: Table 6: Total activity costs OF USD
B14: Organization | C14: Total (2024-2027) | E14: Organization | F14: Total (2024-2027)
B15: UNHCR | C15: ='Tab 2 Programme Portfolio'!B62 -> 10095662 | E15: UNHCR
B16: UNICEF | C16: ='Tab 2 Programme Portfolio'!B63 -> 14038319 | E16: UNICEF | F16: ='Tab 2 Programme Portfolio'!E63 -> 0
B17: ILO | C17: ='Tab 2 Programme Portfolio'!B64 -> 13360174 | E17: ILO | F17: ='Tab 2 Programme Portfolio'!E64 -> 0
B18: World Bank | C18: ='Tab 2 Programme Portfolio'!K57 -> 7000000 | E18: World Bank | F18: ='Tab 2 Programme Portfolio'!E65 -> 0
B19: IFC | C19: ='Tab 2 Programme Portfolio'!B66 -> 4000000 | E19: IFC | F19: ='Tab 2 Programme Portfolio'!E66 -> 0
B20: Total | C20: =SUM(C15:C19) -> 48494155 | E20: Total | F20: =SUM(F15:F19) -> 0
B23: Table 3: Indirect recovery costs MACP USD - optional | E23: Table 7: Indirect recovery costs OF USD - optional
B24: Organization | C24: Total (2024-2027) | E24: Organization | F24: Total (2024-2027)
B25: UNHCR | C25: =0.065*C15 -> 656218.03 | E25: UNHCR | F25: 0
B26: UNICEF (indirect costs) | C26: =0.08*C16 -> 1123065.5 | E26: UNICEF (indirect costs) | F26: 0
B27: ILO | C27: 1736822.7 | E27: ILO | F27: 0
B28: World Bank | C28: 0 | E28: World Bank | F28: 0
B29: IFC | C29: 0 | E29: IFC | F29: 0
B30: Total | C30: =SUM(C25:C29) -> 3516106.2 | E30: Total | F30: =SUM(F25:F29) -> 0
B33: Table 4: UN Levy costs MACP USD | E33: Table 8: UN Levy costs OF USD
B34: Organization | C34: Total (2024-2027) | E34: Organization | F34: Total (2024-2027)
B35: UNICEF | C35: =0.01*(C16+C26) -> 151613.84 | E35: UNICEF | F35: 0
B36: ILO | C36: 150969.97 | E36: ILO | F36: 0
B37: Total | C37: =SUM(C35:C36) -> 302583.81 | E37: Total | F37: =SUM(F35:F36) -> 0

Sheet Tab 2 Programme Portfolio
A1: Reference | B1: Title of Intervention | C1: Type of intervention | D1: MACP or OF | E1: Short description of Intervention Include a few lines on what was done under 1.0, explain what will be done under 2.0, specify with a sentence on the alignment with other activities for the aligned activities | F1: Pillar | G1: Participating Partners (PROSPECTS only) | H1: UNICEF Budget (if applicable) | I1: UNHCR Budget (if applicable) | J1: ILO Budget (if applicable) | K1: WB Budget (if applicable) | L1: IFC Budget (if applicable) | M1: Total budget (= multi-annual) | N1: Geographic area | O1: Implementation period | P1: Target group | Q1: Government Counterparts | R1: Other implementing organizations | S1: Contribution to the contextualized TOC | T1: Contribution to ToC Outcomes | U1: Other relevant information
A2: Pillar 1: EDUCATION AND LEARNING | H2: =SUM(H3:H17) -> 6525244 | I2: =SUM(I3:I17) -> 4272662 | J2: =SUM(J3:J17) -> 4820000 | K2: =SUM(K3:K17) -> 1980000 | L2: =SUM(L3:L17) -> 0 | M2: =SUM(M3:M17) -> 17597906
A3: 1.1 | B3: Increased delivery of quality education (formal) and system strengthening for increased access to education and retention in targeted refugee settlement schools. | C3: Collective intervention | D3: MACP | E3: This intervention is aligned with the ERP II Outcome II and it is aimed at improving the quality of teaching and learning, UNHCR will contribute through the following activities: 1) recruit, deploy and hire teachers aligned with national teacher competencies; 2) capacity building for teachers. In addition, a % of teachers will be recruited, deployed and hired through the DLGs 3) provision of scholarships with particular focus on girls and children with disabilities will be critical to adress a major barrier to access formal and non-formal education (secondary and TVET/VCT). Based on the experiece from PROSPECTS Phase I this was a critical activity to support and bring back in school or give access to vocational trainings to out of school boys, girls and children with disabilities. This activity is already implemented in other districts (Kyriandongo and Koboko) and will be scaled up under the PROSPECTS. Another outstanding feature of primary education in Uganda is the large presence of overaged children. According to the annual school census conducted in 2017, while 83.7% of the pupils were enrolled within the official primary school age of 6-12 years, only 31% were enrolled in the appropriate grades from their respective ages. As such, UNICEF will support the Ministry of Education and Sports (MoES) plans to scale-up the U Catch Up initaitive as a remedial learning pedagogy for overage for grade 20,000 adolescents (in upper primary levels). U Catch Up is the nationally branded remedial programme building on the piloting of Teaching at the Right Level (TaRL) programme in phase one of the PROSPECTS programme. The intervention aims to build key foundational learning skills such as literacy and numeracy in Isingiro, Madi Okollo and Terego districts. In line with ERP II, UNICEF will support remedial learning programmes targeting adolescents in 180 primary schools. The intervention is aligned with UNHCR's support to critical operations at the school level which includes payment of teachers' salaries. This activity will have beneficiaries receiving services from two or more agencies: UNHCR and UNICEF will support interventions in the same schools. | F3: Pillar 1: EDUCATION AND LEARNING | G3: UNHCR, UNICEF | H3: 798274.25 | I3: 4272662 | M3: =SUM(H3:L3) -> 5070936.2 | N3: Madi Okollo, Terego and Isingiro | O3: 2024-2027 | P3: In and out-of-school children including adolescents from refugee and host communities | Q3: MOES, MOLG, DLG and OPM | R3: Windle International Uganda Finn Church Aid | S3: 1.1 Foundational Skills | T3: Access to basic services
A4: New Intervention (1.2) | B4: Support transition of education services into the mainstream education system. | C4: Collective intervention | D4: MACP | E4: Transition of education services into the mainstream education system will be done through coding and grant-aiding of facilities serving refugees and host communities. PROSPECTS partners will closely work with MoES, the MGLSD, MoLG and OPM and will advocate for and work to: (1) UNHCR and partners will advocate and support for coding and government take over of community schools establshed by humaniterian actors to address the gaps as result of emergency.- This support may include upgrading education facilities to required govt standard. This is part of the Goverement of Uganda's Pledge at the 2023 GRF. (2) Partners will advocate and support the certification and registration of refugee teachers in the Teacher Management Information System (TMIS). (3) Support the roll-out and operationalization of the EMIS through enhancing the capacity of PROSPECTS districts and schools to fully and effectively manage EMIS data, especially on data related to refugees. This builds on existing activities and experience of UNHCR in enhanciing EMIS capacity of schools in refugee-districts. | F4: Pillar 1: EDUCATION AND LEARNING | G4: UNHCR, UNICEF | N4: Madi Okollo, Terego, Isingiro and Kampala | O4: 2024-2027 | Q4: MOES, MOLG, DLG and OPM | T4: Inclusion in national systems
A5: 1.3 | B5: Provision of accelerated learning programmes for out-of-school adolescents to gain foundational learning skills needed for life and work | C5: Partner specific intervention | D5: MACP | E5: Aligned with the focus on in-school children and youth, through the provision of the Accelerated Education Programme, this intervention will target 2,500 out-of-school children and youth who need to build foundational learning skills before transitioning into secondary education or alternative skilling pathways. The programme condenses the seven years of primary education into three levels/years. P1, P2 and P3 are covered in the first year of AEP. The second year combines P4 and P5 curriculum. In the last year, P6 and P7 are covered. Emphasis will only on levels two and three, with the aim of helping out-of-school adolescents get the primary education certificate. While this is a partner-specific activity, the intervention is linked to other interventions and will have beneficiaries receiving services from two or more agencies: Out-of-school students who complete the UNICEF-supported AEP programme will transit to UNHCR-supported secondary schools or UNICEF/ILO-supported skilling programme. | F5: Pillar 1: EDUCATION AND LEARNING | G5: UNICEF | H5: 608717.49 | M5: =SUM(H5:L5) -> 608717.49 | N5: Madi Okollo, Terego and Isingiro | S5: 1.1 Foundational Skills
A6: 1.4 | B6: Development or update of educational skills training curricula and programs | C6: Partner specific intervention | D6: MACP | E6: Develop, localize, update and certify skills development content and asseessment instruments that are inclusive. Focus will be on online and offline programmes (especially on skills required for green and digital economies) to prepare young people for successful transition to work and life. The intervention will align with evidence generation activities under pillar two to ensure market-driven skills development content. This is an addition to being linked with pillar one interventions related to increased access to quality education in target districts, which includes skilling in secondary education and vocational training institutions, implemented by UNHCR and UNICEF. | F6: Pillar 1: EDUCATION AND LEARNING | G6: UNICEF | H6: 240283.22 | M6: =SUM(H6:L6) -> 240283.22 | N6: Madi Okollo, Terego, Isingiro and Kampala | S6: 1.2 Transferable Skills
A7: 1.5 | B7: Rolling out life skills training for in and out-of-school adolescents within formal and non-formal education and training settings | C7: Aligned intervention | D7: MACP | E7: As part of phase one, UNICEF supported MOES to develop the Life Skills Toolkit for the national rollout in primary and secondary schools, within the co-curricular space. The initative aimed to advance life skills education in Uganda with evidence-based practices and a programme designed for scalability, institutionalization and ownership by Ugandan educators and communities. In this phase, UNICEF will support the rollout of the life skills training in target locations to help 36,000 in-school adolescents in addition to 9,6000 out-of-school adolescents to build key transferable skills needed for work and life. While in-school adolescents will be targeted in 180 primary and 40 secondary schools, out-of-school adolescents will be targeted through Youth Skills Centers and/or Community Centers established by UNHCR and ILO as part of phase one. UNICEF will place greater emphasis on localization of training resources and ensuring disability inclusion in the scale-up process. Since schools are recognized as platforms for integrated service delivery, and for adolescents in schools, school clubs in turn will continue to be a specific entry point for adolescents’ development of life skills, and also for long-term institutionalization of life skills education delivery. The intervention aligns with the need to strengthen school-based clubs as an effective platform for delivering co-curricular activities, which have been found to contribute to increased school completion rates, enhanced learning, and positive social outcomes for students. Co-curricular activities have also been well-established as an essential element of Uganda’s own educational and cultural traditions. | F7: Pillar 1: EDUCATION AND LEARNING | G7: UNICEF, UNHCR, ILO | H7: 1156563.2 | M7: =SUM(H7:L7) -> 1156563.2 | N7: Madi Okollo, Terego, Isingiro and Kampala | S7: 1.2 Transferable Skills
A8: 1.6 | B8: Supporting the scale-up of the digital Skills training for in-school and out-of-school young people | C8: Aligned intervention | D8: MACP | E8: In phase one of the PROSPECTS programme, UNICEF and UNHCR supported MoES to develop the Digital Agenda Strategy 2023-2027. As part of the strategy document, a comprehensive skills framework for digital literacy was developed to guide and inform skills development initiatives in this critical area. This was followed by the development of the Digital Skills Toolkit to be rolled out in secondary schools in Uganda. The toolkit was piloted during phase one in 15 schools, reaching 2,000 adolescents. In phase two, UNICEF plans to institutionalize and expand the Digital Skills training within formal education settings in collaboration with MoES and within non-formal education settings in partnership with the MoGLSD. Utilizing digital infrastructure investments made by UNHCR and ILO in phase one and planned activities in phase two, UNICEF will implement the Digital Skills training targeting 5,000 adolescents in 40 secondary schools and 4 TVET centers in addition to 5,000 out-of-school adolescents in community centers (established by ILO and UNHCR as part of phase one) and Youth Skills Centers (established by UNICEF). The intervention is aligned with ILO and UNICEF contribution to the rollout of apprenticship and internship programmes. Under Phase 2, UNICEF, UNHCR and ILO will also support the operationationalization of the Digital Agenda Strategy by supporting the development and implementation of a costed roadmap, which includes digital learning and skilling for refugees. | F8: Pillar 1: EDUCATION AND LEARNING | G8: UNICEF, UNHCR, ILO | H8: 854340.33 | M8: =SUM(H8:L8) -> 854340.33 | N8: Madi Okollo, Terego, Isingiro and Kampala | S8: 1.2 Transferable Skills
A9: 1.7 | B9: Transferable and life skills package for young people expanded through co-curricular and non-formal education programme. | C9: Collective intervention | D9: MACP | E9: During Phase One, ILO and UNICEF partnered to co-design an integrated social innovation and entrepreneurship programme, i-UPSHIFT reaching 1,000 adolescents and youth from refugees and host communities. This intervention will scale up the human-centred design-based social innovation approaches among young people in refugees and host communities. The approaches empower young people to become social innovators and produce social impact in their communities. These approaches combine social innovation workshops, mentorship, incubation, and seed funding. This helps young people to build transferable skills, social innovation, and social entrepreneurship skills, positively impacting the broader community through the benefits of the products and services that young people design and create, and change perceptions about young people as positive agents of change, rather than “a problem” to be solved. UNICEF will target 5,000 adolescents in 40 secondary schools and 4 TVET centres, and 5,000 out-of-school adolescents in community centres (established by ILO and UNHCR as part of phase one) and Youth Skills Centers (established by UNICEF). UNICEF plans to enrich the content with localised, offline and online resources while ensuring disability inclusion. UNICEF and ILO will aim to empower young people to develop the skills needed to solve climate challenges and foster environmental action at the community level. UNICEF and ILO will also promote participation platforms and link young champions with government officials at different levels to voice out recommendations and participate in environmental action at the community level. While being a collective intervention, it is also aligned with participation-related interventions. | F9: Pillar 1: EDUCATION AND LEARNING | G9: ILO, UNICEF | H9: 1588539.1 | J9: 1820000 | M9: =SUM(H9:L9) -> 3408539 | N9: Madi Okollo, Terego, Isingiro and Kampala | O9: 2024-2027 | P9: Youth from refugee and host communities in the target areas;Private Sector Enterprises (PSEs) | Q9: Ministry of Education and Sports; including Directorate of Industrial Training (DIT); Office of the Prime Minister; Local governments of the target districts | R9: UNLEASHED; Stand For Change and Unity; Windle International Uganda; Rice WestNile; Wezesha Impact; Start Hub Africa; | S9: 1.2 Transferable Skills | T9: Access to basic services
A10: 1.8 | B10: Modeling job-specific training programmes for out-of-school adolescents | C10: Aligned intervention | D10: MACP | E10: With focus on strengthening transition from learning to earning and from school to decent work, UNICEF will model job-specific and internship programmes to help young people on the move develop job-specific skills, explore pathways of transition and enhance their (self)employability prospects. Job-specific training on employability skills for green and digital economies will be provided to 2,500 adolescents, out of which 1,000 adolescents will be linked to internship opportunities with local or global actors in the private sector or provided additional support to create/sustain their small businesses. Prioritization will be given to companies that work in the area of the green economy (e.g., renewable energy, waste management, sanitation & agri-tech) and digital economy (e.g., e-commerce, e-marketplaces, fintech, digital communications & microwork). This aligned intervention will also have beneficiaries receiving services from 2 or more agencies: beneficiaries from skilling interventions (1.2, 1.4, 1.5, 1.6) will be linked to interventions 1.7 (internships supported by UNICEF) and 1.8 (apprenticeships supported by ILO) | F10: Pillar 1: EDUCATION AND LEARNING | G10: UNICEF, ILO | H10: 1134670.8 | M10: =SUM(H10:L10) -> 1134670.8 | N10: Madi Okollo, Terego, Isingiro and Kampala | S10: 1.4 Internship, apprenticeship and entrepreneurship, employment opportunities
A11: 1.9 | B11: Inclusive formal intership and apprenticeship programme | C11: Aligned intervention | D11: MACP | E11: In phase one, a quality apprenticeship program has been piloted in the hotel sector with the participation of refugees and host community youth. This was implemented inline with the Uganda National Apprenticeship Framework with cabinet endorsement. In the second phase, the intervention will continue the apprenticeship program in the hotel sector and explore additional occupations within it. In addition, phase two will also explore apprenticeship programs in other key growth sectors of the economy, such as agriculture and oil and gas. Expanding into other vital sectors of the economy will broaden the scope of the programme's impact. Furthermore, PROSPECTS will support government to develop an Apprenticrship Regulation to guide delivery of apprenticeship programmes. There will be purposeful targeting to ensure gender and disability inclusion by actively targeting and encouraging the participation of women and individuals with disabilities, creating a more diverse and inclusive workforce in these sectors. Moreover, reasonable accommodation will be provided to ensure the effective participation of persons with disabilities (PWDs) and ensure they benefit fully from the training and apprenticeship opportunities. IFC will be consulted and leveraged to find additional private sector companies interested in accepting appropriate interns. ILO will engage USEEP WB project to complement costs of equating qualifications for participating refugee youth and the Climate Smart WB Project to provide a workplace for training apprentices in the agriculture sector | F11: Pillar 1: EDUCATION AND LEARNING | G11: ILO, World Bank | J11: 1880000 | M11: =SUM(H11:L11) -> 1880000 | N11: Isingiro, Terego, Madi Okollo, Jinja and Kampala | O11: 2024-2027 | P11: Youth from refugee and host communities in the program target areas; Training colleges; Employer associations. | Q11: Ministry of Gender, Labour and Social Development; Ministry of Education and Sports, esp. the Directorate of Industrial Training; Local governments of the target districts; Office of the Prime Minister. Ministry of Agriculture Animal Industry and Fisheries (MAAIF) National Animal Genetic Resources Centre & Data bank (NAGRC&DB) Namalere Agricultural Referral Mechanization Centre Bukalasa Agricultural Training College Arapai Agricultural Training College | R11: Uganda Hotel Owner's Association (UHOA); Uganda Hotel and Tourism Training Institute (UHTTI); Uganda Petroleum Institute Kigumba (UPIK). Horticultural Exporters Association of Uganda | S11: 1.4 Internship, apprenticeship and entrepreneurship, employment opportunities | T11: Access to basic services
A12: 1.1 | B12: Skills recognition systems strengthened | C12: Partner specific intervention | D12: MACP | E12: In phase one, ILO worked with the Ministry of Education and Sports (Directorate of Industry Training-DIT) to develop an Assessment and Training Package (ATP) for soap and detergent makers occupation. DIT further developed the capacity of individuals and institutions to train and assess soap making to ensure the soap and detergent produced is competitive in the market. DIT and Federation of Uganda Employers (FUE), mobilized and assessed informally acquired skills of 150 youth from refugee and host communities and linked them to employment opportunities with National Water and Sewerage Cooperation -NWSC ( a member of FUE). In phase two, ILO will scale up this intervention to reach more youth from refugees and host communities who have informally acquired skills in market relevant occupations. They will be assessed and certified in various market-driven skills and connected to work based learning opportunities to ease their transition into the labour market. | F12: Pillar 1: EDUCATION AND LEARNING | G12: ILO | J12: 280000 | M12: =SUM(H12:L12) -> 280000 | N12: Isingiro, Terego, Madi Okollo and Kampala | O12: 2024-2027 | P12: Youth from refugee and host communities in the program target areas. | Q12: Ministry of Education and Sports (especially Directorate of Industrial Training); Local governments of the target districts. | R12: Federation of Uganda Employers | S12: 1.3 Job-specific and vocational skills | T12: Access to basic services
A13: 1.11 | B13: System of foreign certificate recognition strengthened and digitalised | C13: Aligned intervention | D13: MACP | E13: In phase one, ILO supported the National Council for Higher Education (NCHE) to create awareness on equating qualifications process. NCHE further equated the qualifications of 200 refugees to the national standards. NCHE was further supported to develop a Digital Qualifications Verification System (DQVS) which would verify and equate the qualifications of foreigners to Uganda National SYstems. In phase two, NCHE will be supported to strengthen outreach and pilot the Digital Qualifications Verification System (DQVS) which is expected to ease access to this service and improve efficiency. ILO will engage in the process of developing the national qualification framework to support refugee qualification equation. | F13: Pillar 1: EDUCATION AND LEARNING | G13: ILO, UNHCR | J13: 240000 | M13: =SUM(H13:L13) -> 240000 | N13: Isingiro, Terego, Madi Okollo and Kampala | O13: 2024-2027 | P13: Refugees from target areas | Q13: National Council for Higher Education; Local governments of the target districts; Office of the Prime Minister. | R13: Windle International Uganda | S13: 1.3 Job-specific and vocational skills | T13: Access to basic services
A14: 1.12 | B14: Strengthening Access and Quality for Learning and Skills in Uganda’s Refugee Hosting Districts | C14: Aligned intervention | D14: MACP | E14: Improve delivery of early grade reading in RHDs where it is already being implemented under ULEARN and support introduction of EGR in RHDs not yet implementing the program, with a focus on strengthening teacher professional development for inclusive lesson delivery and improving the management and implementation of teacher assistant programs. Provide technical assistance to MoES to support development of early warning systems and early interventions to prevent dropout, especially for girls under USEEP. Improved serviced delivery of TVET training including improvement of TVET training and professional development of instructors under USJP. this is also linked to intervention 1.1. | F14: Pillar 1: EDUCATION AND LEARNING | G14: World Bank - with UNHCR, UNICEF, ILO | K14: 1350000 | M14: =SUM(H14:L14) -> 1350000 | N14: RHDs | O14: 2024-2027 | Q14: MoES | S14: 1.1 Foundational Skills | T14: Access to basic services
A15: 1.13 | B15: Strengtening impact of WB projects, policy dialogue and CRRF coordination | C15: Aligned intervention | D15: MACP | E15: Support the alignment of MACP activities with World Bank education activiites and national operations financed under the Window for Host Communities and Refugees and GPE (UgIFT, USEEP, ULEARN). Provide policy dialogue support for CRRF Structures and the ERP2 and engagement with the CRRF Steering Group and CRRF DPG. Strengthen coordination of PROSPECTS education activities and partners with broader World Bank forced displacement engagement . | F15: Pillar 1: EDUCATION AND LEARNING | G15: World Bank - with UNHCR, UNICEF | K15: 630000 | M15: =SUM(H15:L15) -> 630000 | N15: National and RHDs | O15: 2024-2027 | P15: All stakeholders | Q15: MOES, OPM | S15: 1.3 Job-specific and vocational skills | T15: Access to basic services
A16: 1.14 | B16: Promoting meaningful engagement of young people on the move | C16: Aligned intervention | D16: MACP | E16: The intervention aims to create and sustain platforms to meaningful engagement of young people through leading civic action at the community level. Utilizing U-Report as an active youth engagement platform in Uganda, the intervention will promote amplification of youth voices with focus on enviornmental action and decision making in policy and the PROSPECTS programme. The goal is to institutionalize participation platforms and establish links with government authorities at different administrative levels. Furthermore, in alignment with learning and skilling interventions, UNICEF will prioritize building the capacity of youth led organizations including grassroot structures to develop and implement transformative approaches and solutions for youth, gender equality and people with disabilities (ie., social impact fund). UNHCR, ILO, UNICEF will work on revamping the existing engagement platforms and expanding the scope of the youth engagement platforms. | F16: Pillar 1: EDUCATION AND LEARNING | G16: UNICEF, ILO, UNHCR | H16: 143855.67 | M16: =SUM(H16:L16) -> 143855.67
A17: 1.15 | B17: Access to market relevant vocational, and skills training for refugees, and host communicties with a focus on young people increased. | C17: Aligned intervention | D17: MACP | E17: This intervention will increase access to market relevant vocational, and skills training for youth from refugees, and host communities. This intervention will equip youth with vocational, green, and digital skills to help them transition into wage and self-employment for self-reliance. This intervention will be complemented with work-based learning approaches where youth will be placed in private sector enterprises to learn in the workplace as they acquire employability skills and appreciate the realities of the world of work. In phase two, ILO will also support the implementation of the TVET policy. In phase two, ILO will leverage on market relevant skills assessments conducted in phase one and explore opportunities to intergrate these into existing TVET curriculum with capacity development on delivery of the new curriuclum to TVET institutions, through the ITCILO. | F17: Pillar 1: EDUCATION AND LEARNING | G17: ILO, World Bank | J17: 600000 | M17: =SUM(H17:L17) -> 600000 | N17: Isingiro, Terego, Madi Okollo, Arua, Mbarara | O17: 2024-2027 | P17: Youth from refugee and host communities in the target areas; Vocational Training Institutions in the target areas; TVET trainers; Private Sector Enterprises (PSEs); | Q17: Ministry of Education and Sports, incl. Directorate of Industrial Training (DIT); Office of the Prime Minister; Local governments of the target districts; | R17: ANCHOR; RICE WESTNILE; Windle International Uganda; War Child Holland; BRAC; AVSI Foundation; ENABLE; | S17: 1.4 Internship, apprenticeship and entrepreneurship, employment opportunities | T17: Access to basic services
A18: Pillar 2: ECONOMIC INCLUSION | H18: =SUM(H19:H30) -> 0 | I18: =SUM(I19:I30) -> 70000 | J18: =SUM(J19:J30) -> 8040174.4 | K18: =SUM(K19:K30) -> 3630000 | L18: =SUM(L19:L30) -> 4000000 | M18: =SUM(H18:L18) -> 15740174
A19: 2.1 | B19: Improved labour market governance to facilitate transition from learning to earning | C19: Aligned intervention | D19: MACP | E19: In phase one, the program worked with AVSI Foundation to establish 2 job centers through which employment services were delivered to more than 1,000 youth from refugee and host communities. The MGLSD was also supported to digitize employment services by furnishing the Internal Employment Services Unit with IT equipment and developing the digital platform to connect job seekers to employment opportunities. Additionally, an ILO-commissioned feasibility assessment identified opportunities in microwork and freelancing for refugee and HC youth, and key partners were identified to facilitate linkages to opportunities in the gig economy. In phase two, the programme will scale up the employment services in the programme's target areas and integrate digital and green skills in the employability training and digitalize employment services to reach more youth. ILO will continue to support the government to digitize employment services and ratify Conventions 181 and 88 on Employment Services. Some of the employment services will include, training and apprenticeship opportunities and linkage to employment opportunities including opportunities in the labour market including gig economy. The activity will be closely aligned with the World Bank's Uganda Digital Acceleration Project (UDAP) to support the scaling up of digitalization in employment services, enabling broader access for youth. Additionally, young people trained under the Pillar One interventions will be connected to employment service facilities to enhance their opportunities and access to the labour market. | F19: Pillar 2: ECONOMIC INCLUSION | G19: ILO, WB, UNHCR, UNICEF | J19: 1580174.4 | M19: =SUM(H19:L19) -> 1580174.4 | N19: Isingiro, Mbarara Terego, Madi Okollo, Arua and Kampala | O19: 2024-2027 | P19: Youth from refugee and host communities in the program target areas Govt officials responsible for employment services Employer organizations | Q19: Ministry of Gender, Labour and Social Development, National Information Technology Authority Uganda (NITA-U); Local governments in the program target districts. | R19: AVSI Foundation | S19: 2.1 Improved and inclusive labor market governance | T19: Access to socio-economic opportunities
A20: 2.2 | B20: Enhanced business environment for public, and private investment to ignite inclusive economic opportunities for refugees and host communities. | C20: Collective intervention | D20: MACP | E20: PROSPECTS partners in Phase I focused on enhancing the Local Economic Development (LED) of the target districts to create increased economic opportunities for host communities and refugees. The ILO’s Approach to Inclusive Market Systems (AIMS) and financial inclusion market-based approaches were used to support livelihoods for refugee and host communities by strengthening sesame, cassava and soybean values. Despite achievements made in increasing production and creating market linkages for more than 3,000 (farmers) producers, stronger partnerships between local governments are needed to address challenges that persist like access to land by refugee farmers and leveraging on government efforts to create a favourable investment climate. In Phase II, this intervention will contribute to the implementation of the Local Economic Policy and Strategy by supporting the establishment, and operationalisation of Local Economic and Investments Committees in PROSPECTS targeted districts. Technical assistance will be provided to develop Lcocal Economic Development (LED) guidelines, and capacity building of Local Economic and Investment Committees and the LED Secretariat at the Ministry of Local Government through ILO-ITC courses on LED. Effective Local Economic and Investment Committees will create a platform that coordinates all relevant stakeholders, improve services for investors and the business environment. IFC’s planned program related to economic development and inclusion of the domestic private sector would find out activities to complement with other active partners. Joint activities to map potential private sector companies for IFC’s engagement will be launched in partnership with PROSPECTS Partners. IFC can also contribute to promoting and facilitating public-private sector partnerships (PPP) principles to focus on providing access to finance and improved livelihoods for refugees. For example, collaborations with private agricultural firms and UNHCR can enhance refugee farmers' access to land and technology, promoting agricultural productivity, access to irrigation, etc. | F20: Pillar 2: ECONOMIC INCLUSION | G20: ILO, IFC, WB | J20: 1800000 | M20: =SUM(H20:L20) -> 1800000 | N20: Isingiro, Terego, Madi-Okollo, Arua and Kampala | O20: 2024-2027 | P20: District local governments of the targeted districts; Government ministries and agencies relavant for trade and investments; Employers organisations and Business associations | Q20: Ministry of Trade, Industry & Cooperatives; Uganda Investment Authority; Ministry of Agriculture; District Local Governments of Isingiro; Terego, Madi-Okollo and Arua distrcts; Uganda National Bureau of Standards; Office of the Prime Minister; Ministry of Local Government; | R20: Federation of Uganda Employers; Federation of Small and Medium-Sized Enterprises (FSME); Uganda Women Entrepreneurs Association Limited (UWEAL); National Organisation of Trade Unions (NOTU); Private Sector Foundation Uganda. | S20: 2.2 Enhanced public and private investment | T20: Access to socio-economic opportunities
A21: 2.3 | B21: Expanded Public employment programmes scaled and capacity of government and partners strengthened to design, implement Employment Intensive public works that create decent work opportunities for refugees and host communities | C21: Collective intervention | D21: MACP | E21: In Phase I,the programme worked with Ministry of Gender,Labour and Social Development,target refugee hosting districts of Arua,Madi-Okollo,Terego and Isingiro,private sector,refugees and host communities to develop and implement the Public Employment Programme that focused on providing short-term job opportunities to over 6,000 refugees and host communities participating in road maintenance ,drainage channel rehabilitation , institutional greening and solid waste management projects .Additionally, the programme supported the rehabilitation and construction of schools,community multipurpose centers in refugee and host communities using Local Resource Based approaches to create job opportunities and employable skills creation, enterprises and productive assets to support social and economic integration. In Phase II ILO PROSPECTS will work with the Government of Uganda to scale up the implementation of the Public Employment Programmes (PEP) targeting refugees and host communities to participate in the construction and rehabilitation of priority infrastructure,community assets, and green sectors that will be mapped in collaboration with all relevant stakeholders based on the community asset needs and priorities within the refugee and host communities.This activity will be aligned with the upcoming World Bank and OPM DRDIP phase two programme, which has similar components of interventions. | F21: Pillar 2: ECONOMIC INCLUSION | G21: ILO, WB | J21: 2200000 | M21: =SUM(H21:L21) -> 2200000 | N21: Isingiro,Terego,Madi-Okollo | O21: 2024-2027 | P21: Men and women from refugee and host communities, government, Labour Based Training institutions and private contractors | Q21: Ministry of Gender,Labour and Social Development; Uganda National Roads Authority; Office of the Prime Minister; National Forestry Authority (NFA); National Environmental Management Authority; Local governments in the programme target districts(Terego,Madi Okollo and Isingiro), LIPW Inter-ministerial Working Group Ministry of Works, and Transport(MoWT); Mount Elgon Labour Based Training College (MELTEC); Office of the Prime Minister(OPM); | R21: Private Contractors; International and National non-profit organisations; United Nations Office for Project Services(UNOPS). Uganda National Association of Builders, Suppliers and Engineering Contractors, Uganda Institution of Professional Engineers(UIPE) | S21: 2.4 Increased public employment programmes | T21: Access to socio-economic opportunities
A22: 2.4 | B22: Increased access to financial and non-financial Business Development Services to foster inclusive economic opportunities for refugees and host communities. | C22: Collective intervention | D22: MACP | E22: This intervention will support existing and new entrepreneurs, and cooperatives to access financial and non-financial Business Development Services (BDS) to maximize the potential of businesses to create economic opportunities for refugees and host communities. It will optimize the institutional capacity built in Phase I for four Financial Service Providers (FSPs), Business Management, and Financial Education Trainers to increase access to BDS services, including adoption of digital tools by youth-led MSMEs, as guided by an ILO-commissioned feasibility assessment on digital job opportunities conducted in Phase 1. Additionally, a mapping of micro and small enterprises supported by PROSPECTS is being underken to identify their capacity needs to improve products towards attaining national quality standards. In Phase II, linkages will be built with the Uganda National Bureau of Standards (UBOS) to support entrepreneurs who want to improve the quality of their products and attain quality standards as well as Uganda Registration Services Bureau (URSB) for business registration. Enterprises will be supported either as individuals, groups, or in cooperatives, depending on the services required. IFC signed an agreement with one of the Financial Institutions (FI) in Uganda to access its capacity to offer more digital services and offer financial services to the refugees. Based on the recommendations, IFC will help the FI to extend services to the refugees and host communities. Also, IFC will create linkages with UNHCR and ILO to allow beneficiaries access to financial services from this FI. | F22: Pillar 2: ECONOMIC INCLUSION | G22: ILO, IFC, UNHCR | J22: 2300000 | M22: =SUM(H22:L22) -> 2300000 | N22: Kampala, Isingiro, Terego, Madi-Okollo and Arua | O22: 2024-2027 | P22: Existing and potential entreprenuers in target districts; Farmer groups; Financial institutions; Agricultural cooperatives | Q22: Uganda National Bureau of Standards; Uganda Registration Services Bureau; Ministry of Trade; Industry and Cooperatives, National Information Technology Authority(NITAU); District Local Governments of Isingiro, Terego, Madi-Okollo, and Arua distrcts. | R22: Federation of Uganda Employers; Federation of Small and Medium-Sized Enterprises (FSME); Uganda Women Entrepreneurs Association Limited (UWEAL); Business Development Service Providers Network; Equity Bank; Opportunity Bank; Rural Finance Initiative (RUFI); Innovation Hubs. | S22: 2.3 Access to business development services, finance and market linkages | T22: Access to socio-economic opportunities
A23: 2.5 (a) | B23: Increased access to financial and non-financial Business Development Services to foster inclusive economic opportunities for refugees and host communities. | C23: Partner specific intervention | D23: MACP | E23: In the first phase of engagement, IFC gathered market intel to help engage with private companies and increase awareness among various private sector businesses, including commercial banks, agribusiness companies, service industries, etc. During the second phase, the planned intervention will support existing and new entrepreneurs, commercial banks and non-banking financial institutions, and Business Development Services (BDS) to maximize the potential of businesses to create economic opportunities for host communities and refugees by adopting the conflict sensitivity and fragility lens. It will optimize the market intelligence developed during phase 1 and engage various stakeholders strategically. Additionally, the IFC will investigate possibilities of using the credit infrastructure across boundaries for refugees to access finance easily. During this second phase of the PROSPECTS Partnership Program, IFC will utilize $1.5 M from its first phase (unspent) budget for its engagement with private companies and Financial Institutions. In addition, IFC will take a strategic approach to engage and leverage opportunities with existing IFC investee companies to help them adopt the FDP lens. This will include applying tools developed by the FCS Africa team related to economic development and inclusion of the domestic private sector, as well as helping them to take a practical conflict-sensitive approach. | F23: Pillar 2: ECONOMIC INCLUSION | G23: IFC, ILO | M23: =SUM(H23:L23) -> 0 | N23: Nakivale, Isingiro, Terego, Madi-Okollo, Arua, etc. (any prospect districts) | O23: 2024-2027 | P23: Existing and potential private companies in target districts; Financial institutions; Agribusiness aggregator; Farmer groups; | Q23: Ministry of Finance; Industry and Cooperatives, District Local Governments of Nakivale, Isingiro, Terego, Madi-Okollo, and Arua districts. | R23: To be determined as per the need | S23: 2.3 Access to business development services, finance and market linkages | T23: Access to socio-economic opportunities
A24: 2.5 (b) | B24: IFC- Blended Finance Facility for Uganda | C24: Partner specific intervention | D24: MACP | E24: Leverage the Prospects blended finance instrument to help de-risk and increase the financial viability of high-impact investment projects in sectors benefiting FDPs and their host communities and increasing development impact and reach. Priority sectors: agribusiness, retail, fintech, manufacturing, financial, and business development services. | F24: Pillar 2: ECONOMIC INCLUSION | G24: IFC, ILO | L24: 4000000 | M24: 4000000 | N24: Nakivale, Isingiro, Terego, Madi-Okollo, Arua, etc. (any prospect districts) | O24: 2024-2027 | P24: Existing and potential private companies in target districts; Financial institutions; Agribusiness aggregator; Farmer groups; | R24: To be determined as per the need | S24: 2.3 Access to business development services, finance and market linkages | T24: Access to socio-economic opportunities
A25: 2.6 | B25: Improved capacity of partner institutions to promote and engage on rights at work for refugees, and Host communities | C25: Aligned intervention | D25: MACP | E25: In supporting the socio-economic inclusion of refugees and host communities, it is crucial to ensure that PROSPECTS implementing partners are aware of labour laws and protection of workers’ rights. This will include support to government in domesticating ILO convention 190. In Phase I, the ILO supported awareness raising sessions for implementing partners on labour laws through workshops and radio talk shows. This will continue in Phase II, targeting new implementation partners but also strengthen the capacity of district local governments to promote and enforce compliance to labour laws, labour inspection, and abitration of labour disputes that involves refugees and host communities. This activity will complement UNHCR and partners' advocacy efforts to promote accessible work permits and reduce associated costs for refugees. | F25: Pillar 2: ECONOMIC INCLUSION | G25: ILO, UNHCR | J25: 80000 | M25: =SUM(H25:L25) -> 80000 | N25: Kampala, Isingiro, Terego, Madi-Okollo and Arua | O25: 2024-2027 | P25: PROSPECTS Implementing partners, Media, and Officers handling the labour administration function in the targeted districts. | Q25: Ministry Gender Labour & Social; Development, Ministry of Justice (The Industrial Court;Office of the Prime Minister (OPM);District Local Governments of Isingiro; Terego, Madi-Okollo and Arua distrcts. | R25: NOTU, COFTU, FUE, Platform for Labour Action | S25: 2.1 Improved and inclusive labor market governance | T25: Access to rights
A26: 2.7 | B26: Awareness raised and capacity built among refugees and host communities on rights at work | C26: Aligned intervention | D26: MACP | E26: In phase I, PROSPECTS contributed to the Local Economic Development of PROSPECTS target districts by working to upgrade agriculture value chains through training farmers on better agronomic practices, creating economic opportunities for refugee and host communities through labour intensive works and work based learning including TVETS . In phase II, PROSPECTS will work with Government, employers and workers organisations to raise awareness on the rights at work for refugee and host community workers participating in Labour Intensive Public works, and apprenticeship programmes, and value chain interventions. ILO standards on occupational safety, and health provide essential tools to establish safe practices for providing maximum safety at work. Occupational Safety and Healh (OSH) as one of the fundamental rights at work will be mainstreamed in all PROSPECTS interventions, including agriculture, EIIP, apprenticeships and on-job skilling. | F26: Pillar 2: ECONOMIC INCLUSION | G26: ILO, UNHCR | J26: 80000 | M26: =SUM(H26:L26) -> 80000 | N26: Kampala, Isingiro, Terego, Madi-Okollo and Arua | O26: 2024-2027 | P26: PROSPECTS Implementing partners; Officers handling the labour administration function in the targeted districts; All beneficiaries targeted under EIIP; Agricultural value chains and skilling interventions. | Q26: Ministry Gender Labour, and Social Development. District Local Governments of Isingiro, Terego, Madi-Okollo and Arua distrcts. | R26: NOTU, COFTU, FUE, and other relevant implementing partners | S26: 2.1 Improved and inclusive labor market governance | T26: Access to rights
A27: 2.8 | B27: Enhancing value chain resilience, fostering market linkages, developing financial products to manage recurrent shocks, and strengthening financial skills of youth and women, in host and refugee communities | C27: Aligned intervention | D27: MACP | E27: To provide access to markets, enhance value chains, and provide financial inclusion in host and refugee communities by supporting implementation of selected PS actors and value chains under INVITE. INVITE will focus on establishing and strengthening links to financial services focusing on digitalization, development of products and methodologies that have built a significant loan portfolio client base in RHDs leading to an increase access of loans by refugees and host communities. INVITE will further complement the activities of the UCSATP in 2.10 below focusing on share cropping, provision of animal feed by youth, inputs seeds and agricultural extension services. When IFC’s program related to economic development and inclusion of the domestic private sector comes live, IFC will complement activities with other active partners. IFC's participation would help mobilize private investments for sustainable development projects, especially in manufacturing, agriculture, climate-resilient technologies, and market linkages. | F27: Pillar 2: ECONOMIC INCLUSION | G27: World Bank, UNCHR, IFC and ILO | K27: 1000000 | M27: =SUM(H27:L27) -> 1000000 | Q27: BoU, PSFU, OPM | S27: 2.3 Access to business development services, finance and market linkages | T27: Access to socio-economic opportunities
A28: 2.9 | B28: Building Resilience of Refugee Women Entrepreneurs in Uganda | C28: Aligned intervention | D28: MACP | E28: Reviewing the barriers/constraints refugee women entrepreneurs face, and the interplay between refugee women entrepreneurship and mental health [UNHCR]. Co-designing and testing a scalable intervention to address mental health issues and improve the well-being of refugee women entrepreneurs. Under this component, the World Bank, in collaboration with the Ministry of Gender, Labour, and Social Development (MGLSD), Office of the Prime Minister, District Local Governments (DLGs), and other partners such as UNHCR and The Carter Center (TCC), will use information generated under component 1 to co-design an intervention that target the needs of women refugee entrepreneurs under GROW and develop guidance on integrating mental health in livelihood and women entrepreneurship programming. WOrking together with WB and UNHCR, ILO will introduce its tools on promoting women’s entrepreneurship development to address barriers and unlock opportunities for women entrepreneurs by applying an evidence-based approach while drawing upon its unique mandate on creating a more enabling environment for women entrepreneurs by addressing some of the systemic constraints that women entrepreneurs encounter through collective action and offer gender-responsive services and to advocate for and amplify the voices of women entrepreneurs and facilitate the delivery of tailored training and transformative solutions responding to the specific needs and demands of women entrepreneurs using GET-Ahead, WEDGE, WED and SIYB tools. | F28: Pillar 2: ECONOMIC INCLUSION | G28: World Bank with UNHCR and ILO | I28: 70000 | K28: 1000000 | M28: =SUM(H28:L28) -> 1070000 | Q28: MoGLSD, PSFU, OPM | S28: 1.4 Internship, apprenticeship and entrepreneurship, employment opportunities | T28: Access to socio-economic opportunities
A29: 2.1 | B29: Building the resilience of Refugees and Host communities to Climate Change and declining Food Ration in Uganda through economic empowerment and capacity building | C29: Aligned intervention | D29: MACP | E29: Inform and support implementation of Uganda Climate Smart Transformation Project by enhancing the resilience of Refugees and host communities to climate change, declining food rations and price spikes through a combination of enhanced access to land, output markets, and agricultural extension services. The key interventions include: (i) Enhancing production of selected food crops through shared cropping and (ii) Provision of digital agricultural extension and market services; adoption of climate smart crop and management practices; support private sector role and young men and women to access agricultural wage employment by building to provide agricultural extension services including sustainable crop, livestock, and fisheries extension services to refugees and host community farmers. | F29: Pillar 2: ECONOMIC INCLUSION | G29: World Bank with UNCHR and ILO | K29: 1000000 | M29: =SUM(H29:L29) -> 1000000 | Q29: MAAIF, OPM | S29: 2.3 Access to business development services, finance and market linkages | T29: Access to socio-economic opportunities
A30: 2.11 | B30: Strengtening impact of WB projects, policy dialogue and CRRF coordination | C30: Collective intervention | D30: MACP | E30: Support the alignment of MACP activities with World Bank education activiites and national operations financed under the Window for Host Communities and Refugees (GROW, INVITE, CSATP). Provide policy dialogue support for CRRF Structures and the JLIRP and engagement with the CRRF Steering Group and CRRF DPG. Strengthen coordination of PROSPECTS employment generating activities and parntners with broader World Bank forced displacement engagement. | F30: Pillar 2: ECONOMIC INCLUSION | G30: World Bank with ILO, UNHCR, IFC | K30: 630000 | M30: =SUM(H30:L30) -> 630000 | N30: National and RHDs | O30: 2024-2027 | P30: All stakeholders | Q30: PSFU, BoU, MAAIF, OPM, MoGLSD | S30: 2.3 Access to business development services, finance and market linkages | T30: Access to socio-economic opportunities
A31: Pillar 3: PROTECTION AND SOCIAL PROTECTION | H31: =SUM(H32:H44) -> 4679401.4 | I31: =SUM(I32:I44) -> 4337000 | J31: =SUM(J32:J44) -> 300000 | K31: =SUM(K32:K44) -> 100000 | L31: =SUM(L32:L44) -> 0 | M31: =SUM(H31:L31) -> 9416401.4
A32: 3.1 | B32: Inclusion of CP, GBV and CBP refugee and host community priorities in National and Local Development Policies, Programmes and Planning | C32: Collective intervention | D32: MACP | E32: The collective intervention by UNHCR and UNICEF will: UNHCR will (i) facilitate MGLSD-led mapping and gap analysis of the legal, regulatory and policy environment relevant to CP/GBV/CBP. This will build on existing mapping and gap analysis, policy frameworks and consider UNICEF and UNHCR indicators; (ii) Support Government of Uganda on the inclusion of refugees in the national/local development plans; (iii) Support joint policy dissemination, dialogues and implementation. Uptake of key CP/GBV/CBP inclusion priorities in MGLSD frameworks, NDPIV, Governance and Security Programme, Administration of Justice Programme, the Human Capital Development Programme, District Development Plans and operational budgets; (iv) Support MGLSD, MPS and MoLG to strengthen service delivery standards and SSW functions, with implementation piloted in select refugee hosting locations by 2027; (v) Support District Local Governments to operationalize the National Child Policy (2020) and other key policies (Parenting Guidelines, National GBV Policy and Action plans) for more effective prevention and protection of children and adolescents against all forms of violence, exploitation, abuse, and neglect across all settings. UNICEF: Support the District Local Governments to operationalize the national Child Policy (2020) to strengthen the capacity of local government and protection structures for effective prevention and protection of children and adolescent against all forms of violence, exploitation, abuse, and neglect in all settings. | F32: Pillar 3: PROTECTION AND SOCIAL PROTECTION | G32: UNICEF, UNHCR | H32: 53396.27 | I32: 170000 | M32: =SUM(H32:L32) -> 223396.27 | N32: Settlements and urban (Kampala) | O32: 2024-2027 | P32: Refugees and Host Communities | Q32: MGLSD, MoLG, Justice Sector, MFPED, KCCA (Kampala) | R32: NL Gov, EU, USAID, etc | S32: 3.1 Sustained, inclusive and protective policy framework | T32: Access to rights
A33: 3.2 | B33: Inclusive Social Safeguards and Social Risk Management Protocols are Developed and Implemented | C33: Aligned intervention | D33: MACP | E33: The proposed intervention aims to develop technical guidance to align social safeguards and social risk management protocols (inclusive of PSEA/SH/VAC) customized for key sectors and functions, for roll out and testing in select refugee hosting locations linked with national programs financed by the WB, including alignment with grievance redress mechanisms, FRRM and other existing local accountability mechanisms. | F33: Pillar 3: PROTECTION AND SOCIAL PROTECTION | G33: World Bank,UNHCR, UNICEF | I33: 100000 | M33: =SUM(H33:L33) -> 100000 | N33: Settlements and urban (Kampala) | O33: 2024-2027 | P33: Refugees and Host Communities | Q33: MGLSD, MoLG, OPM/DRDIP | S33: 3.3 Safety from violence and exploitation, including GBV | T33: Access to rights
A34: 3.3 | B34: Strengthening of policies and implementation for third country opportunities | C34: Aligned intervention | D34: MACP | E34: The proposed intervention will enable UNHCR to: (i) Lead policy coordination on third country opportunities with all stakeholders through the Uganda Complementary Pathway contact group; (ii) Provide technical support and collaborate with partner(s) including Prospects partners to support refugee access to complementary pathways in urban and settlement areas; Capacity building of RLOs and DLGs to strengthen community based appraoches towards autonomous access to pathways. (iii) Maintain its protection role for Family Reunification, with regards to dissemination of criteria, supporting applications through assessments (Best Interests) and liaising with UNHCR country offices and legal representation for complex cases | F34: Pillar 3: PROTECTION AND SOCIAL PROTECTION | G34: UNHCR, ILO, UNICEF | I34: 650000 | M34: =SUM(H34:L34) -> 650000 | N34: Settlements and urban (Kampala) | O34: 2024-2027 | P34: Refugees and Host Communities | Q34: OPM, Ministry of internal affairs, Districts | R34: Finn Church Aid | S34: 3.1 Sustained, inclusive and protective policy framework
A35: 3.4 | B35: Generating Evidence to Inform Learning and Policy Advocacy | C35: Collective intervention | D35: MACP | E35: The proposed intervention will generate evidence and quality data analysis to inform protection policy advocacy, to demonstrate lessons learned from the Prospects partnership that can help the scaling of successful mechanisms, tools and processes and to produce communication and policy advocacy products. The intervention will enable engagement and participation of Refugees and Host Communities in Monitoring,Evaluation and Learning (MEL) sessions, Refugee Engagement forums both at National and Sub-national levels to enrich lessons learnt and inform policy prioritization | F35: Pillar 3: PROTECTION AND SOCIAL PROTECTION | G35: UNHCR,ILO,WB,UNICEF,IFC | I35: 100000 | K35: 100000 | M35: =SUM(H35:L35) -> 200000 | S35: 3.1 Sustained, inclusive and protective policy framework
