Workbook
Name _Hlk88571830: 'Tab 5 Multi-annual targets '!#REF!
Name _Hlk95981819: 'Tab 5 Multi-annual targets '!#REF!
Name _Hlk96267063: 'Tab 5 Multi-annual targets '!#REF!
Name _Hlk96267083: 'Tab 5 Multi-annual targets '!#REF!
Name _Int_joejLXOw: 'Tab 5 Multi-annual targets '!#REF!
Name _Toc1343095740: 'Tab 5 Multi-annual targets '!#REF!
Name _Toc369500605: 'Tab 5 Multi-annual targets '!#REF!
Name _Toc512764507: 'Tab 5 Multi-annual targets '!#REF!
Name _Toc632574498: 'Tab 5 Multi-annual targets '!#REF!
Name _Toc872994150: 'Tab 5 Multi-annual targets '!#REF!
Name _Toc919062024: 'Tab 5 Multi-annual targets '!#REF!

Sheet Symbols
E4: Meets target (2024) | K4: Meets target (2025)
E7: Approaches target (2024) | K7: Approaches target (2025)
E10: Initiated (2024) | K10: Initiated (2025)
E13: Not initiated (2024) | K13: Not initiated (2025)
Q16: 0.25 | R16: 0.5 | S16: 0.75 | T16: 1
Q17: 0.75 | R17: 0.5 | S17: 0.25 | T17: 0
Q18: 2024
Q24: Not initated | R24: Initiated | S24: Approaches | T24: Meets target
Q27: 2025
Q33: Not initated | R33: Initiated | S33: Approaches | T33: Meets target

Sheet Tab 1 Budget summary
B3: Table 1: Total budget MACP USD | E3: Table 5: Total budget OF USD
B4: Organization | C4: Total (2024-2027) | E4: Organization | F4: Total (2024-2027)
B5: UNHCR | C5: 8308271 | E5: UNHCR | F5: =SUM(F15+F25) -> 0
B6: UNICEF | C6: =SUM(C16,C17,C27,C36) -> 15312999 | E6: UNICEF | F6: =SUM(F16+F26+F35) -> 0
B7: ILO | C7: =SUM(C18+C28+C37) -> 9837397.7 | E7: ILO | F7: =SUM(F17+F27+F36) -> 0
B8: World Bank | C8: =SUM(C19+C29) -> 0 | E8: World Bank | F8: =SUM(F18+F28) -> 0
B9: IFC | C9: 0 | E9: IFC | F9: 0
B10: Total | C10: =SUM(C5:C9) -> 33458668 | E10: Total | F10: =SUM(F5:F9) -> 0
B13: Table 2: Total activity costs MACP USD | E13: Table 6: Total activity costs OF USD
B14: Organization | C14: Total (2024-2027) | E14: Organization | F14: Total (2024-2027)
B15: UNHCR | C15: 7801193.4 | E15: UNHCR | F15: ='Tab 2 Programme Portfolio'!E74 -> 0
B16: UNICEF | C16: 12353721 | E16: UNICEF | F16: ='Tab 2 Programme Portfolio'!E75 -> 0
B17: UNICEF (cross-sectoral cost)* | C17: 1684598.3 | E17: ILO | F17: ='Tab 2 Programme Portfolio'!E77 -> 0
B18: ILO | C18: 8619467 | E18: World Bank | F18: ='Tab 2 Programme Portfolio'!E78 -> 0
B19: World Bank | C19: ='Tab 2 Programme Portfolio'!B78 -> 0 | E19: IFC | F19: ='Tab 2 Programme Portfolio'!E79 -> 0
B20: IFC | C20: ='Tab 2 Programme Portfolio'!B79 -> 0 | E20: Total | F20: =SUM(F15:F19) -> 0
B21: Total | C21: 0
E23: Table 7: Indirect recovery costs OF USD - optional
B24: Table 3: Indirect recovery costs MACP USD - optional | E24: Organization | F24: Total (2024-2027)
B25: Organization | C25: Total (2024-2027) | E25: UNHCR | F25: 0
B26: UNHCR | C26: 507077.57 | E26: UNICEF | F26: 0
B27: UNICEF | C27: 1123066 | E27: ILO | F27: 0
B28: ILO | C28: =0.13*C18 -> 1120530.7 | E28: World Bank | F28: 0
B29: World Bank | C29: 0 | E29: IFC | F29: 0
B30: IFC | C30: 0 | E30: Total | F30: =SUM(F25:F29) -> 0
B31: Total | C31: 0
E33: Table 8: UN Levy costs OF USD
B34: Table 4: UN Levy costs MACP USD | E34: Organization | F34: Total (2024-2027)
B35: Organization | C35: Total (2024-2027) | E35: UNICEF | F35: 0
B36: UNICEF | C36: 151614 | E36: ILO | F36: 0
B37: ILO | C37: 97399.98 | E37: Total | F37: =SUM(F35:F36) -> 0
B38: Total | C38: 0
B41: * Cross sectoral costs are directly related to programme/projects including personnel such as admin and finance, supply/logistics staff, office equipment, furniture, rental of premises, office maintenance, security, etc. that can be associated with the staff supporting the successful implementation of the projects. They include costs still associated with the direct delivery, e.g. programme staff entitlements/benefits, costs associated to these staff related to office equipment, premises, security, etc…). They also include costs of centrally managed services benefitting all staff and programmes but managed centrally (e.g., ICT services/software licenses and UN field security). They are linked to the staff and the result(s) they support and are funded from the same funding source as the staff salary through cost attribution, using payroll as the mechanism. These costs vary from country to country, e.g. due to costs related to security which obviously vary by context. In Sudan, the standard cost is 12%.

Sheet Tab 2 Programme Portfolio
A1: Reference | B1: Title of Intervention | C1: Type of intervention | D1: MACP or OF | E1: Short description of Intervention | F1: Pillar | G1: Participating Partners (PROSPECTS only) | H1: UNICEF Budget (if applicable) | I1: UNHCR Budget (if applicable) | J1: ILO Budget (if applicable) | K1: WB Budget (if applicable) | L1: IFC Budget (if applicable) | M1: Total budget (= multi-annual) | N1: Geographic area | O1: Implementation period | P1: Target group | Q1: Government Counterparts | R1: Other implementing organizations | S1: Contribution to ToC Outcomes | T1: Other relevant information
A2: Pillar 1: EDUCATION AND LEARNING | H2: =SUM(H3:H14) -> 5390972.8 | I2: =SUM(I3:I14) -> 1760900 | J2: =SUM(J3:J14) -> 1924467 | K2: =SUM(K3:K14) -> 0 | L2: =SUM(L3:L14) -> 0 | M2: =SUM(H2:L2) -> 9076339.8
A3: 1.1 | B3: Provide technical support to FDPs/HCs to ensure children access and complete primary formal or Non-Formal Education (NFE) including early learning | C3: Collective intervention | D3: MACP | E3: The proposed education intervention will focus on expanding access and completion to learning opportunities in safe and protective environments while reinforcing resilience efforts and recovery trends for children and adolescents (5-18 years) most affected (FDPs) by conflict. By restoring and revitalizing schools inclusive of FDPs, the aim is to protect children, both physically and emotionally, in unstable environments now and in the future through the education national system. To achieve this, several interventions will be implemented and reinforced by other Prospects Pillar activities. The main intervention areas include: i) Establishment of safe learning spaces which include the provision of Teaching Learning Materials to support literacy and numeracy and psychosocial well-being of children. The SLS can be a tent, repaired classroom or school ii) undertake education infrastructure activities that will build, rehabilitate, or refurbish parts of permanent structures, such as gender and disability responsive WASH facilities, classrooms, and offices in line with Ministry of Education standards iii)provision of harmonized incentive payment to frontline workers (teachers, facilitator etc.) aligned to the MoE guidelines iv) Establish referral pathways to connect learners with appropriate child protection case management services, in collaboration with protection interventions and social workers. In a scenario based approach, as construction or rehabilitation work are difficult in the currect context and schools are closed in various states as hosting IDPs, UNICEF will give priority to the establishment of safe learning spaces following an integrated approach (Makanna+) of multi-service provision (Education, child protection, WASH). (1a) | F3: Pillar 1: EDUCATION AND LEARNING | G3: UNICEF and UNHCR | H3: 1070000 | I3: =915700-68000 -> 847700 | M3: =SUM(H3:L3) -> 1917700 | N3: White Nile state and Kassala state | O3: 2024-2027 | P3: Refugees, and HC | Q3: Ministry of education at the Federal and States level | R3: TBD | S3: Access to basic services | T3: NIL
A4: 1.2 | B4: Provide technical support towards inclusion of refugees into education policies | C4: Collective intervention | E4: The intervention will prioritize two concrete policies that will gear towards refugees’ and forcibly displaced persons participation and inclusion in the education system. First, the inclusion of Forcibly Displaced Persons (FDPs) in the national education system. The Sudanese government committed to the inclusion of refugee education into the national system as outlined in the Djibouti Declaration of 2017 and the Sustainable Development Goal 4 (SDG4) and the 2019 Global Refugee Forum (GRF) where the government of Sudan pledged to gradual policy inclusion. Some of the key activities will include cascading the federal commitments to the state level, support the roll-out of recent IGAD evaluation findings/recommendation education, training of MoE and partners on inclusion to integration of refugee education sector development plans and functions at all levels and departments within the MoE structure and advocate for refugee inclusion in the all-new education sectoral plans to be developed by donors and line ministries. UNHCR be the technical lead in the development of the policy. Second, deliberate efforts will be undertaken towards revitalization of the skills development and Technical Vocational Education and Training system through, provision of technical support to harmonize existing skills development and Technical Vocational Education and Training Policies including Operational Plan with Result Framework Matrix that is inclusive of refugee education in terms of access and eligibility for forcibly displaced persons. Key areas of intervention will be to ii) Provide support to stakeholder’s including Ministry of Youth and Sports and the MoE to roll – out and popularize key education policies (Refugee Education, skills development & TVET policies in collaboration with other stakeholders, relevant line ministries and other development partners in the targeted areas. UNICEF will mainly focus on skills development for young people including non-formal education pathways for skills in the future while ILO will serve as the technical lead in the drafting of the skills development and TVET policy. The partners are already working with existing, technical, and functional departments at the states Ministry of Education in both Kassala and White Nile. The partner will continue to leverage working with state teams including enhancing their capacities to deliver for children and improve learning outcomes. Every step of the engagement process will be documented, and lesson learnt shared with the federal state once the situation generally improved. (1c) | F4: Pillar 1: EDUCATION AND LEARNING | G4: UNICEF, UNHCR and ILO | H4: 100000 | I4: 80000 | J4: 349333 | M4: =SUM(H4:L4) -> 529333 | N4: White Nile state and Kassala state | O4: 2024-2027 | P4: Refugees and HC | Q4: Ministry of education at the Federal and States level | R4: TBD | S4: Access to basic services | T4: NIL
A5: 1.3 | B5: Support the capacity building of relevant government institutions in education | C5: Collective intervention | D5: MACP | E5: This intervention will focus on two cardinal activities to strengthen the capacity of the state's Ministry of Education and Youth and Sports. These will include capacity development and technical support to the state's Ministry of Education (Education Management Information System-EMIS) and state-level Refugee Education Committee in conducting needs assessment, data collection, analysis, and processing. An organizational capacity assessment will be conducted to identify critical and important areas of capacity building to ensure the response fulfils the needs of the targeted personnel across different departments. UNICEF and UNHCR will use the opportunity to integrate practices and topics that promote the inclusion of FDPs into the national system in the planning and programming of the relevant departments (e.g., planning and teacher management departments). Where a capacity assessment is conducted UNICEF and UNHCR will collaborate with other partners to fill the gaps or undertake areas not covered. As indicated under 1.2, the partners will rely on working with existing experience and technical departments at the state level to implement the activities. | F5: Pillar 1: EDUCATION AND LEARNING | G5: UNICEF, UNHCR and ILO | H5: 154999.91 | I5: 25000 | J5: 75134 | M5: =SUM(H5:L5) -> 255133.91 | N5: White Nile state and Kassala state | O5: 2024-2027 | P5: Refugees and HC | Q5: Ministry of education at the Federal and States level | R5: TBD | S5: Access to basic services | T5: NIL
A6: 1.4 | B6: Support capacity development of adolescents and young people including meaningful participation and engagement in digital literacy and E-learning opportunities. | C6: Collective intervention | D6: MACP | E6: The proposed intervention aims brand skills development and TVET and to enhance the meaningful participation and engagement of young people, especially girls, in addressing the specific barriers to skilling and employment. The component will work to address key concerns, develop a collaborative set of priorities, and co-create interventions, rebranding to shift the perceptions of career and job ready skills training. Key actions to be undertaken will include i) youth led engagement and participation in civic discourses, which will address the negative perceptions regarding the relevancy and quality of education and skills/TVET through a Social and Behavior Change (SBC) lens ii) Support to the establishment of adolescent led child clubs to ensure children and adolescent cultivate relevant skills in life skills and citizenship education. The club is also a space for children and adolescent to meet and participate in recreational activities iii) Support young people in higher grade access to E-learning opportunities to improve learning outcomes iii) provision of digital literacy opportunities to adolescent and young people to enhance learning to earning pathways/ school to work transition (1b). | F6: Pillar 1: EDUCATION AND LEARNING | G6: UNICEF and ILO | H6: 1200000 | J6: 250000 | M6: =SUM(H6:L6) -> 1450000 | N6: White Nile state and Kassala state | O6: 2024-2027 | P6: Refugees and HC young people | Q6: Ministry of Education at the Federal and States level, Minstry of Youth and Sports | R6: TBD | S6: Access to socio-economic opportunities | T6: NIL
C7: Collective intervention | D7: MACP | E7: This intervention will build on and leverage the education, learning and experiences in (Prospects I) and improve on the collaboration between UNICEF and ILO. Young people will be provided comprehensive skills in UPSHIFT ( life skills, social innovation and social entrepreneurship) and will be link to ILO start your business training. At the end of the trainings the beneficiaries will be provided with tool kits and small seed resources to innovate and start their own business in an effort to improve their financial independence. | F7: Pillar 1: EDUCATION AND LEARNING | G7: UNICEF and ILO | H7: 500000 | M7: =SUM(H7:L7) -> 500000
A8: 1.5 | B8: Capacity development of teachers/facilitators/technical trainers in pedagogy/teaching methodologies and digital education | C8: Collective intervention | D8: MACP | E8: The primary aim of the intervention is to ensure teachers, facilitators and technical/TVET trainers acquire the necessary, practical, and technical skills to deliver teaching and training in an effective and coordinated manner. Research has shown that most teachers/trainers in schools and skills development institutions lack classroom management skills, pedagogical skills, and competencies to deliver courses in an effective manner. The World has advanced and still many teachers/trainers in Sudan lack basic Digital literacy skills. Introducing digital literacy for teachers, will advance learning, mitigate learning loss, and create opportunities for social and emotional engagement between teachers and students. Leadership and governance skills will be introduced to all Principals and Directors of institutions to ensure quality delivery and proper management of the institutions. The below interventions will be implemented i) Conduct training for teachers/facilitators and trainers in digital literacy skills and pedagogy/teaching methodologies ii) Develop standardized pedagogy and teaching methodology manuals for primary schools and TVET institutions iii) Conduct capacity development for directors and administrators in school leadership and governance) iv) Teachers/facilitators will also be trained in Mental Health and Psycho-social Support (MHPSS) to act as facilitators of structured MHPSS activities in schools. (1.1a) | F8: Pillar 1: EDUCATION AND LEARNING | G8: UNICEF and ILO | H8: 250000 | J8: 300000 | M8: =SUM(H8:L8) -> 550000 | N8: White Nile state and Kassala state | O8: 2024-2027 | P8: Teaches, trainers & facilitators | Q8: Ministry of education at the Federal and States level | R8: TBD | S8: Access to basic services | T8: NIL
A9: 1.6 | B9: Capacity building for government States and Federal TVET Bureaus on the updating and revision of skills development curricula | C9: Collective intervention | D9: MACP | E9: The main aim of the intervention is to provide technical support to States Ministries of Educaton and skills development institutions including PTAs, administrators, facilitators and trainers to review and revise 5 specific core courses curricula to improve learning outcome and effective teaching delivery. The intervention is specifically important to ensure teaching curricula are gender sensitive, up to date, and meets the growing needs and aspiration of learners within the 21 century. To achieve this, the following actions will be taken: i) Engagement with States Ministries of Education leadership in the identification of core subject areas that need to be revised ii) Provide technical support to the recruitment of technical experts to support the revision and publication process iii) Provide technical support in the organization of a capacity development workshop to identify gaps with the curriculum and solicit substantive feedback from Ministries, trainers, facilitators, PTAs, development partners and students etc. iv) Provide technical support and ensure the availability of drafts core subjects curricula v) Support the SMoEs to organize validation workshops and finally agree on the content of the curricula vi) Produce final drafts curricula and share with key stakeholders and also ensuring the availability of online versions. Key deliverables will include the availability of gender-sensitive curricula in 4 core subject areas; at least 3000 teachers trained in curriculum development; 1000 PTA trained in curriculum monitoring and implementation and support the establishment of a TVET Teachers and Trainers Network (1.1b) | F9: Pillar 1: EDUCATION AND LEARNING | G9: UNICEF, UNHCR and ILO | H9: 75000 | I9: 10300 | J9: 500000 | M9: =SUM(H9:L9) -> 585300 | N9: White Nile state and Kassala state | O9: 2024-2027 | P9: Ministry of Education, Ministry of Youth & Sports, Supreme Commission on Skills development staff | Q9: Ministry of Education, Ministry of Youth & Sports, Supreme Commission on Skills development | R9: TBD | S9: Access to socio-economic opportunities | T9: NIL
A10: 1.7 | B10: Support the enrollment of children in pre-primary and primary from FDPs/HCs communities in formal and non-formal education setting | C10: Partner specific intervention | D10: MACP | E10: The aim of the intervention is to support new enrollment of children in formal and non-formal education settings. To achieve this, it is imperative to support safe Back to Learning campaigns in local communities to increase the chances of children's enrollment in formal and non-formal education. The overall objective of the Back to Learning campaign is to enable out – of – school children to access education and continue learning in primary schools, Alternative Learning Programme (ALP) centers and E-learning centers. Prior to the conflict Sudan recorded low education indices which has been compounded by the conflict. When compared to FDPs, displaced children three affected. The on-going conflict has resulted in all children affected equally and majority consisted of out since April 2023. Girls in particular face additional socio-cultural norms which severely restrict their mobility; combined with safety concerns and supply-related challenges (such as a lack of trained female teachers or gender-segregated latrines). To improve the enrolment rate, the following interventions will be implemented: i) Sensitize local communities on the importance of boys’ and girls’ education and its benefits to the individual, family and community. ii) Identify the Out-of-school children (OOSC) and encourage their parents to send them to school or ALP and support them to continue their education including Identification of protection risks between schools and home that children particularly girls are likely to face and develop mitigation measure in collaboration with the community. iii) Advocate with government officials and mobilize partners and community leaders to support education. iv) Revitalize the functioning of the Parents Teachers Association to support the go-back-to-school campaigns through training and IEC materials jointly developed with the MoE. v) Advocate for re-opening of schools for all children boys and girls including advocating with communities and local authorizes to find alternative learning spaces as some schools are occupied by IDPs and armed groups. vi) Conduct GBV risk audit in schools and develop joint mitigation measures with the PTA and children including engaging radio/TV programme available to campaign towards go back to school/om importance of education and provide an interactive platform for the MoE to sensitize the community on the MoE plans to revamp education in the country. vii) In coordination with child protection interventions, ensure the clubs raise awareness on protection risks including GBV, FGM, child marriage, violence against children | F10: Pillar 1: EDUCATION AND LEARNING | G10: UNICEF and UNHCR | H10: 241438 | M10: =SUM(H10:L10) -> 241438 | N10: White Nile state and Kassala state | O10: 2024-2027 | P10: Refugees and HC Children and adolescents | Q10: Ministry of education at the Federal and States level | R10: TBD | S10: Access to basic services | T10: NIL
A11: 1.8 | B11: Support initiatives to improve retention of children in school | C11: Partner specific intervention | D11: MACP | E11: Retention of children in formal and non-formal education setting has proven to be more difficult especially in displaced communities and host communities directly or indirectly affected by the conflict. Retention of children in school can be caused by factors in school and outside school mainly at the household level. FDPs household families are likely to face myriad social-economic challenges that may lead to drop-out or high OOS children when families are required to meet the opportunity cost of schooling, meet the hidden cost of schooling and at the same meet the direct cost of education. At the school level lack of a concussive, protective, and friendly environment contributes to school dropout. The proposed activities under this result 1.9 are mutually reinforced by interventions proposed under 1.1 above. To achieve this, it is imperative to implement the below sub activities: i) Provision of learning materials (teacher kits, blackboard, student kit, provision dignity kits for girls with the reproductive age improve enrollment and reduce the financial barriers of students especially girls ii) Support the functionality of Alternative Learning Programme (ALP) including of seeding funding to improve learning outcomes in ALP centers iii)Support extra curriculum activities at school and locality level the brings together HC and FDPs (e.g., sports, drama, arts competition etc.) for children including establishment of adolescent led child clubs to improve the skills of children and adolescents in life skills/21 century skills and citizenship education iv)Provision of school grant for the effective management and functionality of the national schools including camp/settlement/community schools registered by MoE. v)Advocate for elimination of school’s levies that may be a barrier to retention or access to education. vi) provision of school grants to all prospects school to improve students' performance vi) provision of facilitators/teacher’s compensation. (1.2b) | F11: Pillar 1: EDUCATION AND LEARNING | G11: UNICEF and UNHCR | H11: 800000 | I11: 797900 | M11: =SUM(H11:L11) -> 1597900 | N11: White Nile state and Kassala state | O11: 2024-2027 | P11: Refugees and HC Children and adolescents | Q11: Ministry of education at the Federal and States level | R11: TBD | S11: Access to basic services | T11: NIL
A12: 1.9 | B12: Support adolescents and young people enrolled in technical/ skills development education to remain in school | C12: Collective intervention | D12: MACP | E12: The intervention will focus on supporting adolescents and young people who have already been enrolled in technical/ skills development education to remain in school through; i) provision of technical learning materials for workshop purposes (tools, equipment etc.) ii) provision of incentive for girls and other disadvantage boys attending key technical course (auto mechanic, engineering, computer science etc.) 1.3a | F12: Pillar 1: EDUCATION AND LEARNING | G12: UNICEF, UNHCR, ILO | H12: 247932 | J12: 150000 | M12: =SUM(H12:L12) -> 397932 | N12: White Nile state and Kassala state | O12: 2024-2027 | P12: Adolescents and youth from refugees and host communities | Q12: Ministry of Youth & Sports and Ministry of Labour | R12: TBD | S12: Access to socio-economic opportunities | T12: NIL
A13: 1.1 | B13: Support apprenticeship, work-based learning, and internship opportunities for young people (18-24 years) | C13: Collective intervention | D13: MACP | E13: This activity will link young people from Forcibly Displaced and Host communities to participate in work-based learning or internship opportunities based on the requirement of the relevant skills institutions. The partners will build a strong working relationship will companies and business to ensure safety the safety and learning of the beneficiaries. UNICEF and ILO will facilitate provision of vocational training, internship, apprenticeship opportunities and provision of relevant toolkits, targeting refugees and host community youth, women-headed households and people at risk of irregular onward movement. (1.3b) | F13: Pillar 1: EDUCATION AND LEARNING | G13: UNHCR and ILO | H13: 0 | J13: 300000 | M13: =SUM(H13:L13) -> 300000 | N13: White Nile state and Kassala state | O13: 2024-2027 | P13: Adolescents and youth from refugees and host communities | Q13: Ministry of Youth & Sports and Ministry of Labour | R13: TBD | S13: Access to socio-economic opportunities | T13: NIL
A14: 1.11 | B14: Technical support for Education and learning intervention | C14: Partner specific | D14: MACP | E14: Technical support for Education and learning intervention | F14: Pillar 1: EDUCATION AND LEARNING | G14: UNICEF | H14: 751602.91 | M14: =SUM(H14:L14) -> 751602.91 | N14: White Nile state and Kassala state | O14: 2024-2027 | P14: UNICEF staff working on the partnership at field and Khartoum levels | Q14: NIL | R14: NIL | T14: NIL
A15: Pillar 2: ECONOMIC INCLUSION | H15: =SUM(H16:H29) -> 0 | I15: =SUM(I16:I29) -> 861000 | J15: =SUM(J16:J29) -> 3350000 | K15: =SUM(K16:K29) -> 0 | L15: =SUM(L16:L29) -> 0 | M15: =SUM(H15:L15) -> 4211000
A16: 2.1 Increased Private Sector or Public investment and enhanced business environment for creating economic opportunities for forcibly displaced and host communities | B16: Promote value chain development and EIIP approaches in the targeted areas with potential economic opportunities for FDP and HC. | C16: Partner specific intervention | D16: MACP | E16: Construction of storage facilities, improve access roads and market places to support the agriculture cooperatives by providing an adequate space to store their crops after the harvest season and provide better access to marketplaces. The intervention will ensure that the needs of women and persons with disabilities are taken into account in terms of the infrastructure design, and that they can participate equitably as workers/contractors in construction. | F16: Pillar 2: ECONOMIC INCLUSION | G16: ILO, UNHCR | I16: 411000 | J16: 350000 | M16: =SUM(H16:L16) -> 761000 | N16: White Nile state and Kassala state | O16: 2024-2027 | P16: Refugees and HC Agriculture cooperatives | Q16: Ministry of Agriculture. Ministry of Trade. Ministry of infrastructure. Labour offices in the states | S16: Access to socio-economic opportunities
E17: Conduct a preliminary assessment of occupational safety and health (OSH) in the construction sector in Kassala and White Nile states. This assessment will provide an overview of the OSH conditions across construction, analyze contractor’s and workers knowledge of OSH practices, and identifies areas for improvement and capacity building needs. The ILO will offer training and capacity building for community groups, civil sociaty organizations, private sector contractors, and public institutions (local goverment and line ministries) on safety and health measures in construction sites. | F17: Pillar 2: ECONOMIC INCLUSION | G17: ILO, UNICEF and UNHCR | I17: 0 | J17: 100000 | M17: =SUM(H17:L17) -> 100000 | N17: White Nile state and Kassala state | O17: 2024-2025 | P17: Refugees and HC | Q17: Ministry of Health. Ministry of infrastructure. Labour offices in the states | S17: Access to socio-economic opportunities
B18: Promote green jobs and livelihoods through green works to improve socio-economic status for refugees and host community | E18: Afforestation project through planting and irrigating trees to address climate challenges, promote sustainable development, and provide decent work opportunities for refugees and host communities | F18: Pillar 2: ECONOMIC INCLUSION | G18: ILO, UNHCR | J18: 150000 | M18: =SUM(H18:L18) -> 150000 | N18: Kassala state | O18: 2024-2026 | P18: Refugees and HC | Q18: Ministry of Agriculture. Ministry of infrastructure. Labour offices in the states | S18: Access to socio-economic opportunities
A19: 2.2. | B19: Strengthen Market Linkages for the cooperatives to access | C19: Partner specific intervention | D19: MACP | E19: This interventions aims to work with the private sector in 2 most profitable and inclusive value chains in the targeted areas. The ILO will build the capacity of the private sector actors through extensive trainings on quality of export to the regional markets in MENA and East Africa regions. While this has started in phase 1, in the second phase ILO aims to mobilize the private sector funds to contribute to developing the cooperatives that will sources the crops to the regional market. Though Sudan has been challenged by the conflict, however the demand from groundnuts, Gum Arabic and livestock among other value chains is still ongoing. Hence, the aim is to link the private sector with the cooperatives from the onset, and ensure that their interests are aligned and intertwined. In this phase the ILO will aim to target 5000 farmers to form cooperatives in the selected locations, which is double the target reached in phase 1. However, in this phase the ILO will work with the technical units in the Ministry of Agriculture and Ministry of Trade to ensure they are capacitated to deliver this scope of work after the project ends. | F19: Pillar 2: ECONOMIC INCLUSION | G19: ILO | J19: 575000 | M19: =SUM(H19:L19) -> 575000 | N19: White Nile state and Kassala state | O19: 2024-2027 | P19: HC and FDPs | Q19: Ministry of Agriculture and Ministry of Trade | S19: Access to basic services
E20: UNHCR in collaboration with ILO will facilitate provision of agricultural extension initiatives and value-chain development and improvement to refuges and HC. UNHCR will provide access to productive assets (agricultural tools and livestock) and ILO will facilitate Agri-business support and market linkages to internal and external markets. | F20: Pillar 2: ECONOMIC INCLUSION | G20: ILO | J20: 175000 | M20: =SUM(H20:L20) -> 175000 | N20: White Nile state and Kassala state | O20: 2024-2027 | P20: Refugees and HC
A21: 2.3 | B21: Institutionalizing BDS in Enterprise Development organizations. | C21: Collective intervention | D21: MACP | E21: Using ILO tools on SME development and cooperative development adapted in PROSPECTS phase to support the creation of Argo-cooperatives and the upgrading of Agro societies and production associations in the new states to better position them for engagement in value chains, accessing finance, lending schemes, and/or negotiating production conditions and pricing through capacity development training and administrative support. Initiatives will include support and monitor the delivery of farming inputs (improved seeds, fertilizers, fungicides, and hermetic bags) to small scale farmers with focus on selected value chains. | F21: Pillar 2: ECONOMIC INCLUSION | G21: ILO | J21: 300000 | M21: =SUM(H21:L21) -> 300000 | N21: White Nile state and Kassala state | O21: 2024-2026 | P21: Refugees, IDPs and HC | Q21: Ministry of Agriculture. Ministry of Trade. Labour offices in the states. Private Sector | S21: Access to basic services
A22: 2.4 | B22: Institutionalizing entrepreneurship promotion | C22: Collective intervention | D22: MACP | E22: This intervention aims to build on the intervention and achievements of the first phase, which has reached 2700 entrepreneurs with capacity building, market linkages and mentorship services. While this scope of work has been delivered by a Service Provide that ILO has capacitated, in the second phase the priority will be to embedded this in government and quasi government technical units. This intervention will build the capacity of 6 relevant government technical units and quasi government financial institutions to provide business training and mentorship to 10,000 woman and man from both the Host and Forcibly Displaced Communities. These units will be supported in their delivery by the Service Contractor that delivered the first phase, which will play a guiding role to ensure these new service providers learn from the lessons learned in the previous phase and reflect that in their implementation. The main aim of this intervention is to ensure the entrepreneurship training continues to be delivered in the country after the project ends which will be the pathway for sustainability of service delivery. | F22: Pillar 2: ECONOMIC INCLUSION | G22: ILO, UNHCR | I22: 150000 | J22: 200000 | M22: =SUM(H22:L22) -> 350000 | N22: White Nile state and Kassala state | O22: 2024-2027 | P22: Government and quasi government business support units. Entrepreneurs (HC&FDPs) from the age group between 18-59 | Q22: Ministry of Finance, SME development Unit | S22: Access to basic services
E23: UNHCR will facilitate promotion of income generating activities (IGA) that focus on women empowerment (fishery skills training in fish processing wet salted and drying fish, and net making) and complement skills training with ILO’s Start and Improve Your Business (SIYB). | F23: Pillar 2: ECONOMIC INCLUSION | G23: ILO, UNHCR | J23: 100000 | M23: =SUM(H23:L23) -> 100000 | N23: White Nile state and Kassala state | O23: 2024-2027 | P23: Government and quasi government business support units. Entrepreneurs (HC&FDPs) from the age group between 18-60 | Q23: Ministry of Finance, SME development Unit | S23: Access to basic services
A24: 2.5 | B24: Scaling up financial inclusion | C24: Collective intervention | D24: MACP | E24: This intervention will scale up the pilot of financial inclusion that was delivered in the first phase. The ILO will work with 4 Financial Institutions and build their capacity to design and provide fit to context financial services. Through working with these partners, the ILO will reach 10,000 client with loans and saving products as the market demands. In this phase the ILO will work with the partners to ensure they are capable of managing funds that are earmarked for FDPs and ensure they are reaching the targeted numbers are growing their portfolio for future clients after the project ends. Part of this interventions, the ILO will build the MFIs capacity to provide high quality microfinance services through the training packages of Making Microfinance work I and II. | F24: Pillar 2: ECONOMIC INCLUSION | G24: ILO, UNHCR | I24: 300000 | J24: 600000 | M24: =SUM(H24:L24) -> 900000 | N24: White Nile state and Kassala state | O24: 2024-2027 | P24: Government and quasi government business support units. Entrepreneurs (HC&FDPs) from the age group between 18-61 | Q24: Central Bank of Sudan, Microfinance Unit | S24: Access to basic services
E25: UNHCR together with ILO will facilitate initiation of microfinance initiatives using the Village Savings and Loans (VSL) concept, targeting refugee women and link them to MFIs. | F25: Pillar 2: ECONOMIC INCLUSION | G25: ILO, UNHCR | J25: 50000 | M25: =SUM(H25:L25) -> 50000 | N25: White Nile state and Kassala state | O25: 2024-2027 | S25: Access to socio-economic opportunities
A26: 2.6 | B26: Digitalization for entrepreneurs | C26: Collective intervention | D26: MACP | E26: This intervention will embed digitized versions of ILO training packages to ensure that entrepreneurs can access business tips and advice all year round. The ILO will partner with the private sector on this intervention to ensure a sustainable business model is developed so that the service is accessible after the project ends. This will also allow those who live in remote areas to access the service when the face to face option is not available. This intervention will reach 20,000 entrepreneur. AI technology will be utilized to ensure the content is context relevant depending on the locality the entrepreneur is working in. | F26: Pillar 2: ECONOMIC INCLUSION | G26: UNICEF and UNHCR | J26: 350000 | M26: =SUM(H26:L26) -> 350000 | N26: White Nile state and Kassala state | O26: 2024-2027 | Q26: The private sector | S26: Access to socio-economic opportunities
A27: 2.7 | B27: Provide access to financial services | C27: Collective intervention | D27: MACP | E27: Microfinance initiatives, including Village Savings and Loans (VSL) programs, targeting refugee/host community women and girls for livelihood initiatives as well VSL for youth for construction of improved latrines | F27: Pillar 2: ECONOMIC INCLUSION | G27: ILO, UNHCR and UNICEF | J27: 150000 | M27: =SUM(H27:L27) -> 150000 | N27: Kassala state | O27: 2024-2027 | S27: Access to socio-economic opportunities
A28: 2.8 | B28: Provision of support towards Vocational training initiatives | C28: Collective intervention | D28: MACP | E28: Provision of vocational training, apprenticeship opportunities and provision of relevant toolkits, targeting refugee and host community youths, women-headed households and people at risk of irregular onward movement. | F28: Pillar 2: ECONOMIC INCLUSION | G28: ILO, UNHCR and UNICEF | J28: 150000 | M28: =SUM(H28:L28) -> 150000 | N28: Kassala state | O28: 2024-2027 | S28: Access to socio-economic opportunities
A29: 2.9 | B29: Provide access to work permits | C29: Collective intervention | D29: MACP | E29: This will facilitate access to work permits in various agricultural production activities and support for individuals to facilitate movement of refugees and access to markets | F29: Pillar 2: ECONOMIC INCLUSION | G29: ILO and UNHCR | J29: 100000 | M29: =SUM(H29:L29) -> 100000 | N29: Kassala state | O29: 2024-2027 | S29: Access to socio-economic opportunities
A30: Pillar 3: PROTECTION AND SOCIAL PROTECTION | H30: =SUM(H31:H49) -> 5116155.9 | I30: =SUM(I31:I49) -> 3415000 | J30: =SUM(J31:J49) -> 500000 | K30: =SUM(K31:K49) -> 0 | L30: =SUM(K31:K49) -> 0 | M30: =SUM(H30:L30) -> 9031155.9
A31: 3.1 | B31: Joint policy advocacy and review of regulations to promote refugee inclusion into relevant legal and policy frameworks, particularly protection and social protection systems | C31: Collective intervention | D31: MACP | E31: Review of legal frameworks and policies to ensure inclusion of refugees in protection and social protection systems. Technical and targeted support to relevant authorities at federal and statal levels to convene regular joint policy dialogues to plan for legislation review and implementation to improve inclusion and foster refugee protection. Similarly, advocacy for review of National regulation and policy on Children protection for inclusion of refugee and other forcibly displaced children. Specifically UNICEF will focus on support to review and update the Child Act 2010 (revised but not approved in 2021), review of policy on alternative care, align SoPs on child protection case management and develop Social Work regulations and structure, review of birth registration legislation to ensure inclusion and overcome discrepancies among legislations | F31: Pillar 3: PROTECTION AND SOCIAL PROTECTION | G31: UNICEF, UNHCR, ILO | H31: 70000 | J31: 300000 | M31: =SUM(H31:L31) -> 370000 | N31: Kassala and White Nile | O31: 2024- 2027 | P31: Government authorities | Q31: Ministry of social welfare and National council for child welfare. Ministry of Justice | S31: Access to rights
A32: 3.2 | B32: Capacity building and strengthening of civil registration system, including support on rehabilitating/establish and equip civil registry offices to increase inclusive access | C32: Collective intervention | D32: MACP | E32: UNICEF and UNHCR will work at various level to support the re-opening of civil registry in the target localities, Including supporting rehabilitation (if/as needed) and equipment of civil registries to increase access, particularly in remote areas. The intervention will start from a rapid assessing the status of birth registration, including the functionality of the central civic registration database and it's current location, and the functionality of civic registration offices in the target localitites. Joint advocacy and capacity building of civil registry officials to overcome bureaucratic impediments particularly for refugee children, single mothers, adopted children starting from good practives in some States (i.e. related to the marriage certificate of parents, name for adopted children etc..). UNICEF and UNHCR will collborately seek to build the capacity building for civil registry officials in the respective locations to ensure access to birth documentation for refugees and HC. | F32: Pillar 3: PROTECTION AND SOCIAL PROTECTION | G32: UNHCR and UNICEF | H32: 250000 | I32: 200000 | M32: =SUM(H32:L32) -> 450000 | N32: Kassala and White Nile | O32: 2024- 2027 | P32: civil registry | Q32: Ministry of Interior/ civil registry offices | S32: Access to basic services
A33: 3.3 | B33: Promote legal identity for all, including birth registration and legal documentation | C33: Collective intervention | D33: MACP | E33: UNICEF and UNHCR will work with the authorities at various level to advocate for free birth registration implemented in practice (vs new MoF requests). The activity include Social and behavioral change interventions and awareness raising with the community in support of Birth registration and documentation. In Sudan current scenario it will also include supporting FDPs and Host in retrieving lost documentation and birth certificates crucial to prevent many Child Protection concerns (arrests or exploitation/trafficking during unsafe migration, family separation, child labour, children recruited or in contact with armed groups); as well as mobile teams and integration with other caimpaigns (such as vaccinations) to facilitate registration in remote areas. While in the long term more focus will be shifted on the interoperability between health facilities and civil registry. | F33: Pillar 3: PROTECTION AND SOCIAL PROTECTION | G33: UNICEF, UNHCR | H33: 252000 | I33: 180000 | N33: Kassala and White Nile | O33: 2024- 2027 | P33: FDPs and HC | S33: Access to basic services
A34: 3.4 | B34: Strengthening child protection system through support and comprehensive capacity building to the social service workforce, MosD/NCCW and partners including towards establishing a functioning National child protection case management system. | C34: Aligned intervention | D34: MACP | E34: UNICEF will continue in the effort to strenghthen the social service workforce and in the current context to avoid the systems from fully collapse. In the current scenario UNICEF will support the Social Service Workforce to mantain presence and improve capacity to ensure child protection service provision (case management, MHPSS, family tracing and reunification or alternative care for UASCs etc..). UNICEF, in coordination with the CP AoR and partners and with the support of an INGOs will lead a comprehensive programme to support steps towards re-esuming the establishment of a national Child Protection Case Management system. The steps will include: a) alignment of Standard Operating Procedures (SoPs) - including for refugee camps settings, b) Training of Trainers targeting social workers from MoSD/NCCW and 2 case workers from each CP actor - starting from Kassala as a pilot and then to be cascaded through a comprehensive 1 year training and on-job coaching. Intervention part of broader investment on child protection systems strengthening and capacity building of MoSD/NCCW/SCCW. In the short term the intervention include also a rapid mapping of the social service workforce and the different roles and responsibility, define incetives for each role and align across states and CP actors (through the CP AoR) to avoid issues related to discrepancies and lack of retaliation capacity from the authorities Vs INGO/UN. In the scenario of a peasiful Sudan with recognized institution work on social service workforce regulations will be resumed. UNHCR will also support and coordinate with MoSD social workers for protection and child protection matter through Capacity building for ministry of social welfare and local partners for strengthening the national child protection systems. Enhancement of digitalization of case management in refugee context in coordination with prospects partners. | F34: Pillar 3: PROTECTION AND SOCIAL PROTECTION | G34: UNICEF and UNHCR | H34: 370000 | M34: =SUM(H34:L34) -> 370000 | N34: Kassala and White Nile | O34: 2024- 2027 | P34: Social service workforce | Q34: Ministry of social welfare and National council for child welfare. | S34: Access to basic services
A35: 3.5 | B35: Provision and facilitated access to specialized protection services through Case Management & Referral (MHPSS, medical aid, legal aid, FTR/alternative care for UASCs, GBV response etc..) particulaly for UASCs, MRM, GBV, VAC cases | C35: Aligned intervention | D35: MACP | E35: UNICEF and UNHCR will support the provision and access to child protection specialized services and information for FDPs and HCs through coordinated Case Management & referral to services, including MHPSS, health referral, GBV response, Best interests Aassessment and determination (BIA/BIDs) and consequent family tracing and reunification or alternative care for UASCs, piloting of emergency foster families. The intervention and capacity building in activity 3.5 will be cascaded to the case worker in the field and ensure the implementation of uniform SoPs and forms by the various Child Protection Actors. The intervention include ensuring the presence of referral pathway, service provision and support to the victims in accessing the referred services | F35: Pillar 3: PROTECTION AND SOCIAL PROTECTION | G35: UNICEF, UNHCR | H35: 800000 | I35: 1031650 | M35: =SUM(H35:L35) -> 1831650 | N35: Kassala and White Nile | O35: 2024- 2027 | P35: Children, girl and boys from FDCs and HC | Q35: Ministry of social welfare and National council for child welfare. | S35: Access to basic services
A36: 3.6 | B36: Inclusive Child Protection Information Management system CPIMS+/Primero integrated nationally and piloted | C36: Partner specific/ aligned | D36: MACP | E36: UNICEF will lead the roll out of CPIMS+/PRIMERO, boosting its use in selected piloting States (i.e. Kassala) and cascade its use throughout CP AoR and CP actors. In collaboration with UNHCR and its partners that will adopt PRiMERO for case management in refugee camps. Currently CP AoR partners at national level have been trained by UNICEF - including through technical support from UNICEF HQ and RO, to boost the registration of UASCs in PRIMERO; this intervention will ensure 1. to cascade the training in the States 2. to provide continuos technical assistence, including by UNICEF MENARO, to record the full case management of UASCs in country (in the short term). In ther longer term the PRIMERO CPIMS+ will provide the opportunity to improve cross-border case management of UASCs including to link the separeted children with their parents or caregivers. In addition CPIMS+ will support the evidence generation with data on UASCs which are often difficult to report and inform adeguate programme interventions. | F36: Pillar 3: PROTECTION AND SOCIAL PROTECTION | G36: UNICEF, UNHCR | H36: 120000 | M36: =SUM(H36:L36) -> 120000 | N36: Kassala and White Nile | O36: 2024- 2027 | P36: Children, girl and boys from FDCs and HC | Q36: Ministry of social welfare and National council for child welfare. | S36: Access to basic services
A37: 3.7 | B37: Access to a Protective environment through community based approach by the establishment/strengthening and capacity building of community structures as Community Based Protection and CP Networks (CBCPN) and community awareness campaigns | C37: Aligned intervention | D37: MACP | E37: Strengthen the capacity and resilience of the existing community structure through refresher training on child protection, GBV, positive coping mechanism during emergency. Ensure development and sharing of ToRs and support their sustainability. UNICEF will support the establishment or re-ativation of Community based Child Protection Network in the target localities and will build their capacity to identintify children vulnerable cases(including victims of grave violations) and referr them, awareness on child protection risks in the current context such us unsafe a) migration/smuggling, trafficking,b) prevention of family separation, exploitation, c) risk of recruitment in armed groups, d) age appropriate explosive ordinance Risk Education (EORE), e) risks of forced arrests and migration detention, enhancing alternative measures to detention for youth in contact with the law. Strengthen community capacity and resilience with focus on community structures (new and existing ones) comprising of Child Protection Committees, GBV task forces, among others leadership structures for sustainability. Comprehensive GBV assessment to identify and mitigate risks. This will be achieved through trainings/refresher trainings on the various protection principles/standards, positive mechanisms during emergency, timely and enhanced communication through dialogues, provision of phones to the leadership structures, airtime, establishment of protection facilities to report concerns. Rehabilitation and equipment of women's centers and conducting workshops and training sessions for the Elected Refugee Committees and their extended community volunteers on GBV and domestic violence. In addition to COR staff, refugees from respective camps will be coached to cooperate with UNHCR as protection community volunteers in their communities regularly. This will help reduce and prevent incidents of GBV and PSEA among forcibly displaced people, and victims are supported. | F37: Pillar 3: PROTECTION AND SOCIAL PROTECTION | G37: UNICEF and UNHCR | H37: 175000 | I37: 415000 | M37: =SUM(H37:L37) -> 590000 | N37: Kassala and White Nile | O37: 2024- 2027 | P37: Community-based structures in FDP and HC | Q37: Ministry of social welfare and National council for child welfare. | S37: Access to basic services
A38: 3.8 | B38: Develop and roll-out plans for prevention of family separation and alternative care arrangement for UASCs/ children without parental care and children with disability, including through communication strategy, behavioral change campaigns and advocacy, parenting and support to foster families | C38: Partner specific intervention | D38: MACP | E38: In the current context there is high risk of family separation, for various reason: during the displacement, family decinisions to divide to pursue various opportunities in country and out of the country. In addition, FDs particularly girl, young women, single mother and the increade number of poor households are struggling to provide for their families and children; in addition the high incidence of GBV and rape cases (even though it is reported only the tip of the iceberg) it is expected to increase unwanted pregnancy and children abandonment. Those risks add up to the already exsisting high rate of abandonment of vulnerable groups of children as disable children and children born out of wedlock. The behavioural change communication strategy aim to target those specific thematics to sensitivize the community in overcoming stigma against those children, reduce family separation including through further support for those parents/families (link with MCCT+ in Kassala) as well as support the MoSD in establishing foster care programme and volunteer programme for children with multiple vulnerabilities for example UASC/children without parental care with disability. | F38: Pillar 3: PROTECTION AND SOCIAL PROTECTION | G38: UNICEF | H38: 366370 | N38: Kassala and White Nile | O38: 2024- 2027 | Q38: Ministry of social welfare and National council for child welfare. | S38: Access to basic services
A39: 3. 9 | B39: Gender responsive and age appropriate prevention, risk mitigation and response to GBV, including FGM and child marriage, including meaningful youth engagement in awareness raising and service dissemination through the adoption of innovative tools to overcome stigma and access barriers (i.e. remote confidential access to counseling for mental health) | C39: Partner specific intervention | D39: MACP | E39: "The intervention aim to ensure quality, coordinated, survivor-centred, gender and age- appropriate prevention, risk mitigation and response services are available and used by survivors of GBV including FGM and Child Marriage and other at risk groups. The interevention will start with an interagency assessment in the target localities on GBV and access barriers, including gender-related cultural and social norms. To respond to increased evidence of GBV and rape in the country UNICEF will engage community, particularly girls and youth in awareness raising, prevention and response to various forms of violence, abuses and gender-based violence including by supporting functiong referral pathway and presence of services and by facilitating digital access to remote/digital confidential professional counselling (U-Support Me app). This will allow both, to overcome the lack of access to and presence of professional counselling particularly in remote areas, as well as overcome the barrier of law use of the service (if/when available) dur to social norms and stigma. Work with youth will be done on social behavioral change. For the youngest children UNICEF will establish girls club in the schools to raise awareness on protection risks as GBV, FGM, Child Marriage, violence against children; as well as promote the presence of social workers as entry point for vulnerable cases identification. | F39: Pillar 3: PROTECTION AND SOCIAL PROTECTION | G39: UNICEF | H39: 400000 | M39: =SUM(H39:L39) -> 400000 | N39: Kassala and White Nile | O39: 2024- 2027 | Q39: Ministry of social welfare and National council for child welfare. | S39: Access to basic services
A40: 3.1 | B40: Construction/rehabilitation or establishment of mobile/semi-permanent gender and diversity responsive community centers and child friendly spaces, including for provision of MHPSS | C40: Collective intervention | D40: MACP | E40: The community centers will serve as hubs for implementing community initiatives. While CFS will focus on providing a safe spaces for children to healing and receive MHPSSservices including through recreational activities as well as entry point for identification of vulnerable cases (UASC, survivor of GBV etc..) and provision of Child Protection case management and referral to specialized services. The center will also be used for playful awareness raising on Child Protection risks to the children themselves and in the community. Capacity building for refugees and HC leaders on refugee legal rights will be carried out by UNHCR in the community centers. | F40: Pillar 3: PROTECTION AND SOCIAL PROTECTION | G40: UNHCR, UNICEF and ILO | H40: 860000 | I40: 1340800 | J40: 200000 | M40: =SUM(H40:L40) -> 2400800 | N40: Kassala and White Nile | O40: 2024- 2027 | Q40: Ministry of social welfare and National council for child welfare. | S40: Access to basic services
...

Sheet Tab 3 Policy Matrix
A2: Policy Priorities | B2: Key challenges | C2: Key milestones | D2: Key stakeholders | E2: Support through programming
