Workbook
Name _Hlk88571830: 'Tab 5 Multi-annual targets '!#REF!
Name _Hlk95981819: 'Tab 5 Multi-annual targets '!#REF!
Name _Hlk96267063: 'Tab 5 Multi-annual targets '!#REF!
Name _Hlk96267083: 'Tab 5 Multi-annual targets '!#REF!
Name _Int_joejLXOw: 'Tab 5 Multi-annual targets '!#REF!
Name _Toc1343095740: 'Tab 5 Multi-annual targets '!#REF!
Name _Toc369500605: 'Tab 5 Multi-annual targets '!#REF!
Name _Toc512764507: 'Tab 5 Multi-annual targets '!#REF!
Name _Toc632574498: 'Tab 5 Multi-annual targets '!#REF!
Name _Toc872994150: 'Tab 5 Multi-annual targets '!#REF!
Name _Toc919062024: 'Tab 5 Multi-annual targets '!#REF!

Sheet Tab 1 Budget summary
A1: Table 1: Total budget MACP USD | D1: Table 5: Total budget OF USD
A2: Organization | B2: Total (2024-2027) | D2: Organization | E2: Total (2024-2027)
A3: UNHCR | B3: =SUM(B13+B24) -> 41917293 | D3: UNHCR
A4: UNICEF | B4: =SUM(B14,B15,B25,B34) -> 46896000 | D4: UNICEF
A5: ILO | B5: =SUM(B16+B26+B35) -> 16231707 | D5: ILO | E5: =SUM(E16+E26+E35) -> 0
A6: World Bank | B6: =SUM(B17+B27) -> 10000000 | D6: World Bank | E6: =SUM(E17+E27) -> 0
A7: IFC | B7: =B18 -> 13690000 | D7: IFC | E7: 0
A8: Total | B8: =SUM(B3:B7) -> 1.28735e+08 | D8: Total | E8: =SUM(E3:E7) -> 0
A11: Table 2: Total activity costs MACP USD | D11: Table 6: Total activity costs OF USD
A12: Organization | B12: Total (2024-2027) | D12: Organization | E12: Total (2024-2027)
A13: UNHCR | B13: ='Tab 2 Programme Portfolio'!B54 -> 39358961 | D13: UNHCR
A14: UNICEF | B14: 39552915 | D14: UNICEF
A15: UNICEF (Cross-sectoral costs)* | B15: =8%*42992299 -> 3439383.9 | D15: UNICEF
A16: ILO | B16: 14222121 | D16: ILO | E16: ='Tab 2 Programme Portfolio'!E56 -> 0
A17: World Bank | B17: ='Tab 2 Programme Portfolio'!B57 -> 10000000 | D17: World Bank | E17: ='Tab 2 Programme Portfolio'!E57 -> 0
A18: IFC | B18: ='Tab 2 Programme Portfolio'!B58 -> 13690000 | D18: IFC | E18: ='Tab 2 Programme Portfolio'!E58 -> 0
A19: Total | B19: =SUM(B13:B18) -> 1.2026338e+08 | D19: Total | E19: =SUM(E13:E18) -> 0
A22: Table 3: Indirect recovery costs MACP USD - optional | D22: Table 7: Indirect recovery costs OF USD - optional
A23: Organization | B23: Total (2024-2027) | D23: Organization | E23: Total (2024-2027)
A24: UNHCR | B24: =B13*0.065 -> 2558332.4 | D24: UNHCR | E24: 0
A25: UNICEF | B25: =8%*42992299 -> 3439383.9 | D25: UNICEF
A26: ILO | B26: 1848875.8 | D26: ILO | E26: 0
A27: World Bank | B27: 0 | D27: World Bank | E27: 0
A28: IFC | D28: IFC | E28: 0
A29: Total | B29: =SUM(B24:B28) -> 7846592.1 | D29: Total | E29: =SUM(E24:E28) -> 0
A32: Table 4: UN Levy costs MACP USD | D32: Table 8: UN Levy costs OF USD
A33: Organization | B33: Total (2024-2027) | D33: Organization | E33: Total (2024-2027)
A34: UNICEF | B34: 464317 | D34: UNICEF | E34: 0
A35: ILO | B35: 160709.97 | D35: ILO | E35: 0
A36: Total | B36: =SUM(B34:B35) -> 625026.97 | D36: Total | E36: =SUM(E34:E35) -> 0
A39: *Cross sectoral costs cover support expenses crucial for UNICEF programme implementation in Lebanon including the following: - Operations costs which includes costs to keep the office going such as IT, security, transport, supply and logistics, and warehousing costs both in the Beirut office and in field offices, in addition to costs of related staff supporting the operations function of the office; - Planning, monitoring, and evaluation activities and related supporting staff; - Field coordination which includes expenditures related to programme coordination and monitoring at the field level in addition to sector coordination; - Communication costs which includes costs for activities to ensure that the communication and visibility of the donor is clearly documented and donor field visits, advocacy, outreach, referrals, are well coordinated in addition to related staff costs.

Sheet Tab 2 Programme Portfolio
A1: Reference | B1: Title of Intervention | C1: Type of intervention | D1: MACP or OF | E1: Short description of Intervention | F1: Pillar | G1: Participating Partners (PROSPECTS only) | H1: UNICEF Budget (if applicable) | I1: UNHCR Budget (if applicable) | J1: ILO Budget (if applicable) | K1: WB Budget (if applicable) | L1: IFC Budget (if applicable) | M1: Total budget (= multi-annual) | N1: Geographic area | O1: Implementation period | P1: Target group | Q1: Government Counterparts | R1: Other implementing organizations | S1: Contribution to ToC Outcomes | T1: Other relevant information
A2: Pillar 1: EDUCATION AND LEARNING
A3: 1.1 | B3: Support the implementation of the National Strategic Framework for TVET, enhance the operational efficiency of the services provided by the Directorate General of TVET, and support the National Youth Action Plan | C3: Collective intervention | D3: MACP | E3: In May 2022, the TVET Directorate/MEHE launched the TVET National Strategic Framework (NSF) review (2018-2022) for the development of a new TVET National Strategic Framework (2024-2028). This framework focuses on delivering high-quality market driven TVET in Lebanon that leaves no one behind and takes into account the volatile and economic situation in the country including the inclusion of marginalized groups across TVET and supporting TVET schools in enabling learning access for vulnerable populations. The new TVET NSF (2024-2028) is the main TVET policy for improving and reforming the TVET sector in Lebanon through systematic collaboration between key ministries, the private sector, and UN agencies. UNICEF and ILO will work on implementing key recommendations from the new TVET NSF by developing a diversified financial framework based on multiple partnerships set to support TVET, restructuring the TVET public sector for more efficient operations supported by evidence-based decision making and planning, and establishing mechanisms to ensure continuous linkages with the labour market. The TVET NSF implementation as an overall strategy will focus on delivering a quality TVET system that offers specialization to equip learners with competencies, skills, and knowledge that match the labour market demand. UNICEF will also work on the National Youth Policy Plan, which serves as an operational plan to better address youth issues in Lebanon. It will ensure that the main stakeholders involved in youth issues are working towards the same objectives, including public institutions, civil society organizations and donors. The plan has translated 20 priority recommendations, which were selected based on a participatory process, into 179 interventions over a three-year period. As part of its broader support to the implementation of the National Strategic Framework for TVET in Lebanon, this ILO intervention, implemented in close collaboration with UNICEF, seeks to improve the effectiveness and service delivery of DGVTE. It plans to achieve this by implementing strategic actions that streamline administrative functions and optimize processes for essential services by mapping the business processes of different services within DGVTE to identify bottlenecks causing inefficiency and support process reengineering to optimise the service and ensure it is more efficient and effective. Ultimately, these efforts are anticipated to enhance the provision of high-quality vocational training that meets market demands. Moreover, considering the continued work in the agricuture sector in Phase II and building on previous skills training work done in this sector in Phase I, this intervention will support in creating a framework for certification on the national level with MEHE for agriculture technical schools affiliated to the Ministry of Agriculture. | F3: Pillar 1: EDUCATION AND LEARNING | G3: UNICEF, ILO, UNHCR | H3: 456299 | I3: =16901.41*4 -> 67605.64 | J3: 271514.31 | M3: =SUM(H3:L3) -> 795418.95 | N3: National | O3: 2024-2027 | P3: Youth from 15 to 24 years. | Q3: Ministry of Education and High Education, Youth and Adolescent, TVET Directorate, Ministry of Youth and Sports, Private sector, TVET schools | R3: ILO,GIZ,IECD, WFP | S3: Access to socio-economic opportunities
A4: 1.2 | B4: Institutionalization of skills assessments, forecasting, and monitoring of skill delivery outcomes enhanced within the private sector to actively contribute to better matching of skills with labor market needs by increasing private sector participation in the education / TVET sectors | C4: Aligned intervention | D4: MACP | E4: Strengthening the institutionalization of skills anticipation studies and predictive models for market-aligned skills training in growth-oriented sectors is the main aim for this intervention. ILO has recently collaborated closely with the Association of Lebanese Industrialists (ALI) to enhance its capacity for conducting rapid skills anticipation assessments in selected sectors. In the next phase (Phase II), ILO will support ALI in conducting additional skills assessments in promising sectors, such as agri-food, green, and digital economy. These assessments will identify skills gaps in the sectors and will inform both career guidance and design of skills training programs, including curriculum development. The findings of the assessment focused on skills assessment in the digital economy will feed into the Forastech platform recently launched by UNICEF and the World Bank under PROSPECTS OF. | F4: Pillar 1: EDUCATION AND LEARNING | G4: ILO | J4: 271514.31 | M4: =SUM(H4:L4) -> 271514.31 | N4: Nationwide | O4: 2025 - 2027 | P4: ALI staff and Host and FDP communities with improved access to quality education / TVET services | Q4: ALI | R4: TBD | S4: Access to socio-economic opportunities
A5: 1.3 | B5: Skilling Up Lebanon | C5: Aligned intervention | D5: MACP | E5: Building on the momentum of SUL, the focus is now on expanding access and reaching a higher segment of Lebanese youth, including refugees. The nammiskills platform continues to support youth in their digital learning journeys and job searches within the tech and creative sectors, prioritizing fully subsidized training and certification for refugees in Lebanon and young people with disabilities (PwD). Additionally, the intervention will deliver digital skills training to university students through: (i) a Training of Trainers (ToT) program for university professors, equipping them to deliver hybrid digital skills courses using industry-aligned programs such as AWS Academy and Microsoft Learn for Educators; and (ii) short-term, industry-certified digital courses tailored to meet the skills most in demand by employers. These initiatives aim to significantly enhance youth employment prospects in the digital, tech, and creative industries. The initiative also seeks to develop sustainability plans to ensure self-financing in the medium to long term. To support education service delivery and boost graduate employability in Lebanon, the IFC will explore deeper private sector engagement by rethinking curricula and teaching models to align with market demands, strengthening academia-industry partnerships to close the skills gaps, leveraging digital tools for skill development, and using PPP models to develop and efficiently manage modern educational facilities. | F5: Pillar 1: EDUCATION AND LEARNING | G5: WB, UNICEF, ILO, IFC | K5: 1150000 | L5: 70000 | M5: =SUM(H5:L5) -> 1220000 | N5: All governorates | O5: Jan 2024-Oct 2027 | P5: All youth aged 17 to 32 with 50% women, 10% refugees and 2% person with disability | Q5: The program is not implemented by a government entity, but the team is engaging with: Prime Minister Office (PMO) + Ministry of Education and Higher Education (MEHE) + Ministry of Social Affairs (MoSA) + Office of the Ministry of State for Administrative Reform (OMSAR) + Ministry of Labor (MOL) + Ministry of Youth and Sport | R5: Forward MENA NGO (RETF) | S5: Access to socio-economic opportunities
A6: 1.4 | B6: Multiple Flexible Learning to Earning Pathways for marginalized children and adolescents | C6: Aligned intervention | D6: MACP | E6: UNICEF and UNHCR will support formal and nonformal education by providing comprehensive support to the most vulnerable children and adolescents (up to 18 years old) in school and out-of-school (OOS) settings, ensuring access to quality education and other essential services such as adolescent development, child protection, healthcare, and nutrition as well as mainstreaming social behavioural change strategies into programming. These services are designed to promote the overall wellbeing and holistic development of children, addressing their physical, social, and emotional needs within a safe and accessible environment. UNICEF has launched two innovative flagship programmes within the education sector as part of the Transition and Resilience Education Fund (TREF). These programmes, known as Dirasa and Makani, are built upon valuable insights gained from Non-Formal Education (NFE) assessments, well-being package approaches, and a decade of experience in NFE and child protection and other programmes. They have been developed to cater to vulnerable children, ensuring their access to a cost-effective package of services in learning centres. Furthermore, these programmes aim to prepare children and young adolescents aged 8 to 18 for the future, facilitating their transition to formal education and from learning to earning. The programmes consist of the following: 1. Dirasa aims to support struggling private-free and private schools to continue operating while supporting Lebanese and non-Lebanese children already enrolled in these schools to ensure their retention and avoid dropout. Dirasa also provides a pathway back to education for out-of-school Lebanese and non-Lebanese children aged 8-11, providing them with access to quality education and facilitating their re-entry into the formal education system. Furthermore, Dirasa indirectly supports reducing the enrolment and education-related costs for children already enrolled in the targeted schools through in-kind support with supplies including stationery and a dropout prevention fund for children enrolled in cycle 3 who are at risk or have dropped out of education due to financial challenges. 2. Makani centres provide a comprehensive package of integrated services and provide an alternative pathway for children outside of the formal school system, offering educational interventions tailored to their needs and age, with the goal of empowering, referring, and enrolling them in formal education. It creates a community space that supports the physical, social, and emotional wellbeing of vulnerable children, adolescents, and youth through a range of programmes, including education, child protection, early childhood development (ECD), life skills, youth engagement, and social behavioural change in host communities, collective, and informal settlements. The ultimate objective of the Makani approach is to create a community space that enables vulnerable children, adolescents, and youth to have their own protected space to support their development as well as their physical, social, and emotional wellbeing through an integrated set of interventions. UNHCR will complement these activities through the provision of non-formal education programmes in learning centers targeting OOS refugee children and youth without prior learning, including a standardized Basic Literacy and Numeracy Programme (BLN) for children (aged 10 to 14) and youth (15+) that provides foundational numeracy and literacy skills that enable them to use their education toward sustainable futures and participate in cohesive societies. The programmes prepare children and youth to transition into formal education and acquire skills they need to succeed in life and in the labour market. Partners follow the implementation guidelines from the Ministry of Education (MEHE) regarding the accreditation and transition to formal education. Implementation will also be aligned to the legal framework guiding the transition for children from Non-Formal Education to formal education and the NFE curriculum and teacher trainings, which are currently under revision by MEHE. UNHCR and UNICEF will coordinate the selection and identification of centers based on needs and partners presence, to prevent duplication of service provision and expand the reach of the most vulnerable. UNICEF and UNHCR will also both work on retention support programmes to ensure children are supported to retain and succeed in school and complete the educational stages. UNHCR will promote the retention of refugee children in education through Community-based Education programmes (CBE) that target refugee children aged 6-15 years old enrolled in second shift public schools (at basic education level) who are at risk of dropping out due to their poor academic performance and achievement results. CBE aims to compensate for the educational gaps caused by the school closures and interruptions in the past three scholastic years by providing these children with learning support in all the subjects that they need help with as well as other non-academic (recreational/organizational) support, to contribute to their retention in school and their personal development and to the creation of a safe place for children to learn. CBE also mobilizes community structures, including Education Community Liaison Volunteers (ECLs) deployed inside schools, to create a safer, peaceful and harmonious environment at school for refugee children to learn. The ECLs follow up on refugee absenteeism in formal education, help mediate between children, parents, and school management, identify violence, bullying, and learning difficulties, and have a robust protection referral mechanism to MEHE Child Protection National Policy Pathways and child protection case management at the community level. This intervention is cross-cutting with the Protection Pillar and benefits both outcomes: Access to rights and Access to services within the ToC. UNICEF will provide retention support to children in Makani centres as well as to Palestinian refugee children in and out of Makani centres, reaching the most vulnerable children with specific academic and learning difficulties, including children with disabilities. This intervention promotes integrated programming to address the needs of children facing multiple vulnerabilities through a holistic approach. | F6: Pillar 1: EDUCATION AND LEARNING | G6: UNHCR, UNICEF | H6: 12419616 | I6: 3729562.2 | M6: =SUM(H6:L6) -> 16149178 | N6: National | O6: 2024-2027 | P6: OOS children, In school vulnerable children, teachers and caregivers | Q6: MEHE /MOSA/ municipalities / MOPH/MOYS/MOIM | R6: IRC, LOST, MS,SCI,WCH,ALPHA | S6: Access to basic services
A7: 1.5 | B7: Accelerating TVET pathways and strengthening the capacity of TVET schools to deliver market relevant skills trainings, with strong linkages to the private sector | C7: Aligned intervention | D7: MACP | E7: ILO, UNHCR, and UNICEF will work on the accelerated TVET Pathway and strengthening the capacity of TVET schools and the National Center for Vocational Trainings (NCVT) to deliver market relevant skills training with strong linkages to the private sector: In the first half of 2023, the ILO provided technical support to the development of a partnership between ALI, Ministry of Education and Higher Education, and Ministry of Industry, with the aim to improve the quality of technical education and vocational training to meet the requirements of industry and private sector institutions. The partnership is being piloted in the technical institute for food industries in Beqaa through a PPP model. In PROSPECTS Phase II, ILO will build on this PPP pilot and replicate it in other technical schools in agri- food industries and other promising sectors as a means to promote lifelong learning, particularly amongst vulnerable Lebanese and Syrian refugees. This would create an enabling environment for a productive, innovative, and competitive industrial sector and strengthen the relevance of TVET schools making them more autonomous and enhance the capabilities of teachers through technical and core skills training and curriculum development. This would also engage the private sector in TVET governance and develop a model of co-financing and revenue generation for financial sustainability of the TVET centres struggling to continue their services effectively. The certified short vocational training program, under the UNHCR-YEP program (Youth Education Programmes), creates a conducive environment for vulnerable out-of-learning youth by offering a wide range of market and competency-based certified vocational training and skills development activities aligned with the National TVET framework led by the Ministry of Education and Higher Education with the support of ILO, UNICEF, GIZ and IECD. This initiative empowers learners with the necessary competencies demanded by the labour market, promoting inclusive and sustainable economic growth and social equity and benefiting vulnerable host youth alongside refugees and stateless persons. This intervention is cross-cutting with the employability pillar as it provides concrete linkage with job opportunities in Lebanon. UNICEF is developing an innovative and flexible learning pathway, in line with its multiple flexible pathway approach, to support youth out of education to reintegrate into formal education, as a result of the TVET school closures over the past two years and to address the dramatic increase in the number of out of school young people (aged 12 years and older) in Lebanon along with the impact of the deteriorating economic situation on both public and private TVET schools. Available data shows that many of the adolescents in schools are not moving smoothly through the primary education system while others are repeating or not attending school on a regular basis to achieve basic learning outcomes. Therefore, they have a higher likelihood of leaving education as their transition from general education to TVET remains weak and in need of improvement. Through a systems-based approach and by using multiple flexible pathways that lead to formal education, UNICEF will partner with 25 public and private TVET schools to facilitate the re-entry of up to 3,500 out-of-school FDPs and host community youth into formal education by the end of 2026. The beneficiaries will be aged 12 to 18 and out of school for less than 2 years. The TVET pathway programme will be aligned with UNICEF education programme objectives such as Makani and Dirasa. Overall, UNICEF will establish an NFE TVET learning pathway in TVET schools which will improve the existing TVET pathway programme of by building the capacities of TVET teachers, enabling cooperation between TVET public and private schools, and providing out of school children and youth with an education catch up programme that will facilitate their access into formal education. For older youth, a specific skilling and employment pathway is already in place to host and support these youth with a comprehensive package of services. UNICEF will provide the most vulnerable Youth and Adolescents Palestinian refugees with certified and non-certified market based vocational skills training through the Palestinian programme partner NGOs and UNRWA Sibline training center. A TVET training is provided to adolescents and youth to equip them with market relevant skills and improve their employability. Moreover, the trainees will be mentored and coached by specialized supervisors and trainers from the referring service provider organizations. | F7: Pillar 1: EDUCATION AND LEARNING | G7: ILO, UNICEF, UNHCR | H7: 1010748 | I7: 3592931 | J7: 721514.31 | M7: =SUM(H7:L7) -> 5325193.3 | N7: National | O7: 2024-2027 | P7: OOS children, In school vulnerable children, teachers and caregivers | Q7: MEHE, TVET schools | R7: Private institutes | S7: Access to basic services
A8: 1.6 | B8: Increase access of FDPs And HCs to an integrated package of learning, skilling, and empowerment | C8: Partner specific intervention | D8: MACP | E8: Provide vulnerable youth from FDP and host communities with an integrated skilling package consisting of: a - Tailored learning package of Basic Literacy and Numeracy, and Functional Skills such as Financial Literacy, Digital Skills, and English skills to prepare youth to access the skilling programme. b- Competency and market-based quality certified (3months/6months) and non-certified vocational training programs (40% girls and 3% with disabilities) with private TVET schools and partners NGOs centres. UNICEF will target older youth from marginalised communities as outlined in the vulnerability assessment conducted by UNICEF. UNICEF will focus on most vulnerable adolescents including those who are attending or are graduating from Makani, and those involved in child labour to promote learning pathways for those most at risk. c- Life skills training: equipping youth with transferable skills in addition to strengthening social cohesion to help them become more civically engaged and support their communities through youth-led initiatives. The life skills package provided is 50 hours and includes 1. positive leadership skills addressing the 12 core skills for personal development including communication, self-management, decision making, and team building; 2. positive employability skills related to finding and applying for jobs, skills, communication in the workplace, self-confidence and work ethics, how to prepare for interview, how to write a CV, etc.; c) the girls empowerment module that UNICEF is currently developing to be rolled out in Q2 of 2024. This component will start with a redesign of the training packages to ensure they are tailored to the increased learning needs of the most vulnerable adolescent and youth and close the gap of the learning loss and weak employability experienced by young people. | F8: Pillar 1: EDUCATION AND LEARNING | G8: ILO, UNICEF, UNHCR | H8: 2769170 | M8: =SUM(H8:L8) -> 2769170 | N8: National | O8: 2024-2027 | P8: OOS Children, In school vulnerable children, Lebanese and Non Lebanese youth from 15 to 24 years | Q8: MEHE,TVET | R8: ILO, UNHCR, TVET private schools, UNRWA sibline training centers | S8: Access to basic services
A9: 1.7 | B9: Facilitate business formalization, including MSMEs, with industrial associations and local chambers | C9: Collective intervention | D9: MACP | E9: UNICEF and the World Bank are working closely with the Lebanese government to provide youth and adolescent with digital technology training through Forastech: It’s a national platform for upskilling youth, including vulnerable youth in Lebanon. The Forastech platform launched under the PM and key partnerships have been established across Ministries to drive outreach and set up 'Hubs' with easy access to Forastech and support for the users across the country. Examples of such efforts include: Agreement with MOSA to target 7% of young people with disability to access the fully subsidized certification and embedding Forastech Hubs in IT enabled SDC to reach vulnerable women and youth. Suppo to Mol for out reach to employers through Chambers, Associations, and Private Sector Groups to drive Forastech to be effectively used by employers for the upskilling and recruitment of staff, deployment of Forastech within grade 12 public school and Public University in an effort to upskill young people in industry relevant digital technology training. Any youth in Lebanon (including those who takep part in Prospect funded programme such as GIL and Makani ) can be referred to Forastech as the go to the platform to upskill vulnerable youth with industry certification. Youth who access to the platform have a curated learning experience which starts with skills assessment, provision of learning pathways based on the gaps or aspiration leading to industry certification. Under Prospect, Unicef will support vulnerable youth including refugees to have access to the learning opportunities on Forastech and the certification. To further support vulnerable youth to access the opportunities provided through this innovation, UNICEF is developing a most vulnerable learning pathway on Forastech, with curated learning adapted for those from most marginalized background, with an important focus on girls, to have access to a tailored learning package. In addition to this, UNICEF is mainstreaming Forastech hubs across the country, taking advantage of existing labs and institutions, such as Gil Labs, Makanis, National University , TVET schools and others, to provide a place where young people can access internet, computers, and be supported by youth facilitators in their digital learning journey through Forastech, as well as access comprehensive learning aimed at boosting their employability outcomes and facilitate their learning to earning journey. | F9: Pillar 1: EDUCATION AND LEARNING | G9: UNICEF, WB | H9: 1110748 | M9: =SUM(H9:L9) -> 1110748 | N9: National | O9: 2024-2027 | P9: OOS Children, In school vulnerable children, youth for 15 to 25 years | Q9: MEHE,MOL | R9: Private sector, national innovation partners, local stakeholders | S9: Access to socio-economic opportunities
A10: 1.8 | B10: WBL programs targeting Syrian refugees and Lebanese in promising sectors scaled up with more engagement of the private sector. | C10: Aligned intervention | D10: MACP | E10: In phase I, ILO worked with the Ministry of Agriculture, AVSI, and the private sector to develop competency-based curricula and implement WBL programs targeting both Syrian refugees and Lebanese in five occupations in the agriculture sector. Building on this experience, this intervention under Phase II aims at further developing and implementing WBL programs in the agri-food, digital and green sectors based on the skills assessments conducted jointly with ALI and to institutionalize WBL in priority sectors and increase the numbers of enterprises taking initiative to promote apprenticeship. The selection of the private enterprises will be made in close coordination with ALI and based on a clearly defined criteria. As for the beneficiaries targeted by this intervention, they will be mostly young Syrian refugees and vulnerable Lebanese identified through different referral mechanisms, including through TVET Schools (public and private) UNHCR's Community Development Centers (CDCs) and UNICEF's Makani Centers. | F10: Pillar 1: EDUCATION AND LEARNING | G10: ILO | J10: 1371514.3 | M10: =SUM(H10:L10) -> 1371514.3 | N10: Nationwide | O10: 2024-2027 | P10: Vulnerable Lebanese and Syrian refugees | Q10: DGVTE, private training providers, universities | R10: TBD | S10: Access to socio-economic opportunities
A11: 1.9 | B11: Youth engagement and empowerment activities | C11: Partner specific intervention | D11: MACP | E11: UNICEF will focus on empowering and meaningfully engaging young people, particularly adolescent girls, young women and those most marginalized. More specifically, UNICEF will empower young people to be effective partners and support them to lead and drive change in their communities. UNICEF will adopt a four pronged approach to effective and meaningful youth engagement which will focus on: 1. Developing skills, capacity and leadership capabilities of young people, including participatory action research (PAR) as well as enhancing their life skills, positive leadership and conflict resolution. 2. Engaging and strengthening young people’s networks, by establishing youth advisory groups at national and subnational levels. The Youth Advisory Groups are critical for connecting and effectively engaging with young people and support them in addressing issues that matters to them, such areas could include climate action, mental health awareness. This is UNICEF’s approach of working with young people, for young people, and enabling them to becoming community shapers and agents of change. 3. Supporting young people to lead on community actions, through youth led initiatives and at scale volunteering opportunities through Nahnoo Volunteers. 4. Amplifying young people’s voices through key platforms, such as U-Report and Voices of Youth. | F11: Pillar 1: EDUCATION AND LEARNING | G11: UNICEF | H11: 2428830 | M11: =SUM(H11:L11) -> 2428830 | N11: National | O11: 2024-2027 | P11: Youth from 15 to 24 years. | Q11: MOYS, MOPH, MoSA | R11: UNFPA | S11: Access to rights
A12: 1.1 | B12: CIS - TVET | C12: Partner specific intervention | D12: MACP | E12: IFC is supporting CIS, a technical vocational school in Lebanon and Iraq, through advisory services funded by Prospects. CIS serves vulnerable communities, including refugees, but faces sustainability challenges, such as reliance on subsidies and weak governance. IFC aims to help CIS transition to a corporate structure to attract investors and strengthen employability by linking students to the job market. A SWOT analysis will guide the development of a growth strategy for potential investment. Additionally, IFC will conduct a TVET Market Study in Lebanon to understand sector supply, demand, and skills gaps, supporting both CIS and the broader TVET market | F12: Pillar 1: EDUCATION AND LEARNING | G12: IFC | L12: 500000 | N12: National | O12: 2024-2027 | P12: FDPs and HCs | S12: Access to rights
A13: Pillar 2: ECONOMIC INCLUSION | M13: =SUM(H13:L13) -> 0
A14: 2.1 | B14: Evidence based dialogue on challenges and opportunites for livelihoods and decent work opportunities for vulnerable Lebanese and Syrian refugees, including in the digital and green sectors | C14: Aligned intervention | D14: MACP | E14: In Phase I, ILO commissioned a review of the relevant policy, legislative and regulatory frameworks related to Syrian refugees’ access to the labour markets, employment, livelihood and training opportunities, including self-employment and business development in Lebanon and provided an analysis of these policies in practice. The review is one of several similar studies conducted in different countries in the Middle East and the Horn of Africa, coordinated by the PROSPECTS Partnership. Towards the end of phase I, the ILO will undertake a market assessment and skills assessment in emeriging sectros, such a green and digital sectors (please see intervention under 1.1 with ALI and 2.3). Based on findings of the policy review and the market assessments, the ILO - in close coordination with UNHCR and other PROSPECTS partners - will organize dialogue sessions with its triapartite constiuents and key stakeholders to discuss opportunities generated in these emerging sectors for both Lebaese and Syrian refugee youth and challenges pertaining to workers rights in these emerging sectors, especially for digitally enabled jobs. The dialogue will seek to provide an opportunity for advocacy on: i) regulating the work of workers in the informal economy, particularly Syrian refugees who are working in one of the three sectors where they are allowed to work; yet without a work permit or contract; ii) expanding the list of occupations that are currently limited to Lebanese citizens; and iii) deliberating on ways to improve rights at work and mitigate risks for digital workers. The aspects related to rights at work will benefit from the tools developed by ILO and UNHCR as part of the global OF on the Gig Economy. Considering that this dialogue cuts across the work of all parers, including the joint OF of UNICEF and the World Bank on the digital economy (Forastech platform), all PROSPECTS partners will be invited to contribute to these sessions. CTS partners will be invited to contribute to these sessions. | F14: Pillar 2: ECONOMIC INCLUSION | G14: ILO, UNHCR, and UNICEF (All PROSPECTS partners) | J14: 221514.31 | M14: =SUM(H14:L14) -> 221514.31 | N14: National | O14: 2024-2025 | Q14: MoL, MoE, MoI, MEHE | S14: Access to socio-economic opportunities
A15: 2.2 | B15: Accessible and market relevant career guidance and employment services delivered to both Lebanese HC and Syrian refugees using ILO tested tools and methodologies | C15: Aligned intervention | D15: MACP | E15: In Phase I, ILO worked closely with UNHCR and the Danish Refugee Council (DRC) to integrate employment services into community development centres (CDCs) serving both refugees and vulnerable host community members in vulnerable areas. In Phase II, ILO will continue to support the extension of these services to refugee and HC members, building stronger referal pathways between vocational skills training, entrepreneurship trainings and employment. As such, this intervention will be implemented through different streams. First, it will provide assistance to TVET providers in integrating career guidance tools and exploring digital solutions to aid youth in making informed career decisions (linked to 1.1 and 1.3). Second, it will integrate ILO's career guidance tools within community centers, including UNHCR supported CDCs, as part of a broader package of services to Syrian and Lebanese host communities visting these centers. Third, it will implement ILO's Job Search Clubs (JSCs) methodology specifically targeting youth in the community centers, including UNICEF's innovation labs. Successfully piloted by the ILO in collaboration wth UNICEF in PROSPECTS Jordan, JSCs provide youth with the skillset and peer to peer network needed for job search and actual placement in jobs. The results and lessons learned from Jordan will be built on in the design of the intervention in Lebanon. Finally, as part of this intervention, ILO will ensure that its implementing partners for career guidance and JSCs are informing and encouraging job seekers to use the "My Rights At Work" App, which it had developed and launched in close partnership with the Ministry of Labour and UNICEF in early 2023. This will also contribute to ST outcome 2.4 on promoting rights at work. | F15: Pillar 2: ECONOMIC INCLUSION | G15: ILO, UNHCR, and UNICEF | I15: =16901.41*4 -> 67605.64 | J15: 1345319.3 | M15: =SUM(H15:L15) -> 1412924.9 | N15: Bekaa North | O15: 2024-2027 | P15: vulnerable Lebanese and Syrian refugee graduates from TVET and job seekers (mainly youth) | Q15: MoL | S15: Access to socio-economic opportunities
A16: 2.3 | B16: Facilitate business formalization, including MSMEs, with industrial associations and local chambers | C16: Aligned intervention | D16: MACP | E16: Using ILO's Formalize Your Business tool, ILO will build capacity within the Ministry of Agriculture, industrial associations, including ALI and local chambers to reach MSMEs and start-ups (supported under interventions related to 2.3) with activties promoting formalization that are targeting specific sectors. For MSMEs in the agricuture sector, work will closely be done with the Ministry of Agriculture to ensure lnikages with the Farmers' Registry initative. This intervention will be linked to ILO's broader work with its tripartite constiuents to support fomalizaton. | F16: Pillar 2: ECONOMIC INCLUSION | G16: ILO, UNICEF | J16: 181514.31 | M16: =SUM(H16:L16) -> 181514.31 | N16: Bekaa North | O16: 2026-2027 | P16: Farmers Agro-Food processors ( if applicable) | Q16: Ministry of Labour, Ministry of Agricuture | R16: Industrial associatons (Association of Lebanese industrialists, local assosicatons, trade unioins) | S16: Access to socio-economic opportunities
A17: 2.4 | B17: EIIP supporting local infrastructure in the agriculture sector and short-term job creation | C17: Partner specific intervention | D17: MACP | E17: In the bridging phase of PROSPECTS and to complement activities under other EIIP projects, ILO is implementing green works that contribute to environmental preservation and improvement and land reclamation for enhanced agricultural productivity. These activities are strongly linked to and will complement work on value chain development and access to finance in the agriculture sector under PROSPECTS. In Phase II, ILO will expand these EIIP interventions to further develop agricture infrastructure, enhance productivity and efficiency among vulnerable farmers, and create short term employment opporutnites for Syrian refugees and vulnerable Lebanese. | F17: Pillar 2: ECONOMIC INCLUSION | G17: ILO | J17: 1321514.3 | M17: =SUM(H17:L17) -> 1321514.3 | S17: Access to socio-economic opportunities
A18: 2.5 | B18: Youth Innovation Programme (GIL) | C18: Aligned intervention | D18: MACP | E18: Given the fragility of the private sector in Lebanon, UNICEF is focusing on solutions that can support youth in learning skills needed for the future of work. These skills more and more are consolidated within the Youth Innovation programme which equips youth with industry certified digital skills and support on entrepreneurship skills development. The GIL labs network serves as an ecosystem providing the most marginalized youth with the chance to be part of the 4th industrial revolution and equipping them with the 21st century skills and income generation opportunities; through its 14 innovation labs spread across Lebanon in the most rural and vulnerable areas and through partners NGOs centers and UNRWA Sibline Vocational Training centers. GIL aims at identifying youth from different vulnerable population background, including refugees. This new funding window will also enable UNICEF to further tailor the GIL programme to ensure that refugees and most vulnerable can increasingly benefit from this innovative programme and tailored referral mechanisms will also be designed across UNICEF and partners to ensure maximum reach. After completing the digital skilling path under GIL, youth will be placed in jobs or income generation activities through B.O.T impact sourcing platform that was established by UNICEF and/or referred to jobs via the portal UNICEF is developing with the private sector and the Tech Working Group (TWG). The TWG portal is a centralized space where interested employers (local and international market) can submit their talent requests via a simple website, and a focal point will alert the relevant UNICEF implementing partners who will then share the CVs and profiles of their best candidates. The focal point will then interview these candidates and select the best ones to share these CVs with the companies and, should they be interested, the companies will be connected directly with the partner to arrange for an interview. As for the entrepreneurhsip path, after completing the design thinking and busines development, youth will have the chance to pitch their business ideas and get a chance to be incubated and funded. They will then be part of the entrepreneurship ecosystmen in Lebanon under Berytech's guidance. (SUGGEST REMOVING THIS, AS IT IS TOO DETAILED MAYBE AND ONLY LEAVE THE BELOW - PLEASE ADVISE) The GIL programme includes several tracks, summarized as follows: a) Social Entrepreneurship b) Employment hub c) Coding Bootcamps d) Digital Skilling | F18: Pillar 2: ECONOMIC INCLUSION | G18: UNICEF, ILO | H18: 5513983 | M18: =SUM(H18:L18) -> 5513983 | N18: National | O18: 2024-2027 | P18: Youth from 18 to 25 years. | Q18: MEHE,TVET | R18: Private sector, national innovation partners, local stakeholders | S18: Access to socio-economic opportunities
A19: 2.6 | B19: Support to value chain development and access to finance in the agriculture sector expanded | C19: Partner specific intervention | D19: MACP | E19: Phase I identified bottlenecks in the agriculture market system, and piloted several interventions to address them, enhance productivity, and support decent job creation. Building on this experience, ILO in phase II will : i) identify specific value chains based on value chain assessments; and ii) support key actors, including farmers, cooperatives, input suppliers and others across the value chains to reduce production cost, increase productivity, efficiency and competitiveness of products in the local and international markets. ILO's support will include both technical support (use of ILO tools for market systems development and cooperatives training and development) and access to finance through loan products, building on its work with a microfniance institution in Phase I and its engagement with key national and local actors in the sector. Specifically, it will work on designing loan products for farmers and cooperatives that promote green solutions and climate smart agriculture, including through energy and water savings; and support them in creation of livelihoods and decent employment opportunities for Syrian refugees and Lebanese workers. This set of interventions will be supported by work under the education pillar, which will address skills gaps in the identified value chains and will linked to interventions that focus on improving occupational safety and health and working conditions (under 2.4) and addressing child labour iat the sectoral level (under 3.2). | F19: Pillar 2: ECONOMIC INCLUSION | G19: ILO | J19: 2771514.3 | M19: =SUM(H19:L19) -> 2771514.3 | N19: Bekaa North ( Akkar and T5) | O19: 2024-2027 | P19: Farmers Agricultral workers Cooperatives Exporters, traders Agro-Food processors ( if applicable) | Q19: MOA DGCOOP | R19: Association of Lebanese Industrialists , Chambers of Commerce and Agricuture, MFIs, input suppliers, cooperatives | S19: Access to socio-economic opportunities
A20: 2.7 | B20: Technical and financial support to business start-ups, MSMEs and social and solidarity economy (SSE) initatives in emerging sectors scaled up to enhance their contributions to local economic development and job creation. | C20: Aligned intervention | D20: MACP | E20: Based on the results of a market assessment that will be conducted to identify the needs of MSMEs and SSEs with focus on emerging sectors (green, digital), ILO will pilot an innovative financial product with banks/MFIs/crowd fund to meet the different needs of youth start-ups and other existing businesses and SSEs that have growth and job creation potential, including for both Lebanese and refugees. This will be coupled with non financial services (trainings using ILO tools) that are necessary to guide the different needs of entrepreneurs in their start-up journey and the existing SSEs and MSMEs in their support to job creation, local development, and climate adaptation. This intervention will be coordinated with UNICEF's GIL programme to ensure synergies and complemetarity with youth start-ups, including possible referrals from the GIL programme to advanced entrepreneuship trainings by ILO. | F20: Pillar 2: ECONOMIC INCLUSION | G20: ILO, UNICEF | J20: 1821514.3 | M20: =SUM(H20:L20) -> 1821514.3 | N20: North, Beqaa, | O20: 2024-2027 | P20: MSMEs (Start-ups and existing) in promising sectors | Q20: MoA, MOSA, MoI, | R20: Bank/MFI, BDS providers, ALI | S20: Access to socio-economic opportunities
A21: 2.8 | B21: Enhanced occupational safety and health in the agriculture and agro-food sector | C21: Partner specific intervention | D21: MACP | E21: Occupational Safety and health (OSH) is a fundamental principles and right at work and at the core of promoting decent work. In phase I, ILO undertook an OSH assessment in the agricuture sector which highlighted major deficits in the sector and identified the need for capacity building on OSH both at the instiutional level and at the farm level. As a follow up, it developed an OSH guide and implemented a TOT and training for farmers and workers on OSH. Building on this work, ILO will work closely with the MoL and MoA and partners in Phase II to further promote OSH practices, including through conducting more trainings at the farm level. This will be linked to interventions on value chain and technical and financial support to farmers. ILO will also work closely with the MoL and ALI to develop and roll out guides on improving OSH in the agro-food sector. | F21: Pillar 2: ECONOMIC INCLUSION | G21: ILO | J21: 271514.31 | M21: =SUM(H21:L21) -> 271514.31 | N21: North, Beqaa, | O21: 2024-2027 | Q21: MoL, MoA, | S21: Access to rights
A22: 2.9 | B22: Improved capacity of partner institutions to promote and engage on rights at work for refugees, and Host communities | C22: Partner specific intervention | D22: MACP | E22: Building on work across pillars in Phase I to enable both national institutions, as well as implementing partners, to raise awareness amongst the target community on their rights at work, this intervention will streamline capacity building efforts using digital training tools and manuals on rights at work. This will include capacity building for TVET providers, line ministeries, national social protection institutions, cooperatives, INGOs and social partners. | F22: Pillar 2: ECONOMIC INCLUSION | G22: ILO | J22: 191514.31 | M22: =SUM(H22:L22) -> 191514.31 | N22: Country wide | O22: 2024-2025 | S22: Access to rights
A23: 2,10 | B23: Employment and Entrepreneurship: Start Mashreq (Fully funded under Propsects 1.0) | C23: Aligned intervention | D23: MACP | E23: This project aims to enhance the readiness of the entrepreneurship ecosystem in Lebanon through a virtual entrepreneurship education and structured incubation program for startups that would enable entrepreneurs to move to business acceleration and grow further through training, networking opportunities and mentorship support, among others, with a strong focus on women, youth, and forcibly displaced people (FDPs). The results of the proposed intervention will be investment ready or growth ready entrepreneurs empowered and equipped with the required tools and capacity to start and grow their businesses and seek investment from potential investors. The project also includes an acceleration track of growth stage startups by supporting growth businesses through workshops, sessions with international experts, and business networking events, in addition to portfolio support such as investor mixer events, participation in international/regional events, and international roadshows soliciting further investments in the companies.The project objective will be delivered with FLat6Labs as the primary partner and partnership with another Investment Fund and/or Incubator / Accelerator. | F23: Pillar 2: ECONOMIC INCLUSION | G23: IFC, ILO, UNICEF | L23: 572000 | M23: =SUM(H23:L23) -> 572000 | N23: Lebanon | O23: 2024-2025 | P23: Youth, women, FDP | Q23: None | R23: None | S23: Access to socio-economic opportunities
A24: 2.11 | B24: Labor Upskilling | C24: Aligned intervention | D24: MACP | E24: The objective of this intiative is to support select companies, that attract vunlerable groups such as youth, women, FDPs in their wokforce, to improve their value proposition which will be accomplished through the following : a. assessment of skills gap of workforce and factors affecting workforce retention, b. design and deliver an upskilling training program which will include at minimum three modules: soft skills, technical skills and entrepreneurial skills. Experience from the delivery of this training will inform the decision of a company to institutionalize the training and/or expand as needed. First collaboration / pilot has been established with Toters with cross border operations in Lebanon and Iraq. The intiative aims ultimately to improve labor mobility for the most vulnernable groups from host communities and FDPs. Following successful implementation at the firm specific level the initiative aims to achieve results at scale in partnership with industry / business associations or other entities with significant private sector reach, and assuming governing national policies allow for such an approach. | F24: Pillar 2: ECONOMIC INCLUSION | G24: IFC,ILO,UNICEF | L24: 690000 | M24: =SUM(H24:L24) -> 690000 | N24: Lebanon | O24: 2024-2027 | P24: Youth, women, FDP workers | Q24: None | R24: Toters (as a pilot) | S24: Access to socio-economic opportunities
A25: 2.13 | B25: PIPELINE: Exploring opportunity with MFI and FI - Blended Finance | C25: Partner specific intervention | D25: MACP | E25: PIPELINE BLENDED FINANCE : IFC promotes financial inclusion in Lebanon by conducting market segmentation and analyzing gaps in access to financial services. This includes identifying potential blended finance Blended Finance interventions to address these gaps and preparing the groundwork for future investments. Specifically IFC could engage with two microfinance institutions (MFIs) in Lebanon, to assess their impact and identify opportunities for expanding financial services to underserved populations. | F25: PILLAR 2: ECONOMIC INCLUSION | G25: IFC | L25: 5000000 | M25: =SUM(H25:L25) -> 5000000 | N25: Lebanon | O25: 2024-2027 | P25: Youth, women, FDPs in value chains and working force | Q25: None | R25: TBD | S25: Access to socio-economic opportunities
M26: =SUM(H26:L26) -> 0
A27: Pillar 3: PROTECTION AND SOCIAL PROTECTION | M27: =SUM(H27:L27) -> 0
A28: 3.1 | B28: Support for the Social Recovery Needs of Vulnerable Groups | C28: Aligned intervention | D28: MACP | E28: Support the immediate social recovery needs of vulnerable groups following the port of Beirut explosion. This will be done by supporting non-government stakeholders that are engaged and have a track record in social recovery services by improving their capacity to participate in the broader social recovery and reconstruction processes. The additional PROSPECTS funding would allow for an expansion to increase the focus on specific population groups which would require some adjustments to address the unique needs of refugees, increase their access to services, and maintain the project’s relevance. Programming under IRC’s current World Bank-funded project already ensures access to justice for children within shelters, offering a secure environment within a well-organized framework. Most of these children are Syrian refugees, their vulnerable situation making them susceptible to increased abuse and violence. This critical access initiative is ongoing, and with supplementary funding, we would establish partnerships with local organizations that operate within juvenile prisons, particularly considering the significant number of refugees without support in these facilities. Expanding and enhancing the project’s reach to refugees under these areas of intervention would involve enlisting community health workers and volunteers from the refugee community to bridge information gaps and increase refugee community awareness. By establishing partnerships with local health actors specialized in inclusion, disability, mental health, and psychosocial support within refugee-dense areas, we would amplify our project's reach and accessibility. Expanding primary healthcare aligns seamlessly with existing PHCCs serving a substantial refugee population across the country. Furthermore, we would develop and share focused communication materials to bolster refugees' access to services, ultimately achieving more program engagement. Though the social services supported are inclusive, a significant portion of our beneficiaries in the GBV workstream are from non-Lebanese origin. To make this more concrete, recent results reported by IRC (end-July) show that of the 424 beneficiaries who have received GBV support through the project, a staggering 346 (~82%) are of non-Lebanese origin. This is due to the facts that: (1) refugees are of course considerably more exposed to GBV risks and (2) we support NGOs that run several shelters which specifically target such groups (migrants, refugees). (Also interesting to note here is that included amongst the 346 non-Lebanese beneficiaries are 56 non-Lebanese girls and non-Lebanese 61 boys – i.e. children and youth represent ~34% of our non-Lebanese GBV beneficiaries). | F28: Pillar 3: PROTECTION AND SOCIAL PROTECTION | G28: WB + maybe UNICEF/UNHCR | K28: 8650000 | M28: =SUM(H28:L28) -> 8650000 | N28: Lebanon | O28: Jan 2024 - June 2026 | P28: The specific groups targeted by the project include: (i) survivors and those at-risk of GBV; (ii) those suffering from deteriorated psycho-social wellbeing; (iii) and persons with disabilities and older persons facing limitations related to their physical and/or mental status. Given the cross-cutting nature of their vulnerability, refugees/displaced persons and migrant domestic workers are also targeted across the project’s workstreams. | Q28: Coordination and collaboration through implementation partners with Ministry of Public Health—National Mental Health Program (MOPH-NMHP), Ministry of Justice (MOJ) and Ministry of Social Affairs (MOSA). | R28: International Rescue Committee (IRC) as the grant recipient and implementing agency of the project, partnering with a series of local NGOs already working in the delivery of key services to target groups. | S28: Access to basic services
A29: 3.2 | B29: Household Survey for Inclusive Development in Lebanon | C29: Collective intervention | D29: MACP | E29: The World Bank, in collaboration with UNHCR will implement two rounds of phone surveys to assess the impact of the conflict and displacement on household welfare. The key deliverables will be two anonymized clean datasets and analytical briefs accompanying each survey round describing the socio-economic condition of HCs and FDPs. | F29: Pillar 3: PROTECTION AND SOCIAL PROTECTION | G29: World Bank, UNHCR, ILO | I29: 500000 | K29: 2000000 | M29: =SUM(H29:L29) -> 2500000 | N29: Lebanon | O29: 2024 - 2026 | P29: Host community ad forcibly displaced populations | Q29: Central Administration of Statistics (tentative)
A30: 3.3 | B30: Registration intervention | C30: Partner specific intervention | D30: MACP | E30: Update and verify the registration data of the Syrian refugee population on a regular basis, allowing UNHCR and all Prospects partners and beyond to effectively plan and deliver protection, assistance, and resilience programmes for refugees​. This intervention benefits Access to rights and Access to services outcomes within the ToC and supports partners across the 4 pillars. | F30: Pillar 3: PROTECTION AND SOCIAL PROTECTION | G30: UNHCR | I30: 4000000 | M30: =SUM(H30:L30) -> 4000000 | N30: Country wide | O30: 2024-2027 | P30: FDPs | S30: Access to rights
A31: 3.4 | B31: Institution strenghtening for Birth registration | C31: Aligned intervention | D31: MACP | E31: Capacity building of the Directorate General of Personal Status (PSD) by improving staff capacity which will increase the efficiency of PSD in processing, ultimately encouraging refugees to approach PSD for civil documentation, and provide adequate trainings and capacity building activities to facilitate the birth registration of children born to Syrian refugees and marriage registration of refugee (critical to birth registration). | F31: Pillar 3: PROTECTION AND SOCIAL PROTECTION | G31: UNHCR, UNICEF | H31: 104399 | I31: =187793.43*4 -> 751173.72 | M31: =SUM(H31:L31) -> 855572.72 | N31: Country wide | O31: 2024-2027 | P31: FDPs | Q31: MOIM/PSD | R31: n/a | S31: Access to rights
