Workbook
Name _Hlk88571830: 'Tab 5 Multi-annual targets '!#REF!
Name _Hlk95981819: 'Tab 5 Multi-annual targets '!#REF!
Name _Hlk96267063: 'Tab 5 Multi-annual targets '!#REF!
Name _Hlk96267083: 'Tab 5 Multi-annual targets '!#REF!
Name _Int_joejLXOw: 'Tab 5 Multi-annual targets '!#REF!
Name _Toc1343095740: 'Tab 5 Multi-annual targets '!#REF!
Name _Toc369500605: 'Tab 5 Multi-annual targets '!#REF!
Name _Toc512764507: 'Tab 5 Multi-annual targets '!#REF!
Name _Toc632574498: 'Tab 5 Multi-annual targets '!#REF!
Name _Toc872994150: 'Tab 5 Multi-annual targets '!#REF!
Name _Toc919062024: 'Tab 5 Multi-annual targets '!#REF!

Sheet Tab 1 Budget summary
B3: Table 1: Total budget MACP USD | E3: Table 5: Total budget OF USD
B4: Organization | C4: Total (2024-2027) | E4: Organization | F4: Total (2024-2027)
B5: UNHCR | C5: 16616541 | E5: UNHCR
B6: UNICEF | C6: 31583000 | E6: UNICEF | F6: =SUM(F16+F27+F36) -> 0
B7: ILO | C7: =SUM(C18+C28+C37) -> 16231707 | E7: ILO | F7: =SUM(F18+F28+F37) -> 0
B8: World Bank | C8: =SUM(C19+C29) -> 14000000 | E8: World Bank | F8: =SUM(F19+F29) -> 0
B9: IFC* | C9: =C20 -> 19690000 | E9: IFC | F9: 0
B10: Total | C10: =SUM(C5:C9) -> 98121248 | E10: Total | F10: =SUM(F5:F9) -> 0
A11: * Includes BF
B13: Table 2: Total activity costs MACP USD | E13: Table 6: Total activity costs OF USD
B14: Organization | C14: Total (2024-2027) | E14: Organization | F14: Total (2024-2027)
B15: UNHCR | C15: 15602385 | E15: UNHCR | F15: 0
B16: UNICEF | C16: ='Tab 2 Programme Portfolio'!B77 -> 26321799 | E16: UNICEF | F16: ='Tab 2 Programme Portfolio'!E77 -> 0
B17: UNICEF cross-sectoral costs** | C17: 2632180
B18: ILO | C18: 14222121 | E18: ILO | F18: ='Tab 2 Programme Portfolio'!E78 -> 0
B19: World Bank | C19: ='Tab 2 Programme Portfolio'!B79 -> 14000000 | E19: World Bank | F19: ='Tab 2 Programme Portfolio'!E79 -> 0
B20: IFC | C20: ='Tab 2 Programme Portfolio'!B80 -> 19690000 | E20: IFC | F20: ='Tab 2 Programme Portfolio'!E80 -> 0
B21: Total | E21: Total | F21: =SUM(F15:F20) -> 0
A22: * Includes BF
A23: **The successful implementation of the UNICEF programme involves incurring staff and operational expenses within the implementing programme section(s) as well as in the cross-sectoral and programme effectiveness functions. The cross sectoral support budget line includes advocacy, monitoring and evaluation and other operational support for the effective and efficient management of the interventions. Out of a desire to enhance UNICEF’s capacity to address gender, Social and Behavioural Change and climate, among others, UNICEF has recruited additional capacity to support cross cutting functions.
B24: Table 3: Indirect recovery costs MACP USD - optional | E24: Table 7: Indirect recovery costs OF USD - optional
B25: Organization | C25: Total (2024-2027) | E25: Organization | F25: Total (2024-2027)
B26: UNHCR | C26: 0 | E26: UNHCR | F26: 0
B27: UNICEF | C27: 2316318 | E27: UNICEF | F27: 0
B28: ILO | C28: 1848875.8 | E28: ILO | F28: 0
B29: World Bank | C29: 0 | E29: World Bank | F29: 0
B30: IFC | E30: IFC | F30: 0
B31: Total | C31: 0 | E31: Total | F31: =SUM(F26:F30) -> 0
B34: Table 4: UN Levy costs MACP USD | E34: Table 8: UN Levy costs OF USD
B35: Organization | C35: Total (2024-2027) | E35: Organization | F35: Total (2024-2027)
B36: UNICEF | C36: 321703 | E36: UNICEF | F36: 0
B37: ILO | C37: 160709.97 | E37: ILO | F37: 0
B38: Total | C38: 0 | E38: Total | F38: =SUM(F36:F37) -> 0

Sheet Tab 2 Programme Portfolio
A1: Reference | B1: Title of Intervention | C1: Type of intervention | D1: MACP or OF | E1: Short description of Intervention | F1: Pillar | G1: Participating Partners (PROSPECTS only) | H1: UNICEF Budget (if applicable) | I1: UNHCR Budget (if applicable) | J1: ILO Budget (if applicable) | K1: WB Budget (if applicable) | L1: IFC Budget (if applicable) | M1: Total budget (= multi-annual) | N1: Geographic area | O1: Implementation period | P1: Target group | Q1: Government Counterparts | R1: Other implementing organizations | S1: Contribution to ToC Outcomes | T1: Other relevant information
A2: Pillar 1: EDUCATION AND LEARNING
A3: 1.1 | B3: Support the MOE in its ambition to catch up students on learning and develop stronger mechanisms for retention | C3: Partner specific intervention | D3: MACP | E3: UNICEF will support 50 schools in the most vulnerable field directorates to access learning outside of school hours, but inside schools. A reading recovery programme that has already been tried and tested in Syrian refugee camps and is achieving positive outcomes and will be implemented for students, including refugees who do not have reading mastery at grade 3. A mathematics programme that will address critical concepts will be introduced for students, including refugees, who cannot manage at grade level. UNICEF will build on the successful first three years of the nationally implemented MOE-UNICEF Learning Bridges programme. Learning Bridges is already reaching 67 per cent of schools nationally and with additional support the quality of implementation can be improved. This will include a strengthened emphasis on gender nuanced climate change, life and employment skills. UNICEF will continue supporting Learning Bridges champions in all Field Directorates and focus on improving implementation in boys’ schools. In order to ensure the most vulnerable children, including refugees, have the support they need UNICEF will continue to support Learning Bridges clubs. A referral system for the clubs is in place but will be strengthened. Students attending clubs will be supported to complete their Learning Bridges projects and develop digital skills. UNICEF will share lessons learned from the Learning Bridges programme to inform the implementation of the MOE National Blended Learning Strategy. Building on PROSPECTS 1.0, UNICEF will support the Ministry of Education (MOE) in the rollout of the Teacher of the Future (TOF) programme to target schools leading to an impact on the quality of teaching and learning, including gender inclusive values. Planned further development of the course includes upskilling the teacher professional on digital teaching and learning. UNICEF is planning the Teacher of the Future course as a product for use across the MENA region. To support the MOE, Field Directorates and schools to promote regular attendance of vulnerable adolescents, including refugees who have a much higher risk of drop-out than their Jordanian countparts, UNICEF will contribute to research on out-of-school children. This research will inform national policy and programmes; support the MOE to develop a national and cross sectoral Retention and Prevention Strategy; and pilot prevention of drop-out intervention(s). UNICEF will also deliver its Reading Recovery programme in Syrian Refugee camp schools and Non-formal Education (NFE) centres (throughout 2024 2025), as not being able to read is linked to drop out. UNICEF will continue its work to support school leadership in Syrian refugee camp schools with a focus on use of evidence and data to inform the implementation of school development plans. UNHCR will continue coordination and advocacy with education development donors and education stakeholders to ensure mainstreaming refugees in all programming and implementation of MoEs Inclusive Education Strategy. UNHCR will support provision of tertiary education programs that facilitate access to the job market in Jordan or through labor mobility. UNHCR will strengthen community based innovative education through its connected learning hubs and learning support programs. Considering the importance of data for planning and reporting, UNHCR will prioritize providing technical support to the education national data systems; the OPENEMIS of Ministry of Education/QRC information management system in coordination with UNESCO through direct arrangement and technical support to ensure that international protection status is reflected in national information systems. The Whole of Society Approach is essential in alignment with Global Compact on Refugees principles, based on that the operation will support Jordan Civil Society Network for Displacement efforts engaging in Global Refuge Forum 2023 and advocacting/pledging for supporting an inclusive refugee environment. An advocacy message aligned to the network’s 2023 theme will be drafted by think tanks members of the network to be presented at GRF 2023. Network members will develop a pledge. | F3: Pillar 1: EDUCATION AND LEARNING | G3: UNICEF | H3: 5001142 | I3: 0 | J3: 0 | K3: 0 | L3: 0 | M3: =SUM(H3:L3) -> 5001142 | N3: All governorates | O3: 2024-2027 | P3: Ministry of Education and DOE staff Ministry of Education teachers Syrian Assistant Teachers Students in grades 4 to 12 | Q3: Ministry of Education Ministry of Youth Ministry of Digital Economy and Entreprenurship Directorates of Education | S3: Access to basic services
A4: 1.2 | B4: Capacity building to formal and non-formal skills training programmes | C4: Aligned intervention | D4: MACP | E4: The proposed intervention aims to improve the quality, agility and responsiveness of formal and non-formal vocational and skills training institutions to become more agile and responsive to market demands in real time. UNICEF will work collaboratively with relevant line ministries to assess their strengths and weaknesses, deployment of enhanced Learning and Information Management Systems, greater capacity to link with demand driven employment opportunities, and increase the quality evidence to support policy and programming reforms within the current national skills building systems. To harness the opportunities of digital transformation, the intervention will support as a cross-cutting area efforts to embrace systemic changes that promote digitalization practices in skilling linked to civic engagement and employment. | F4: Pillar 1: EDUCATION AND LEARNING | G4: UNICEF ILO UNHCR | H4: 1000000 | M4: =SUM(H4:L4) -> 1000000 | N4: All governorates | O4: 2024-2027 | P4: Ministry of Labor ,technical and vocational skills development commission Staff, Ministry of Labor Staff,Vocational Training Corporation Staff and Refugees and Jordanian youth | Q4: Ministry of Labor ,technical and vocational skills development commission, Vocational Training Corporation | S4: Access to socio-economic opportunities
A5: 1.3 | B5: Harmonized TVET stakeholders engagement | C5: Aligned intervention | D5: MACP | E5: The proposed intervention, through a coordinated response, seeks to improve the systemization of key social and behavioral messaging surrounding the perceptions of Technical and Vocational Education and Training (TVET) in Jordan. Through a collaborative process with the Ministry of Labor, UNICEF will co-lead the testing and refinement of messages about the importance of TVET, available pathways and how to acquire the skills needed for young people to successfully transition into adulthood. Importantly the increased awareness through a coordinated fashion will lead to an increase in the demand for TVET and participation in formal and in-formal education programmes. | F5: Pillar 1: EDUCATION AND LEARNING | G5: UNICEF ILO UNHCR | H5: 50000 | M5: =SUM(H5:L5) -> 50000 | N5: All governorates | O5: 2024-2027 | P5: Ministry of Labor ,technical and vocational skills development commission Staff, Ministry of Labor Staff, Vocational Training Corporation Staff | Q5: Ministry of Labor, technical and vocational skills development commission, Vocational Training Corporation | S5: Access to socio-economic opportunities
A6: 1.4 | B6: Meaningful young peoples engagment | C6: Aligned intervention | D6: MACP | E6: The proposed intervention aims to enhance the meaningful engagement of young people, especially girls, in addressing the specific barriers to skilling and employment. The component will work to address key concerns, develop a collaborative set of priorities and co-create interventions to shift the perceptions of career and job ready skills training (TVET). Through youth led action in civic engagement, this component will address the negative perceptions regarding the relevancy and quality of education and TVET through a Social and Behaviour Change (SBC) lens. | F6: Pillar 1: EDUCATION AND LEARNING | G6: UNICEF ILO UNHCR | H6: 200000 | M6: =SUM(H6:L6) -> 200000 | N6: All governorates | O6: 2024-2027 | P6: Refugees and Jordanian youth | Q6: Ministry of Youth | S6: Access to socio-economic opportunities
A7: 1.5 | B7: 21st century Skills including digital and financial literacy training | C7: Aligned intervention | D7: MACP | E7: The proposed intervention aims to improve the design, delivery and evaluation of skills service delivery on gender-responsive 21st century skills (e.g. communication, problem-solving, teamwork, emotional intelligence, critical thinking) and digital and financial literacy that is offered throughout all governorates across the country. It will help equip line ministries and trainers with the skills required to provide these foundation skills while addressing the entrenched inequities in the successful transition of young women into the labor market. | F7: Pillar 1: EDUCATION AND LEARNING | G7: UNICEF ILO UNHCR | H7: 1964360 | M7: =SUM(H7:L7) -> 1964360 | N7: All governorates | O7: 2024-2027 | P7: Ministry of Youth staff, Ministry of Digital Economy and Entreprenership Staff, Syrians and Jordanian youth | Q7: Ministry of Youth, Ministry of Digital Economy and Entreprenership | S7: Access to socio-economic opportunities
A8: 1.6 | B8: Volunteering/Service Leadership | C8: Aligned intervention | D8: MACP | E8: The proposed intervention aims to co-create meaningful and incentivized volunteering and engagement opportunities with young people, especially girls. Such opportunities will provide young people with the opportunities to exercise their skills in meaningful environments that serve to positively contribute to their communities. In order to further develop their potential. UNICEF will cultivate and nurture young people's leadership skills in their homes, schools, and communities (including camp-based operations). These efforts support the government’s National Volunteer Strategy and National Modernization Strategy by specifically demonstrating the important role young play in social cohesion and nation building. This also includes support from UNICEF HQ to build capacity, roll out global goods like IASC youth guidelines and related capacity development materials for young people; funding & capacity building for young people to design and implement initiatives across sectors to address challenges they see in their communities. | F8: Pillar 1: EDUCATION AND LEARNING | G8: UNICEF ILO UNHCR | H8: 1000000 | M8: =SUM(H8:L8) -> 1000000 | N8: All governorates | O8: 2024-2027 | P8: Ministry of Youth, Refugess and Jordanian youth | Q8: Ministry of Youth | R8: UNHCR | S8: Access to socio-economic opportunities
A9: 1.7 | B9: Increased access to green skills for climate action | C9: Aligned intervention | D9: MACP | E9: The proposed intervention aims to equip young people, especially girls, with a wide range of green skills in order to positively contribute to climate action across the country. It will equip line ministries and training providers with the on and offline opportunities for blended learning while also creating the space for young people to exercise their agency through youth led actions that address local, national and global climate change impacts. Under the component, capacity building will be provided to support the sustainability of youth-led networks and organizations to advocate for specific and targeted climate change initiatives in their communities. | F9: Pillar 1: EDUCATION AND LEARNING | G9: UNICEF ILO UNHCR | H9: 964360 | M9: =SUM(H9:L9) -> 964360 | N9: All governorates | O9: 2024-2027 | P9: Syrians and Jordanian youth | Q9: Ministry of Youth, Ministry of Environment, Ministry of Agriculture | S9: Access to socio-economic opportunities
A10: 1.8 | B10: Career ready skills for employment | C10: Aligned intervention | D10: MACP | E10: The proposed intervention aims to enhance the available opportunities for accredited career ready skills training offered through multi-disciplinary channels including on and offline technical formal and non-formal TVET centers' vocational training or on-the-job training, linked to formal wage employment (including in sectors open to refugees). In order to enhance the government’s abilities to harness the opportunities of digital transformation, the intervention will also identify specific areas for greater integration and collaboration along the learning to earning ecosystem. | F10: Pillar 1: EDUCATION AND LEARNING | G10: UNICEF ILO UNHCR | H10: 2000000 | M10: =SUM(H10:L10) -> 2000000 | N10: All governorates | O10: 2024-2027 | P10: Refugees and Jordanian youth | Q10: Ministry of Labor, Vocational Training Corporation | S10: Access to socio-economic opportunities
A11: 1.9 | B11: Internship programme | C11: Aligned intervention | D11: MACP | E11: The proposed intervention seeks to provide young people, especially girls with real time updated information on demand driven career and job opportunities within local environments. Through greater collaboration with key stakeholders and the private sector, market insights on skills and qualifications requirements and on behavioral insights will be gathered and synthesized in a systemic fashion. The aim is to establish and strengthen a national internship and apprenticeship scheme in partnership with private sector companies that contributes to the national modernization strategy. | F11: Pillar 1: EDUCATION AND LEARNING | G11: UNICEF ILO UNHCR | H11: 100000 | M11: =SUM(H11:L11) -> 100000 | N11: All governorates | O11: 2024-2027 | P11: Refugees and Jordanian youth | Q11: Ministry of Labor, Ministry of Youth, Vocational Training Corporation | R11: ILO, UNHCR | S11: Access to socio-economic opportunities
A12: 1.1 | B12: Mentorship | C12: Collective intervention | D12: MACP | E12: The proposed intervention aims to increase the opportunities for young people’s, especially girls, successful transition into the labor market either through formal or self-employment. Critical to addressing the barriers the impede their engagements is lacking an understanding of what is required within labor markets and the feeling of isolation without role models. In conjunction with interventions above, this component will work to address the need for mentors and role models that are able to listen, engage and offer advice to engaging young people as they enter the labor market. This intervention aims to not only strengthen the success of young people, especially girls, transition to employment but also offer opportunities for volunteerism and service leadership to the mentors. | F12: Pillar 1: EDUCATION AND LEARNING | G12: UNICEF ILO | H12: 150000 | M12: =SUM(H12:L12) -> 150000 | N12: All governorates | O12: 2024-2027 | P12: Refugees and Jordanian youth | Q12: Ministry of Labor, Ministry of Youth, Vocational Training Corporation | S12: Access to socio-economic opportunities
A13: 1.1.1 | B13: Support the skills and TVET system and private sector engagement to promote market relevant skills and lifelong learning in the context of future of work. | C13: Aligned intervention | D13: MACP | E13: Building on the support provided by PROSPECTS in Phase-I to the TVSDC and TVET system in Jordan, which supported the development of the RPL framework and its implementation guide and development of unified system for the National Occupational Standard (NOS) and contributed to accreditation criteria for Work Based Learning (WBL) programs and review of the TVET laws and legislation, Phase II will provide support to the review of the national legislation and regulations related to TVET to reduce fragmentation, aligning the NOSs and the Jordanian Standard Classification of Occupations (JSCO), establishing framework for developing national TVET curricula based on the NOS, establishing national system for the apprenticeship/WBL, operationalizing the National Qualification Framework (NQF) and its main dimensions such as TVET providers listing, qualification placement, foreign qualifications alignment, etc. ILO will ensure to align the work under this intervention with UNICEF’s intervention on building the capacities of the formal and non-formal skills training programmes (UNICEF intervention 1.2) to avoid any duplication or overlapping and at the same time join the efforts on supporting some building blocks in the TVET national strategy. | F13: Pillar 1: EDUCATION AND LEARNING | G13: ILO | J13: 560657.38 | M13: =SUM(H13:L13) -> 560657.38 | N13: National wide | O13: 2024-2027 | P13: TVET providers | Q13: Technical Vocational and Skills Development Commission (TVSDC) | S13: Access to socio-economic opportunities
A14: 1.1.2 | B14: Build capacity of TVET institutions to design and implement more inclusive quality training | C14: Aligned intervention | D14: MACP | E14: Phase II will support building the capacities of vocational instructors and master craft people to implement quality competency-based vocational training and WBL programs with focus on digital and green skills and jobs. This includes both methodological and technical domains where the capacities of the master craft people will be built on the methods and strategies of training, and the capacities of instructors and crafts person will be strengthened on the new technologies in the labour market. Phase II will explore the possibility and feasibility for establishing award and criteria for classification of TVET providers as a tool to improve the performance of TVET providers. Capacity building of TVET providers will also take into consideration gender mainstreaming and disability inclusion. ILO and UNICEF (intervention 1.5 on 21st century skills) will explore the possibility to joint efforts to establish a training guide for mainstreaming core life and work skills into skills training programmes and using this guide for building the capacities of the vocational instructors and master craft people on integrating the life and digital skills in the training and assessment processes of vocational training, WBL, and other skills training programmes. | F14: Pillar 1: EDUCATION AND LEARNING | G14: ILO, UNICEF | J14: 528657.38 | M14: =SUM(H14:L14) -> 528657.38 | N14: National wide with focus on TVET providers in Amman, Balqa, and North | O14: 2024-2027 | P14: TVET providers | Q14: Technical Vocational and Skills Development Commission (TVSDC) | S14: Access to socio-economic opportunities
A15: 1.1.3 | B15: Enhance the capacity, contribution, and visibility of National Sector Skills Councils (NSSCs) in Jordan | C15: Partner specific intervention | D15: MACP | E15: National Sector Skills councils help specify the nature of the skills needs based on industry needs. ILO under phase II will expand its support to the NSSCs in Jordan (initiated in phase I) and enhance their capacity to anticipate and identify the skills currently in demand in the labour market particularly in the green and digital sectors and develop training programs vocational training and WBL programs on these skills. Phase II will also explore providing capacity training to partners in VR-AR technology and improve their capacities to design and implement training programs. supporting the NSSCs and employers in digitalising their workforces for greater efficiency and technology optimization such as using VR-AR technology in industries like chemicals or plastics to skill, re-skill, or upskill the workers. Phase II will also support improving the capacities of the NSSCs on designing and implementing WBL and RPL programs based on the pilots of Phase I and expanding this to more NSSCs and sectors. | F15: Pillar 1: EDUCATION AND LEARNING | G15: ILO | J15: 398657.38 | M15: =SUM(H15:L15) -> 398657.38 | N15: National wide | O15: 2024-2027 | P15: NSSCs , enterprises | Q15: Technical Vocational and Skills Development Commission (TVSDC) | S15: Access to socio-economic opportunities
A16: 1.1.4 | B16: Exploratory work towards a Public Private Partnership model for TVET in Jordan | C16: Aligned intervention | D16: MACP | E16: Public Private Partnerships (PPP) are recognized as an important means of establishing linkages between the private sector and government TVET providers in moving towards a more ‘demand-driven’ skills system. Through work-based learning (WBL), apprenticeship, or dual vocational training programs, PPP brings in the expertise, experience, and human resources of the private sector for the delivery of skills training services that are typically under the responsibility of the government. On the other hand, enterprises can access competent trainees, in addition to getting their existing workers trained on TVET pedagogy by the instructors of the TVET providers. On the basis of background research on international and regionally successful PPPs in TVET and knowledge exchange exercises, the ILO and IFC will collaborate with public TVET providers and private enterprises in Jordan to establish a PPP model that would be fit for purpose. This model should take into account the private sector's needs and requirements for a competent workforce in order to increase productivity and competitiveness, as well as to be aligned with the Jordan Economic Modernization Vision and the Government Executive Programme 2023-2025. Pilots of this model will be implemented to serve as showcases for the government to take into consideration in future interventions. These pilots will also leverage digital tools to improve skill development, as well as to develop modern educational facilities and operate them efficiently | F16: Pillar 1: EDUCATION AND LEARNING | G16: IFC, ILO | J16: 211002.38 | L16: 500000 | M16: =SUM(H16:L16) -> 711002.38 | N16: National wide | O16: 2024 -2027 | P16: Private and public sector TVET providers and Host and FDP communities with improved access to quality education/TVET services | Q16: TVSDC | R16: TBD | S16: Access to socio-economic opportunities
A17: 1.1.5 | B17: Private sector education / TVET - Blended Finance | C17: Aligned intervention | D17: MACP | E17: Leverage use of Prospects blended finance instrument to both help de-risk and increase financial viability of high impact projects in education, including in the TVET sector, benefiting FDPs and their host communities and increase development impact and reach. | F17: Pillar 1: EDUCATION AND LEARNING | G17: IFC, ILO | L17: 5000000 | M17: =SUM(H17:L17) -> 5000000 | N17: National Wide | O17: 2024 -2027 | P17: Host and FDP communities with improved access to quality education/TVET services | R17: TBD | S17: Access to socio-economic opportunities
A18: 1.3.1 | B18: Roll out competency based training for HCs and Syrian refugees, with a focus on green and digital sectors | C18: Aligned intervention | D18: MACP | E18: Building on skills and labour market diagnostics undertaken by PROSPECTS and complementary ILO and UNICEF projects, ILO and UNICEF will partner with TVSDC to develop and launch competency based trainings in emerging occupations that support a green and digital transformation of the economy (mainly UNICEF' interventions 1.7 & 1.8). This will target occupations that are accessible to both Syrian refugees and host community members, and have higher appeal to young people. This will be linked to work under pillar 2 on Job Search Clubs, which include a focus on the search for jobs in green sectors and occupations | F18: Pillar 1: EDUCATION AND LEARNING | G18: ILO, UNICEF | J18: 798657.38 | M18: =SUM(H18:L18) -> 798657.38 | N18: Amman, Zarqa, Marfraq, Irbid, and Balqa | O18: 2024-2027 | P18: HC & refugees | Q18: TVSDC, Public TVET providers | S18: Access to socio-economic opportunities
A19: 1.3.2 | B19: Expand work-based learning programs to target more HCs and Syrian refugees, with more engagement of private sector | C19: Aligned intervention | D19: MACP | E19: In Phase I, a model of WBL was implemented and benefited 350 job seekers from HC and refuges based on ILO principles and guidelines on WBL and apprenticeship. Phase II will support expanding WBL programs through additional pilots with the private sector, informing the development of a national framework for Work-Based Learning and apprenticeships. Phase II will build upon the partnerships and capacity-building efforts initiated in Phase I, collaborating with the NSSCs, chambers and implementing partners. Linking WBL to decent work, including social protection, will also be an area of focus. Efforts will be put in place with the Technical and Vocational Skills Development Commissions (TVSDC) for institutionalizing the WBL in Jordan through supporting the different pillars of WBL including training and certifying in-the-company trainers, accreditation of workplaces as training places, integrating youth rights at work and core skills for life and work in the WBL programs, establishing unified portfolio for designing and implementing WBL (program profiles, training plans, assessment tools, etc). ILO and UNICEF will investigate the possibility and practicality of using UNICEF's intervention on internship programmes (Intervention 1.9) as one of the pilots for the improved WBL system. | F19: Pillar 1: EDUCATION AND LEARNING | G19: ILO | J19: 1398657.4 | M19: =SUM(H19:L19) -> 1398657.4 | N19: Amman, Zarqa, Marfraq, Irbid, and Balqa | O19: 2024-2027 | P19: HC & refugees | Q19: TVSDC, Public TVET providers, NSSCs | S19: Access to socio-economic opportunities
A20: 1.3.4 | B20: Expand recognition of prior learning (RPL) to nationally accredit the skills and competencies of FDPs and HCs | C20: Aligned intervention | D20: MACP | E20: In Phase I, the ILO under the PROSPECTS partnership reached a key milestone in expanding RPL, where a national framework and implementation guide were developed for and endorsed by the TVSDC in addition to strengthening the RPL system for TVET in Jordan and building the national institutional capacities to implement inclusive RPL schemes. Prior to establishing the RPL framework, Phase I also implemented RPL programs for another 1,000 workers in construction sector. There is a need In Phase II, efforts will be put to standardize and pilot RPL under a new national system that will benefit more expand the RPL programs for more sectors and beneficiaries from HC and refugees in collaboration with the TVSDC, NSSCs, and TVET providers. UNICEF’s interventions on harmonization of TVET stakeholder and youth engagement (Interventions 1.3 & 1.4), and the UNHCR’s work on complementary pathways are of high potential to support the awareness and guidance on RPL among employers and job seekers (including Syrian refugees) as main building blocks of the endorsed RPL framework in Jordan. | F20: Pillar 1: EDUCATION AND LEARNING | G20: ILO, UNICEF, UNHCR | J20: 598657.38 | M20: =SUM(H20:L20) -> 598657.38 | N20: Amman, Zarqa, Marfraq, Irbid, and Balqa | O20: 2024-2027 | P20: HC & refugees | Q20: TVSDC, Public TVET providers, NSSCs | S20: Access to socio-economic opportunities
B21: Suppor refugee access to education | C21: Partner specific intervention | D21: MACP | E21: While education development donors adopted the one refugee approach and funded for the first-time non-Syrians learners' access to schools (fees and books), UNHCR will continue to support cash for education precisely for transportation to non-Syrians students since it is not included in donors support to avoid drop out among refugee children of other nationalities. | F21: Pillar 1: EDUCATION AND LEARNING | G21: UNHCR | M21: =SUM(H21:L21) -> 0
A22: 1.11 | B22: Jordan’s National School Feeding Program – Healthy Meals for Students | C22: Aligned intervention | D22: MACP | E22: This proposal focuses on the expansion and enhancement through innovation of Jordan’s National School Feeding Program (NSFP). It has 3 components: 1. Continuation of the Healthy Meal modality 2. Innovative Use of Traceability and 3. Provision of Technical Assistance to the Government to Ensure the Program’s Gradual Handover | F22: Pillar 1: EDUCATION AND LEARNING | G22: World Bank | K22: 4500000 | M22: =SUM(H22:L22) -> 4500000 | N22: 6 governorates in Jordan (Mafraq, Irbid, Madaba, Balqa, Karak and Tafeelah) including Zaatari and Azraq refugee camps | O22: 2024 - Dec 2025 | P22: 1. Vulnerable Jordanian and refugee students 2. Individuals working in preparing the meals | Q22: Ministry of Education, Ministry of Health, Ministry of Agriculture, Ministry of Social Development, Ministry of Planning | R22: WFP, Royal Health Awareness Society (RHAS) | S22: Access to basic services
A23: Pillar 2: ECONOMIC INCLUSION
A24: 2.1 | B24: Self-employment through entrepreneurship | C24: Aligned intervention | D24: MACP | E24: The proposed intervention will enhance the capacity of local organizations to offer and sustain technical and financial support to vulnerable young people, especially girls, to establish green and sustainable businesses that respond to local needs and that are integrated within local and international value chains. Through the latest innovations in agribusiness, including hydroponics, young people will receive theoretical and experimental learning opportunities that enable them to start, grow and sustain their enterprises. The aim is to increase local job opportunities in rural areas, expand local market inclusion, and expanding household economic security amongst targeted families. Efforts will be made in a multi-pronged manner to support refugees employment through the avaialble sectors as well as through home-based businesses and MSMEs. For refugees, the modality of work permit applied to most Syrians in Jordan is decoupled from an employer, thereby making the focus on the "self-employed," necessary for engaging with a large segment of the Syrian refugee work force. The added value of PROSPECT in this case, is to ensure that self-employment opportunities reach some of the most remote areas of the country, especially in the South, where levels of private sector development are very low, and few agencies are currently operating. In these areas, UNICEF is heavily present, strategically working through national partners that are rooted in and trusted by the local communities, including the most conservative ones. At the same time, responding to the need for localisation and creation of an enabling environment for vulnerable young people, UNICEF is building the capacity of these same partners, around delivering includive programmes and addressing the speciifc needs of the most vulnerable young people, especially young women, young refugees and young people with disability. Coordination with ILO and RDPP will also be pursued to share lessons learnt on localization in Jordan and consider possible future coordination | F24: Pillar 2: ECONOMIC INCLUSION | G24: UNICEF ILO WB UNHCR | H24: 1000000 | I24: 2380000 | J24: . | M24: =SUM(H24:L24) -> 3380000 | N24: All governorates | O24: 2024-2027 | P24: Refugees and Jordanian youth | Q24: Ministry of Youth, Ministry of Environment, Ministry of Agriculture | R24: ILO | S24: Access to socio-economic opportunities
A25: 2.1.2 | B25: Strengthen capacity of Ministry of Labour and national partners to monitor and follow-up with job seekers and placed workers | C25: Partner specific intervention | D25: MACP | E25: Career guidance and job matching services fall under the mandate of the Ministry of Labour. In Phase I of PROSPECTS, ILO and UNHCR both invested in career guidance both in terms of MOL capacity and the outreach of services to refugees. A complementary investment by the World Bank also operationalized a job search portal under MOL targeting Jordanians. There is a relatively strong process for identification of vacancies, referal of qualified job seekers and placements. Monitoring and following-up with job seekers and newly placed workers is, however weak. Using a number of tools, including tracer studies, ILO and partners will support the capacity of MOL and national partners to track the progress of job seekers and newly placed workers, and provide targeted support. While MOL employment services are directed to Jordanian host community workers, strengthened capacity on follow-up with job seekers will also engage other national entities, such as TVET training providers, where follow-up services are accessible for all. | F25: Pillar 2: ECONOMIC INCLUSION | G25: ILO | J25: 308657.38 | M25: =SUM(H25:L25) -> 308657.38 | N25: Nation wide | O25: 2024-2027 | P25: HC & refugees | Q25: MOL
A26: 2.1.3 | B26: Strengthen national labour market information systems (LMIS) to inform evidence based employmnt policies | C26: Aligned intervention | D26: MACP | E26: Labour Market Information Systems (LMIS) produce information and analysis for the development of evidence based labour market policies Jordan conducts routine labour force surveys and analysis, providing critical information on employment and decent work in the country. Making information available is a key priority to increase transparency and ground policy dialogue. The ILO will work together with the World Bank and the Department of Statistics to routinely publish summaries of labour market information. | F26: Pillar 2: ECONOMIC INCLUSION | G26: ILO, World Bank | J26: 0 | M26: =SUM(H26:L26) -> 0
A27: 2.1.3 | B27: Develop and pilot friendly and accessible methods of employment service delivery integrated into national systems | C27: Aligned intervention | D27: MACP | E27: In Phase I, ILO and the World Bank both supported Ministry of Labour to extend the outreach of employment services, whether through capacity building for employment service officers, or the addition of online modalities for delivery. ILO and World Bank will continue to support the delivery of employment services by introducing innovative methods to increase efficiency and effectiveness. This includes additional modules to the MOL online job matching platform and other digitial enablers that can be accessed by all workers, regardless of nationality or status. The ILO will also support the establishment of a national labour market information system (LMIS) to improve employment services and inform the analysis of labour market trends for evidence-based policy and decision making and job creation. | F27: Pillar 2: ECONOMIC INCLUSION | G27: ILO, UNHCR, WB | J27: 198657.38 | M27: =SUM(H27:L27) -> 198657.38 | N27: Nation wide | O27: 2024-2027 | P27: HC & refugees | Q27: MOL
A28: 2.1.5 | B28: Expand Job Search Clubs to other areas and sectors | C28: Collective intervention | D28: MACP | E28: Job Search Clubs were launched jointly between ILO and UNICEF in Phase I, providing over 1,400500 young people with peer-to-peer support and coaching throughout the job search process. The methodology was adapted to include a focus on jobs in occupations and sectors that support a just transition to a more sustainable and green economy. ILO and UNICEF will continue to work jointly with the Ministry of Youth, to expand the Clubs in phase II both geographically and by involving more institutions (including universities), while adapting the design of the clubs to offer multiple career pathways for young people, including referrals to market-relevant skills training (linkages with pillar 1), waged employment and to start their businesses in emerging sectors, especially in green and digital sectors. | F28: Pillar 2: ECONOMIC INCLUSION | G28: ILO, UNICEF | H28: TBD | J28: 698657.38 | M28: =SUM(H28:L28) -> 698657.38 | N28: All governotares and camps | O28: 2024 - 2026 | P28: SRY, JOR Youth Age group 18-26 | Q28: MOY | R28: TBD - VTC
A29: 2.1.6 | B29: Start Mashreq (Fully funded under Prospects 1.0) | C29: Partner specific intervention | D29: MACP | E29: Continue implementation of Start Mashreq. The initiative, and through partnership with Flat6Labs and new incubators / accelerators, will provide business support to high impact startups with potential to create jobs and facilitate private investments, with a focus on outreach to women, youth and FDPs. Ultimate goal is to build a pipeline of future, investment-ready entrepreneurs, and help startups generate follow-on financing by startups. This will be done through education, incubation, and acceleration support to startups and entrepreneurs using virtual (StartMashreq Platform) and face-to-face activities. | F29: Pillar 2: ECONOMIC INCLUSION | G29: IFC, leveraging support from ILO, UNICEF, UNHCR | L29: 2118000 | M29: =SUM(H29:L29) -> 2118000 | N29: Jordan with focus on Amman, Irbid and Zarqa | O29: 2024-2025 | P29: Entrepreneurs, including from FDP communities, and startups at ideation/pre-seed and seed stage | Q29: MoDEE (Ministry of Digital Economy and Entrepreneurship) | R29: Flat6Labs Amam Ventures | S29: Access to socio-economic opportunities
A30: 2.2 | B30: Skills for creative economy employment | C30: Aligned intervention | D30: MACP | E30: The proposed intervention aims to increase the breadth and depth of digitally enabled employment opportunities in the creative and gig economies while capitalizing on new innovations in technology for vulnerable young people, especially girls. | F30: Pillar 2: ECONOMIC INCLUSION | G30: UNICEF UNICEF ILO WB | H30: 1000000 | M30: =SUM(H30:L30) -> 1000000 | N30: All governorates | O30: 2024-2027 | P30: Refugees and Jordanian youth | Q30: Ministry of Digital Economy and Entrepreneurship | R30: ILO, UNHCR, WB | S30: Access to socio-economic opportunities
A31: 2.3 | B31: Developing entrepreneurship mindset through experiential learning | C31: Partner specific intervention | D31: MACP | E31: The proposed intervention aims to increase the capacity of formal and nonformal training providers to execute well researched experiential learning approaches that nurture entrepreneurial mindset with an emphasis on climate and WASH amongst vulnerable young people, especially girls. Under pillar 2, trainers will identify high performers that will be provided with more advanced entrepreneurship training and business coaching. These efforts will be further mainstreamed in Ministry of Youth (MOY) centers for sustainability and institutionalizing the programme across MoY incubators. | F31: Pillar 2: ECONOMIC INCLUSION | G31: UNICEF | H31: 1000000 | M31: =SUM(H31:L31) -> 1000000 | N31: All governorates | O31: 2024-2027 | P31: Refugees and Jordanian youth | Q31: Ministry of Youth | R31: ILO, UNHCR, WB | S31: Access to socio-economic opportunities
A32: 2.4 | B32: Evidenced based advocacy for policy change | C32: Aligned intervention | D32: MACP | E32: This proposed intervention will increase the utility of well researched evidence to mobilize a diverse range of actions to address labor market opportunities and threats that addresses underemployment of young people, especially girls (including exploitative child labor) in both public and private sectors. Data analysis based on UNHCR-WFP skills mapping will be conducted in collaboration with the WB. | F32: Pillar 2: ECONOMIC INCLUSION | G32: UNICEF ILO WB UNHCR | H32: 100000 | M32: =SUM(H32:L32) -> 100000 | N32: All governorates | O32: 2024-2027 | P32: Refugees and Jordanian youth | S32: Access to socio-economic opportunities
A33: 2.5 | B33: Advisory Services/ Irbid Municipality Fresh Market | C33: Collective intervention | D33: MACP | E33: IFC is exploring the possibility to support the Greater Irbid Municipality, through both Prospects Blended Finance and Advisory Services, to implement the first phase of the new Irbid Central Market for Vegetables and Fruits. The Municipality intends to relocate and expand the market from the current congested city center to a new, larger location, and adjacent to major international highways/trade routes. IFC plans to help finance the construction of wholesale shops of the new market, central refrigerators and administrative buildings as well as the access roads, utility networks and other supporting infrastructure. The proposed investment will be coupled with advisory services provided by IFC to, amongst others : (i) support with governance and E&S capacity building; and (ii) evaluate the opportunity to increase the energy efficiency of the market and to move from fossil fuel sources of energy (diesel generators currently used for cooling) to renewable energy sources, (iii) support the integration of the FDP community as part of the value chain of the new market. The proposed Project is expected to create jobs – for both host and FDP communities, improve green infrastructure and reduce congestion in Irbid , support agricultural trade and improve connectivity. | F33: Pillar 2: ECONOMIC INCLUSION | G33: IFC, leveraging support from UNHCR | L33: 900000 | M33: =SUM(H33:L33) -> 900000 | N33: Irbid Municipality | O33: 2024-2027 | P33: Youth, women, FDP in value chains and working force | Q33: MOPIC, Irbid Municipality | R33: TBD | S33: Access to socio-economic opportunities
A34: 2.5.1 | B34: Blended Finance Support/ Irbid Municipality Fresh Market | C34: Aligned intervention | D34: MACP | E34: IFC is exploring the possibility to support the Greater Irbid Municipality, through Prospects Blended Finance to implement the first phase of the new Irbid Central Market for Vegetables and Fruits. Concessional finance is key to improve the borrowing ability of the municipality under this project. | F34: Pillar 2: ECONOMIC INCLUSION | G34: IFC, WB, UNHCR | L34: 5000000 | M34: =SUM(H34:L34) -> 5000000 | N34: Irbid Municipality | O34: 2024-2027 | P34: Youth, women, FDP in value chains and working force | Q34: MOPIC, Irbid Municipality | R34: TBD | S34: Access to socio-economic opportunities
A35: 2.6 | B35: Manufacturing | C35: Partner specific intervention | D35: MACP | E35: IFC is exploring private sector partnership possibilities in key priority manufacturing sectors to support Jordan' Economic Moderization vision by helping attract new investment and export growth, create supportive conditions for vertical integration and help increase training and participation in supporting value chains and of workers, especially youth, women and FDPs. Key priority sectors include textiles, pharmaceuticals. | F35: Pillar 2: ECONOMIC INCLUSION | G35: IFC | L35: 400000 | M35: =SUM(H35:L35) -> 400000 | N35: Jordan, nation wide | O35: 2024-2027 | P35: Youth, women, FDP in value chains and working force | Q35: TBD | R35: TBD | S35: Access to socio-economic opportunities
A36: 2.7 | B36: Analytical work | C36: Aligned intervention | D36: MACP | E36: In support of the Economic Inclusion pillar, IFC aims to conduct jointly with other partners analytical work pertaining to key issues, such as labor intergration, market skills needs and FDP skills assessments in key geographical areas defined by size of FDP population and proximity to sizeable businesses and economic development areas. The goal is to improve absorption of FDPs by the market by matching available FDP skills with market skills needs. | F36: Pillar 2: ECONOMIC INCLUSION | G36: IFC with UNHCR and other Partners | L36: 420000 | M36: =SUM(H36:L36) -> 420000 | N36: Jordan, nationwide | O36: 2024-2027 | P36: Youth, women, FDPs to improve access to emplolyment opportunities | Q36: TBD | R36: TBD | S36: Access to socio-economic opportunities
A37: 2.2.1 | B37: Pilot an EIIP approach to green work initiatives water management, with a focus on agriculture | C37: Collective intervention | D37: MACP | E37: Water scarcity is a critical issue facing Jordan. Enhancing irrigation water availability for farmers, harvesting and saving water resources, soil conservation, maintenance and improvement of irrigation channels, and agriculture land reclamation are all important measures to ensure the ability to sustainably produce and consume in the medium and long term. Building on ILO's focus in phase I on the agriculture sector and leveraging its knowedge and expertise in implementing labour-based technologies through EIIP interventions in many countries around the world, including in Jordan, ILO under PROSPECTS Phase II will support complementary work in the country with focus on irrigation water use efficiency methods, soil conservation, and promote green works initiatives using an EIIP approach. These interventions will have two-fold objectives: i) to enhance water management in agricultural production; and ii) support short-term employment opportunities for Jordanians and Syrian refugees in the targeted areas through applying employment-intensive approaches. This aligns with the third results area of the Netherlands Multi Annual Country Strategy 2023 to 2026, namely under the priority on water for climate smart agriculture. The design of the interventions will be informed by the medium term impact of a number of EIIP irrigation works constructed under a Norway supported ILO project concluded in 2019 and will complement and build on the results of other ongoing ILO EIIP interventions being implemented in the agricuture and irrigation sectors, including under the flagship KFW funded project. The design will also entail further consultations with the World Bank to complement interventions under the Programme for Results. The consultation will also include support enhancing occupational safety and health and addressing child labour in the sector which was intitaited in second half of 2023. Phase II will investigate the optimal model for Jordan to connect the EIIP and skills pillars based on the work started in Phase I in Iraq. The EIIP activities might be used as post-training support for job placement and employment opportunities for graduates of the skills training programmes, or skills training such as vocational training and work-based learning (WBL) could be integrated into the EIIP activities. | F37: Pillar 2: ECONOMIC INCLUSION | G37: ILO, World Bank | J37: 2386860.4 | M37: =SUM(H37:L37) -> 2386860.4 | N37: Nation wide | O37: 2024 - 2027 | P37: HC & refugees | Q37: MOA, JCC, MOL
A38: 2.3.1 | B38: Provide institutional capacity building and support for implementation of the National Cooperative Strategy in line with international standards and ILO's Recommendation 193. | C38: Aligned intervention | D38: MACP | E38: In Phase I, ILO invested in the support to the development of the National Cooperatives Strategy and the implementation of some of its recommendations, including the amendments to the Cooperatives Law and capacity building to the Jordan Cooperative Corporation (JCC) and other NGO entities supporting cooperatives and their members. In Phase II, ILO will continue providing technical support to the legislative amendments, capacity building of JCC to digitize some of their services and be better equipped to train cooperatives on ILO cooperatives development and mangement tools, and advocating for making cooperatives play a more prominent role in promoting local socio-economic development and decent work for Jordanians and Syrian refugees. ILO will continue to build on the capacity of national and international organizations that have also been trained on its tools, in order to support a more reslient cooperative movement in Jordan. | F38: Pillar 2: ECONOMIC INCLUSION | G38: ILO, World Bank | J38: 198657.38 | M38: =SUM(H38:L38) -> 198657.38 | N38: Nation wide | O38: 2024 - 2027 | Q38: MOA, JCC, ecocnomic and scoial council
A39: 2.3.2 | B39: Support MSMEs to increase productivity and job creation potential, and improve working conditions | C39: Aligned intervention | D39: MACP | E39: Building on a strong partnership with the Jordan Chamber of Industry, ILO will help expand national partners to Chamber's support to MSMEs with a view to target increased productivity job creation, and working conditions. Informed by ILO studies conducted through the Jordan Chamber of Industry (JCI) JCI study on productivity conducted with ILO's techincal support in 2022/2023, interventions in phase 2 will include a mix of capacity building support to national partners, including JCI and other employers' organizations representatives on ILO tools, fostering triparite social dialogue at the sectoral level on means to enhance productivity, as well as direct technical and financial support to new and existing MSMEs in selected sectors, including on the application of ILO tools (such as Start and Improve Your Business and SCORE) and skills improvement (linkages with pillar 1). ILO and UNICEF will investigate the possibility to include young people, especially girls, to establish green and sustainable businesses (UNICEF 2.1). Support will also address challenges related to market access (domestic, regional and international markets). A number of criteria will be defined in the selection of the sector in terms of sectors with high contribution to GDP/with potentail for increased contribution to GDP, potential for increased job creation, including for youth, where Syrian refugees currently work, decent work deficits, and skills gaps. | F39: Pillar 2: ECONOMIC INCLUSION | G39: ILO | J39: 549723.34 | M39: =SUM(H39:L39) -> 549723.34 | N39: Project governorates | O39: 2024 - 2027 | P39: MSMEs | R39: JCI TBD - Gov. Chambers
A40: 2.3.3 | B40: Provide technical support and enhance access to finance for cooperatives, MSMEs and social enterprise initatives in selected sectors. | C40: Aligned intervention | D40: MACP | E40: Building on Phase I initatives to support local productivity and decent work in the agricuture sector and related value chains, this intervention will provide technical and financial support to local initatives that respond to social issues and local needs across specific value chains in the sector. Following sensitization and training on the concept of the Social Solidarity Economy and the ILO cooperatives principles and tools, and competitive selection, ILO will support the development and implementation of local initiatives, including climate smart agriculture initiatives that aim to promote livelihoods and employment opportunities for Jordanians and Syrian refugees in the tageted geographic areas and have a positive social impact on the community as a whole. ILO and UNICEF will support cooperatives, including those established by youth, with initiatives to establish green and sustainable businesses (UNICEF 2.1) | F40: Pillar 2: ECONOMIC INCLUSION | G40: ILO, UNICEF | J40: 1198657.4 | M40: =SUM(H40:L40) -> 1198657.4 | N40: Nation wide | O40: 2024 - 2027 | Q40: MOA,JCC, ACC, NARC
...

Sheet Tab 3 Policy Matrix
A1: Policy Priorities | B1: Key challenges | C1: Key milestones | D1: Key stakeholders | E1: Support through programming
A2: #1 Policy priority Education and learning linked to the job market | B2: The 2022 MOE-UNICEF National Diagnostic Assessment (NDA) found that many students lack understanding of Arabic and basic mathematical concepts that underpin higher level learning. Without a national gender responsive prevention and retention strategy, and a coordinated action plan, drop out will continue to increase due to high-risk of negative coping mechanisms including child labour and child marriage. In Jordan, there is a trend towards an under-skilled, yet over-educated population, with post-secondary graduates having gender skewed lower employment rates than those with only a secondary education. Low levels of voice and accountability towards citizens, including adolescents and youth. Young people have limited opportunities to engage in policy and advocacy making processes on important issues that directly affect them. While the Government of Jordan generously permits refugees to access local schools, the quality is limited due to infrastructure challenges and overwhelmed human resources which has led to the adoption of double-shift system to accommodate large number of refugee children. 86.6% of Syrian children attend grades 1 to 10, but the drop-out rate at secondary level is high and just 30% attend grades 11 and 12. UNHCR estimates that less than 10% of university aged refugees are enrolled in tertiary education in Jordan. Additionally, food insecurity is a key barrier to educational outcomes and is strongly associated with school attendance, highlighting its importane to Jordan's education context. This is also supported by evidence indicating that poor, vulnerable, and refugee children often had insufficient nutrition which was associated with lower school attendance and performance. | C2: Lessons learned from school-level programming leads to national discussions on the effectiveness and impact of empowering schools to become more accountable for learning, well-being and inclusion of all children and adolescents in basic schools. Field directorates and schools are using learning and retention data to become more accountable for the well-being and learning of boys and girls aged 10 and above in the most vulnerable areas of Jordan and in the Syrian refugee camps. Coordinated outreach to share accurate information on the availability of scholarships, including Technical Vocational Educational Training (TVET) and other educational certificates, upskilling programs and programs that facilitates access to higher education and labour market. National Youth Strategy is operationalized and monitored with youth people’s engagement Reflection of refugee data in National Education Management Information System (EMIS/SIS) BY 2025, refugees access to inclusive and quality education under the national education systems as well as the completion of education with relevant skills locally and through enhanced use of complementary pathways. NSFP is jointly implemented and funded by the Ministry of Education and WFP but is designed to be fully handed over to the government by 2027. | D2: Ministry of Education and DOE staff Ministry of Education teachers, Ministry of Youth, Refugee and Jordanian Youth, TVET providers, WFP | E2: UNICEF will implement the Teacher of the Future programme through field directorates and schools. UNICEF will contribute to research on out-of-school children to inform national policy and programmes; support the Ministry of Education to develop a national and cross sectoral Drop-Out Prevention and Retention Strategy; and pilot prevention of drop-out intervention(s). UNICEF will deliver its Reading Recovery programme in camp schools and non-formal education centres (2024 only). UNICEF will continue to support school leadership in camps with school improvement/development planning. The NSFP addresses food insecurity and malnutrition as a barrier to education in order to reduce inequality affecting poor and vulnerable children. WB will focus on the expansion and enhancement of Jordan's National School Feeding Program to support children's access to education and their school performance.
A3: Suggest include an overall policy priority on participation, communication and transparency and equal access to rights, opportunities and services for women, girls, men and boys of all backgrounds, including people with disabilities and other marginalized groups beyond education. Then, speficific focus to certain population groups should be included across all other policy priorities | B3: Comments | C3: Comments | D3: Comments | E3: Comments
