Workbook
Name _Hlk88571830: 'Tab 5 Multi-annual targets '!#REF!
Name _Hlk95981819: 'Tab 5 Multi-annual targets '!#REF!
Name _Hlk96267063: 'Tab 5 Multi-annual targets '!#REF!
Name _Hlk96267083: 'Tab 5 Multi-annual targets '!#REF!
Name _Int_joejLXOw: 'Tab 5 Multi-annual targets '!#REF!
Name _Toc1343095740: 'Tab 5 Multi-annual targets '!#REF!
Name _Toc369500605: 'Tab 5 Multi-annual targets '!#REF!
Name _Toc512764507: 'Tab 5 Multi-annual targets '!#REF!
Name _Toc632574498: 'Tab 5 Multi-annual targets '!#REF!
Name _Toc872994150: 'Tab 5 Multi-annual targets '!#REF!
Name _Toc919062024: 'Tab 5 Multi-annual targets '!#REF!

Sheet Tab 1 Budget summary
B3: Table 1: Total budget MACP USD | E3: Table 5: Total Budget OF USD | G3: `
B4: Organization | C4: Total (2024-2027) | E4: Organization | F4: Total (2024-2027)
B5: UNHCR | C5: ='Tab 2 Programme Portfolio'!B135 -> 10018797 | E5: UNHCR | F5: =SUM(F15+F25) -> 0
B6: UNICEF (Total cost) | C6: =SUM(C16+C27+C36+C17) -> 15312998 | E6: UNICEF | F6: =SUM(F16+F26+F35) -> 0
B7: ILO | C7: =C18+C28+C37 -> 11804878 | E7: ILO | F7: =SUM(F17+F27+F36) -> 0
B8: World Bank | C8: =SUM(C19+C29) -> 16500000 | E8: World Bank | F8: =SUM(F18+F28) -> 0
B9: IFC | C9: =C20+C30 -> 9673405 | E9: IFC | F9: 0
B10: Total | C10: =SUM(C5:C9) -> 63310078 | E10: Total | F10: =SUM(F5:F9) -> 0
B13: Table 2: Total Activity Costs MACP USD | E13: Table 6: Total activity costs OF USD
B14: Organization | C14: Total (2024-2027) | E14: Organization | F14: Total (2024-2027)
B15: UNHCR | C15: ='Tab 2 Programme Portfolio'!B135 -> 10018797 | E15: UNHCR | F15: ='Tab 2 Programme Portfolio'!E135 -> 0
B16: UNICEF | C16: ='Tab 2 Programme Portfolio'!B136 -> 13196020 | E16: UNICEF | F16: ='Tab 2 Programme Portfolio'!E136 -> 0
B17: UNICEF (x-sectoral 6%) | C17: ='Tab 2 Programme Portfolio'!H128 -> 842299.2 | E17: ILO | F17: ='Tab 2 Programme Portfolio'!E137 -> 0
B18: ILO | C18: ='Tab 2 Programme Portfolio'!B137 -> 10343361 | E18: World Bank | F18: ='Tab 2 Programme Portfolio'!E138 -> 0
B19: World Bank | C19: ='Tab 2 Programme Portfolio'!B138 -> 16500000 | E19: IFC | F19: ='Tab 2 Programme Portfolio'!E139 -> 0
B20: IFC | C20: ='Tab 2 Programme Portfolio'!B139 -> 9673405 | E20: Total | F20: =SUM(F15:F19) -> 0
B21: Total | C21: =SUM(C15:C20) -> 60573882
E23: Table 7: Indirect recovery costs OF USD - optional
B24: Table 3: Indirect recovery costs MACP USD - optional | E24: Organization | F24: Total (2024-2027)
B25: Organization | C25: Total (2024-2027) | E25: UNHCR | F25: 0
B26: UNHCR | C26: =C15*6.5% -> 651221.81 | E26: UNICEF | F26: 0
B27: UNICEF | C27: =(C16+C17)*8% -> 1123065.5 | E27: ILO | F27: 0
B28: ILO | C28: 1344636.9 | E28: World Bank | F28: 0
B29: World Bank | C29: 0 | E29: IFC | F29: 0
B30: IFC | E30: Total | F30: =SUM(F25:F29) -> 0
B31: Total | C31: =SUM(C26:C30) -> 3118924.3
E33: Table 8: UN Levy costs OF USD
B34: Table 4: UN Levy costs MACP USD | E34: Organization | F34: Total (2024-2027)
B35: Organization | C35: Total (2024-2027) | E35: UNICEF | F35: 0
B36: UNICEF | C36: =(C16+C17+C27)*1% -> 151613.85 | E36: ILO | F36: 0
B37: ILO | C37: =(C18+C28)*1% -> 116879.98 | E37: Total | F37: =SUM(F35:F36) -> 0
B38: Total | C38: =SUM(C36:C37) -> 268493.82

Sheet Tab 2 Programme Portfolio
A1: Reference | B1: Title of Intervention | C1: Type of intervention | D1: MACP or OF | E1: Short description of Intervention | F1: Pillar | G1: Participating Partners (PROSPECTS only) | H1: UNICEF Budget (if applicable) | I1: UNHCR Budget (if applicable) | J1: ILO Budget (if applicable) | K1: WB Budget (if applicable) | L1: IFC Budget (if applicable) | M1: Total budget (= multi-annual) | N1: Geographic area | O1: Implementation period | P1: Target group | Q1: Government Counterparts | R1: Other implementing organizations | S1: Contribution to ToC Outcomes | T1: Other relevant information
A2: Mid-term Outcome 1: Increased Access of FDPs And HCs To Quality Education, Skills and Learning Opportunities
A3: Short-term Outcome 1.1: Increased national capacity to deliver quality education and vocational training (Ethiopia’s pledges on TVET) | H3: =SUM(H4:H22) -> 3562361.8
B4: Structured Capacity Development to Promote Inclusive and Safe Schools | C4: Collective intervention | D4: MACP | E4: The intervention aims to strengthen the capacity of educators, teachers and students by promoting a protective school environment in refugee hosting locations (This will include training teachers and educators on basic MHPSS and child protection and awareness raising to increase children’s knowledge on sexual abuse and exploitation and how to protect themselves, life and social skills activities, student-led adolescent violence prevention initiatives etc, through school clubs.) | F4: Pillar 1: EDUCATION AND LEARNING | G4: UNHCR, UNICEF | H4: 0 | I4: 100000 | J4: 0 | K4: 0 | L4: 0 | M4: =SUM(H4:L4) -> 100000 | N4: All refugee primary schools. | O4: 2024-2027 | P4: Educators Teachers Students | Q4: RRS Woreda Education Officers | S4: Access to basic services | T4: Safe, protective and inclusive schools for refugee and host community children. Child and adolescent empowerment for child protection
B5: Technical and Financial Support to the Ministry of Education-led the Accelerated Education Technical Working Group to develop the Accelerated Education Curricula, Guidelines and Program aligned to the Revised General Education Curriculum and TVET curricula and market needs. | C5: Collective intervention | D5: MACP | E5: The proposed intervention aims to strengthen the institutional capacity of the Federal Ministry of Education and the sector to deliver quality Accelerated Education Programs (AEPs), ensuring that AEPs are harmonized and aligned to the revised General Education Curriculum. This work will include technical, financial, and operational support to the Ministry of Education-led Accelerated Education Technical Working Group designed to expand Alternative Pathways to Education, through Quality and Demand-Driven Non-Formal Education linked to TVET and market needs. Once developed, the AEPs will contribute to increased opportunities for over-aged and out of school learners from forcibly displaced and host communities to acquire quality education through alternative pathways and increase upward mobility within and out of the education system. | F5: Pillar 1: EDUCATION AND LEARNING (1.1a) | G5: UNHCR, UNICEF& ILO | H5: =186000- (186000*6.5%) -> 173910 | I5: 0 | J5: 0 | K5: 0 | L5: 0 | M5: =SUM(H5:L5) -> 173910 | N5: Addis Ababa, Afar, Amhara, and Somali Regions | O5: 2024-2026 | P5: Out of School Learners from Forcbly Displaced Popluations and Host Communities. | Q5: Federal Ministry of Education, Regional Education Bureau's(REBs), Members of the Education in Emergencies Cluster, Colleges of Teacher Education (CTEs), Woreda Education Offices and RRS as an important stakeholder. | S5: Access to basic services
B6: Strengthening workforce development, capacity building, and continuous professional development (CPD) aligned to the new curriculum and Teacher Education Curriculum Framework (TECF) for ECE, primary and secondary education teachers, and instructional leaders in communities hosting FDPs. | C6: Collective intervention | D6: MACP | E6: This intervention, which consists of three interrelated activities- workforce development for youth paraprofessionals to support the expansion of ECE education in communities hosting FDPs as well as capacity building and continuous professional development for teachers in targeted schools- will focus on enhancing teacher effectiveness through innovations in teaching practices. It will help equip teachers with improved pedagogical skills such as learner-centered teaching approaches and classroom management, digital skills, financial literacy, and improved awareness and knowledge of teacher professional standards as well as critical issues such as Mental Health and Psychosocial Support (MHPSS), peacebuilding, and child protection. | F6: Pillar 1: EDUCATION AND LEARNING (1.1a) | G6: UNHCR, UNICEF | H6: =465000-(465000*6.5%) -> 434775 | I6: 0 | J6: 0 | K6: 0 | L6: 0 | M6: =SUM(H6:L6) -> 434775 | N6: Addis Ababa, Afar, Amhara, and Somali Regions | O6: 2024-2027 | P6: Youth and Teachers from Forcbly Displaced Popluations and Host Communities. | Q6: Federal Ministry of Education, Regional Education Bureau's(REBs), Colleges of Teacher Education (CTEs), Woreda Education Offices, Ministry of Women and Social Affairs, and RRS as an important stakeholder. | S6: Access to basic services
B7: Education Quality Improvement intervention | C7: Partner specific intervention | D7: MACP | E7: The primary goal of component one should be to increase teacher effectiveness by offering thorough capacity-building training programs that are undertaken in collaboration with TVET colleges and are based on the demand for training and capacity-building programs. With the help of the capacity-building intervention, teachers and educators will be better prepared to meet the special requirements of those who have been forcibly displaced and the host communities. The ILO will assist TVET providers in the targeted locations to enhance their short-term training curricula so that they can provide the necessary quality training to forcibly displaced persons and host communities. For UNICEF, the proposed intervention aims to strengthen the institutional capacity of the Federal Ministry of Education and the sector to deliver quality Accelerated Education Programs (AEPs), ensuring that AEPs are harmonized and aligned to the revised General Education Curriculum. This work will include technical, financial, and operational support to the Ministry of Education-led Accelerated Education Technical Working Group designed to expand Alternative Pathways to Education, through Quality and Demand-Driven Non-Formal Education linked to TVET and market needs. | F7: Pillar 1: EDUCATION AND LEARNING | G7: ILO, UNICEF | H7: =372000-(372000*6.5%) -> 347820 | I7: 0 | J7: 1000000 | K7: 0 | L7: 0 | M7: 5,000,000.00 | N7: Province 1, municipality x | O7: 2024-2025 | P7: Teachers in grades 1–12, Students in grades 1-12, Sector staff members, TVET Teachers | Q7: Ministry of Education and Research, municipalities of X and Y. TVET colleges, Ministry of Labour and Skill | R7: Local NGO'S | S7: Access to basic services | U7: SKILLS
B8: National Youth Policy | C8: Collective intervention | D8: MACP | E8: ILO will support the Ministry of Women and Social Affairs to revise the National Youth Volunteer Policy to incorporate the refugee issues in the national youth volunteer policy. Refugees and relevant government and non-governmental organizations will be involved in consultations | F8: Pillar 1: EDUCATION AND LEARNING | G8: ILO | H8: 0 | I8: 0 | J8: 52361 | K8: 0 | L8: 0 | M8: 0 | O8: 2024-2025 | P8: Government, parliament and policy makers | Q8: Ministry of Women and Social Affairs | R8: CSOS/NGOS | S8: Access to rights | T8: National level policy outcome | U8: YOUTH
B9: Digital Skill training | C9: Collective intervention | D9: MACP | E9: ILO will deliver digital skill training through the ILO Digital Innovation Hubs. ILO will deliver short term and long term training opportunities to promote digital skills which will lead to digital livelihood. | F9: Pillar 1: EDUCATION AND LEARNING | G9: ILO | H9: 0 | I9: 0 | J9: 200000 | K9: 0 | L9: 0 | M9: 200000 | O9: 2024-2027 | P9: Forcibility displaced people and host communities for digital skill | Q9: Ministry of Innovation and Technology, regional Bureaus, higher learning institutions and TVT | R9: CSOS/NGOS | S9: Access to basic services | T9: Digital skill development activity | U9: DIGITAL
B10: Support the Ministry of Education and regional education bureaus in establishing ICT labs in selected learning institutions in Addis Ababa, Afar and Somali | C10: Aligned intervention | D10: MACP | E10: This is a joint program implemented by WASH and Education. This program will support the ministry of education and regional education bureaus in establishing information communication technology (ICT) laboratories in selected learning institutions in Addis Ababa, Afar and Somali to create job employment opportunities for the youths. UNICEF will support selected schools to set up ICT labs with the installation of computers, internet connection and solar power systems. The ICT labs will be powered by solar, which is more sustainable and with low operating costs and also as part of climate resilience programming. The program will target the youths who will be employed to work in the ICT labs and besides the new labs will also provide new learning opportunities for the transferrable, entrepreneurial and vocational youth life skills to the young children and youth in the targeted institutions. | F10: Pillar 1: EDUCATION AND LEARNING | G10: UNICEF | H10: =230000-(230000*6.5%) -> 215050 | I10: 0 | J10: 0 | K10: 0 | L10: 0 | M10: =SUM(H10:L10) -> 215050 | N10: Addis Ababa, Afar and Somali | O10: 2024-2027 | P10: Forcefully displaced populations (FDPs) and host communities | Q10: Ministry of Education, Ministry of Water, Regional Education Bureaus and Regional Water Bureaus | S10: Access to rights
A11: Short-term Outcome 1.2: More FDPs and HCs enrolled and retained in formal and non-formal education at primary and secondary levels (integration into public schooling systems) | I11: =I12+I13+I14+I15 -> 680000
B12: Facilitating access to education through a "cash voucher initiative" for refugee girls in secondary education | C12: Aligned intervention | D12: MACP | E12: The intervention aims to sustain a "cash voucher initiative"provided to girls through provision of school materials including sanitary kits to support increased girls access, attendance and retention in secondary education. | F12: Pillar 1: EDUCATION AND LEARNING | G12: UNHCR | H12: 0 | I12: 40000 | J12: 0 | K12: 0 | L12: 0 | M12: =SUM(H12:L12) -> 40000 | N12: Melkadida | O12: 2024-2027 | P12: Refugees | Q12: Woreda Education Offices of Bokolmanyo and Dollo Ado | R12: Save the Children | S12: Access to basic services | T12: 400 refugee girls in secondary schools benefitting from a cash voucher school materials including sanitary kits of US $ 100 per academic year to enhnce enrolment, attendnce and retention @ 100 girl's per year for 4 years.
B13: Education Quality Improvement intervention | C13: Collective intervention | D13: MACP | E13: To complement the World Bank IDA19 and IDA20 funding on transition of refugee secondary schools to the national education system, 4 refugee secondary schools will be transfered to the Somali Regional Education Bureau administration and management, thereby doing away with the parallel education system for refugees and enhancing inclusion of refugees into the national education system. | F13: Pillar 1: EDUCATION AND LEARNING | G13: UNHCR | H13: 0 | I13: 600000 | J13: 0 | K13: 0 | L13: 0 | M13: =SUM(H13:L13) -> 600000 | N13: Refugee locations of (Jijiga and Melkadida) in Somali region | O13: 2024-2025 | P13: Refugee and Host Community children | Q13: Ministry of Education at Federal level, Ministry of Finance at Federal level, Regional Education Bureau's(REBs) at regional level and Woreda Education Offices at local level. RRS is also key in monitoring and coordination. | R13: DICAC and REB's for Secondary | S13: Access to basic services | T13: Staffing requirements for the 4 refugee schools will be met and will ensure that teachers are fully integrated into the national education system at par wth national salary scales. This will be for a stipulated period of time until a sustainable funding mechanism is put in place to support the Government's takeover of the payment of teachers’ salaries. The total number of teachers proposed under this project are 80 national teachers (20 teachers per school), that are fully trained by the Government and certified as professional secondary school teachers.
B14: Education Quality Improvement intervention | C14: Aligned intervention | D14: MACP | E14: Ethiopia commited at the highest levels to work towards including refugees into the national education system. To complement this pledges, its is anticipated that 13 refugee secondary schools will be transfered to the Regional Education Bureaus by 2025. Refugee primary school management will also be transitioned from RRS (by end of 2023) to NGOs (2024-2026) and subsequently to the Regional Educatin Bureaus by 2027. To ensure a smooth transition, a Refugee Expert will be seconded to the Regional Education Bureau to support the Somali region. Note: The World Bank has already seconded refugee technical experts in the Gambella and Benishangul-Gumuz regions. | F14: Pillar 1: EDUCATION AND LEARNING | G14: UNHCR, UNICEF | H14: 0 | I14: 40000 | J14: 0 | K14: 0 | L14: 0 | M14: =SUM(H14:L14) -> 40000 | N14: Somali region | O14: 2024-2027 | P14: Refugee and Host Community children | Q14: Ministry of Education at Federal level, Ministry of Finance at Federal level, Regional Education Bureau's(REBs) at regional level and Woreda Education Offices at local level. RRS is also key in monitoring and coordination. | R14: WB, UNICEF | S14: Access to basic services | T14: Staffing costs for refugee expert with Education Bureau
B15: Building and upgrading of secondary schools to increase access and enhance FDP and Host community integration and social cohesion. | C15: Collective intervention | D15: MACP | E15: The proposed intervention aims to address the critical shortage of school infrastructure and improve the quality of the physical learning environment, ensuring that the school has increased capacity to enroll more learners by providing a physical environment that is safe, nonviolent, and inclusive for all learners, including learners disability and girls from both forcibly displaced and host communities. The expansion will provide new facilities that include Classroom Blocks (4 classrooms with capacity of 50 learners) to expand the capacity of the school to enroll learners from both FDPs and HCs; latrines and a Menstrual Hygiene and Health (MHH) Center which will also be the home of the MHH Club for adolescent girls and boys to learn together about menstruation, personal hygiene, hand washing and health as well as effective communication skills, which will enable them to deliver key hygiene messages to other students within the school. | F15: Pillar 1: EDUCATION AND LEARNING(1.2) | G15: UNICEF | H15: =613000-(613000*6.5%) -> 573155 | I15: 0 | J15: 0 | K15: 0 | L15: 0 | M15: Alemwach (Amhara Region) | N15: 2024-2027 | O15: Learners from Forcbly Displaced Popluations and Host Communities. | P15: Refugees and Returnees Service (RRS) Regional Education Bureau and Woreda Education Officers; and Ministry of Women and Social Affairs. | R15: Access to basic services
A16: Short-term Outcome 1.3: More FDPs and HCs access occupational relevant skills and skills recognition for transition to work (Demand driven labor markets)
B17: Technical and Vocational Skills Training Programmes (TVET) | C17: Collective intervention | D17: MACP | E17: 750 beneficiaries will be supported to access TVET Education (To contribute towards the government pledge of providing quality and accredited skills training to 20,000 people by 2024, so far 13,668 individuals have been reached). Government TVET colleges in 3 regions will be suported to offer accredited courses. This will also include policy level engagements with GIZ - QEP on inclusion of refugees into national TVET systems. | F17: Pillar 1: EDUCATION AND LEARNING | G17: UNHCR, ILO | H17: 0 | I17: 300000 | J17: 0 | K17: 0 | L17: 0 | M17: =SUM(H17:L17) -> 300000 | N17: Refugee locations of (Jijiga and Melkadida in Somali region and (Alemwach) in Amhara region, Addis Ababa. | O17: 2024 -2025 | P17: Refugee and Host Community children | Q17: Ministry of Labour and Skills Training (MoLS) , RRS and Regional and Woreda level TVET colleges | R17: DICAC, NRC, FRC, and IRC, GIZ-QEP, | S17: Access to basic services | T17: The intervention will focus on engagement with existing TVET colleges in Jijiga, Dollo Ado and Amhara to provide accreditated TVET training for the refugees and the host community. The taget will be 750 for for 4 years at US $ 400 per TVET trainee for a full 6 months training course.
B18: Development and Operationalization of an Integrated Online and Offline Skills Training Program for Young People in schools and communities from FDPs and HCs. | C18: Aligned Intervention | D18: MACP | E18: This intervention is intended to sustainably operationalize the quality Accelerated Education Programs, Non-Formal and Informal skills training programs aligned to the national General Education curricula, accredited TVET programs and market needs, ensuring that FDPs and HCs have increased access to learning to earning opportunities. Specifically, UNICEF will leverage and support young people's clubs in schools and community centers in refugee-hosting target regions as a platform to implement demand-driven short-term, but high-quality AEPs, Non-Formal and informal skills development programs, including global training packages/modules tailored to local contexts as well as mentorships, and career guidance opportunities to help young people acquire basic numeracy and literacy skills as well as transferable skills necessary to learn, earn, connect, engage meaningfully and speak out on issues that affect and matter to them. To harness the opportunities of digital transformation, in line with the recently launched and UNICEF-supported Digital Education Strategy and Implementation Plan (2023-2028), the intervention will support access to digital skills for learners. To that end, UNICEF will also facilitate Mentorships on Digital Earning Opportunities, Technology Entrepreneurship, and link youth to One Stop Service Centers and Coding Boot-Camps and high-value technology & creative careers. UNICEF's monthly Peer-to-Peer Learning events, will help connect young people to each other, decision-makers, influencers and leaders. | F18: Pillar 1: EDUCATION AND LEARNING(1.3a) | G18: UNICEF | H18: =(1675000-(1675000*6.5%))+96982.8-51156 -> 1611951.8 | J18: 0 | K18: 0 | L18: 0 | M18: =SUM(H18:L18) -> 1611951.8 | N18: Addis Ababa, Afar, Amhara, and Somali Regions | O18: 2024-2027 | P18: Out of School Learners from Forcbly Displaced Popluations and Host Communities. | Q18: Federal Ministry of Education, Regional Education Bureau's(REBs), Colleges of Teacher Education (CTEs), Woreda Education Offices, Ministry of Women and Social Affairs, Ministry of Labour and Skills(MoLS), and RRS. | R18: Youth-Led Organizations | S18: Access to basic services
B19: Development and implementation of the Catalyst Fellowship for Change Makers- a work-based learning opportunity at UNICEF for youth leaders. | C19: Aligned Intervention | D19: MACP | E19: This intervention aims to provide fellowships and work-based learning opportunities for young people, including those ‘on the move,’ to scale up their social innovations, actions, and impact. Building on its support to clubs in schools and communities as well as peer-to-peer learning opportunities, UNICEF will provide youth leaders and founders of youth-led organizations with opportunities to build essential skills, capacities, and the social capital necessary to scale up their social innovations, actions, and impact. Fellows will undergo UNICEF-supported capacity building trainings and mentorships by UNICEF staff and other experts on various demand-driven issues, including resource mobilization for start-up organizations, social media management, as well as social issues such as human rights, climate change, positive civic engagement, and active citizenship. They will shadow staff for short periods of time, participate in various meetings related to their interests. Participating in the fellowship program will help connect youth to resources, ensuring that they enhance their work skills, develop their career goals, allow them to establish invaluable connections, and provide them with an opportunity to pursue their career goals. | F19: Pillar 1: EDUCATION AND LEARNING (1.3b) | G19: UNICEF | H19: =220000-(220000*6.5%) -> 205700 | I19: 0 | J19: 0 | K19: 0 | L19: 0 | M19: =SUM(H19:L19) -> 205700 | N19: Addis Ababa, Afar, Amhara, and Somali Regions | O19: 2024-2027 | P19: Youth Leaders from Forcbly Displaced Popluations and Host Communities. | Q19: Ministry of Labour and Skills(MoLS), Ministry of Innovation and Technology; Ministry of Agriculture; Ministry of Women and Social Affairs, and RRS. | R19: Youth-Led Organizations | S19: Access to basic services
B20: Work-place training | C20: Partner specific intervention | D20: MACP | E20: In PROSPECTS Phase II, the focus will be on offering industry-specific training, which will lead to employment or wage employment. To ensure sustainable outcomes, agreements will be formed to transfer the responsibility of providing continuous on-the-job training opportunities to an appropriate entity capable of serving forcibly displaced persons (FDPs) and the host community. | F20: Pillar 1: EDUCATION AND LEARNING | G20: ILO | H20: 0 | I20: 0 | J20: 750000 | K20: 0 | L20: 0 | M20: 750000 | N20: Amhara and Somali region | O20: 2024-2027 | Q20: Industries, Enterprizes, regional TVET Bureau | S20: Access to socio-economic opportunities | U20: SKILLS
B21: Recognition of prior learing | C21: Partner specific intervention | D21: MACP | E21: Another intervention to be considered in PROSPECTS II that contributes to STO 1.2 will be “Recognition of Prior Learning” to facilitate the integration of FDP and HC into formal education systems and the job market. ILO/ PROSPECTS will work to establish mechanisms to recognize and certify the skills and knowledge acquired by forcibly displaced individuals through prior education and work experience | F21: Pillar 1: EDUCATION AND LEARNING | G21: ILO | H21: 0 | I21: 0 | J21: 250000 | K21: 0 | L21: 0 | M21: 250000 | N21: Amhara and Somali region | O21: 2024- 2027 | P21: Refugee, IDP'S and Host communities | Q21: Minstry of Labour and skill, TVET colleges in Somali and Amhara region | R21: CSOS/NGOS | S21: Access to socio-economic opportunities | U21: SKILLS
B22: Digital livelihood and internship | C22: Collective intervention | D22: MACP | E22: ILO will provide co-workign space at the ILO Digital Innovation Hub to promote digital livelihood. ILO will expand its intervention in the IT Park to create internship and job opportunities for digitally skilled forcibly displaced people and host communities. The targets of this intervention on internship placement will be urban refugee and host communities having recently graduated from TVET or other higher learning institutions. The project will target skilled and advanced digital workers from refugees and host communities. | F22: Pilar 2 ECONOMIC INCLUSION | G22: ILO | H22: 0 | I22: 0 | J22: 300000 | K22: 0 | L22: 0 | M22: 300000 | O22: 2024-2027 | P22: Digitally skilled forcibly displaced people and host communities. | Q22: Ministry of Innovation and Technology Information Technology Park | R22: CSOS, British Council | S22: Access to socio-economic opportunities | T22: Decent work in digital economy | U22: DIGITAL
A23: Pillar 2: ECONOMIC INCLUSION
A24: Mid-term Outcome 2: Improved Livelihoods and Expanded Economic Opportunities for FDPs and HCs
A25: Short-term Outcome 2.1: Improved labor market governance supporting transition to and entry into employment and formalization (Decent work)
A26: 2.1 | B26: Work Ethics and Core Skills | C26: Collective intervention | D26: MACP | E26: ILO will deliver soft skill and work ethics training in line with the technical skill training courses that will be delivered through TVET and ILO Digital Innovation Hubs. The soft skills and work ethics training will increase employability, employer retention and helps individuals to use their hard skill to the full extent. | F26: Pilar 2 ECONOMIC INCLUSION | G26: ILO | H26: 0 | I26: 0 | J26: 150000 | K26: 0 | L26: 0 | N26: Workers and employers | O26: 2024-2027 | P26: Ministry of Labor and Skills and Entrepreneurship Development Institute | Q26: CETU,EEF,CEEF, COS and NGOS | R26: Access to socio-economic opportunities | S26: Work ethics training to promote employment and promotion at work. | T26: YOUTH
B27: Job Search support | C27: Collective intervention | D27: MACP | E27: One of the interventions is the establishment of Public Employment Services that promote job placement services by providing platforms that match job seekers with acceptable employment opportunities and job search clubs. The PES also serves to provide up-to-date labor market information to the community and TVET providers to support the delivery of the demanded training. | F27: Pilar 2 ECONOMIC INCLUSION | G27: ILO | H27: 0 | I27: 0 | J27: 150000 | K27: 0 | L27: 0 | N27: Somali region | O27: 2024-2027 | P27: Unemployed youth in forcibly displaced people and host communities. | Q27: Bureau of Labour and social affair | S27: Access to socio-economic opportunities | U27: YOUTH
B28: Public Employment service | C28: Collective intervention | D28: MACP | E28: The Public Employment Center will be fully functional in PROSPECT II where the ILO will support the TVET-providers and regional TVET Bureaues in conducting a comprehensive labor market information study. The study will help in the selection and targeting of the forcibly displaced people and consider the skills in demand in targeted areas. The information will be aligned with the market systems analysis to identify skills in demand by enterprises with growth potential and available to the target community | F28: Pilar 2 ECONOMIC INCLUSION | G28: ILO | H28: 0 | I28: 0 | J28: 500000 | K28: 0 | L28: 0 | N28: Somali region | O28: 2024-2027 | P28: Unemployed youth in forcibly displaced people and host communities. | Q28: Ministry of Women and Social Affairs Ministry of Labour and Skills Respective Local Bureaus Local NGOS | R28: CSOS | S28: Access to socio-economic opportunities | T28: Job search support to access job opportunities. | U28: SKILLS
B29: Digitize the PES | C29: Collective intervention | D29: MACP | E29: PROSPECTS will partner to digitize information of job seekers and employers. This online platform will provide information on available jobs. Job seekers and will provide job matching services. | F29: Pilar 2 ECONOMIC INCLUSION | G29: ILO | H29: 0 | I29: 0 | J29: 50000 | K29: 0 | L29: 0 | O29: 2024-2027 | P29: Employment Facilitation center, Youth centers and PES | Q29: Ministry of Labour and Skills Respective Local Bureaus Local NGOS Digital skilled refugees and host communities that are trained under the project | R29: CSOS | S29: Access to basic services | T29: ILO will digitize job seekers and employers information for job matching. | U29: DIGITAL
B30: Refugees are supported to access third-country employment opportunities for labour mobility | C30: Partner specific intervention | D30: MACP | E30: As more legal opportunities for labour mobility emerge, there is a growing need to match refugees with available jobs in third countries. However, there is a need to provide them with support services. These include lodging their applications for available third-country jobs, and to navigate the related procedures. More specifically: refugees will be get counselling on available opportunities; development of resumes, application letters, preparation for interviews with potential employers, facilitation of remote interviews, document acquisition, validation & equivalency checks as well as access to ICT hubs. A total of 100 people will be assisted per year. | F30: Pillar 2: ECONOMIC INCLUSION | G30: UNHCR | H30: 0 | I30: 37604.08 | J30: 0 | K30: 0 | L30: 0 | N30: All Refugee Hosting Regions | O30: 2024 -2027 | P30: Skilled refugees | Q30: RRS | R30: Keppler, Gebeya, JRS | S30: Access to socio-economic opportunities
B31: Strengthen referral pathways for labour mobility by building the capacity of Implementing Partners and building evidence surrounding the right to work | C31: Aligned intervention | D31: MACP | E31: To complement activity 2.2, it will be necessary to engage an Implementing Partner who has the necessary capabilties to provide services to services to refugees. The partner will need to have the capacity to carry out activities (information disemmination, case identification etc.) that will help identify refugees who have suitable skills/profiles and link them to available opportunities in third countries. This activty will also undertake skills mapping within the refugee population towards a repository of profiles that would ease case identification and candidate matching whenever opportunities arise. The World Bank will support analytical work to build the evidence for and unlock employment pathways through wage employment, self-employment, and through joint projects as per the 2019 Refugee Proclamation and related directives. | F31: Pillar 2: ECONOMIC INCLUSION | G31: UNHCR, WB | H31: 0 | I31: 84844 | J31: 0 | K31: 1000000 | L31: 0 | M31: 84,844.00 | N31: All Refugee Hosting Regions | O31: 2024 -2027 | P31: Skilled refugees | R31: Implementing partners to be identified in the field. In Addis Ababa: Keppler, Gebeya, JRS | S31: Access to socio-economic opportunities
A32: Short-term Outcome 2.2: Increased Private Sector or Public investment and enhanced business environment for creating economic opportunities for forcibly displaced and host communities (Agriculture Cooperatives, Trade and Services)
A33: 2.2.1 | B33: Climate-Smart Share Farming Project | C33: Collective intervention | D33: MACP | E33: This intervention is aimed at enhancing the commercial sustainability of irrigated land, by a perennial river operated today by refugee-host cooperatives, in Dollo Ado and Bokolmayo woredas, in the Somali Region of Ethiopia, to enhance local import substitution and food security of a captive market of 400,000 people of which 40% are refugees. The intervention will involve bringing on board a farm management company to commercialize current operations with the cooperatives ensuring sustainability and profitability. This includes drawing on established IFC FCS tools on applying a conflict sensitive approach, in this project in particular emphasizing capacity building arounf grievance mechanisms to manage local issues and avoid escalation.The intiative is anticipated to benefit 1,160 refugee and host community cooperative members. UNHCR will continue to exercise its mandate and provide protection oversight to refugees during these working arrangements. this will be in line with considerations for inclusion, equity, enhancing protection of rights, food security and do no harm. | F33: Pillar 2: ECONOMIC INCLUSION | G33: IFC, UNHCR | H33: 0 | I33: 900000 | J33: 0 | K33: 0 | L33: 9673405 | M33: =SUM(H33:L33) -> 10573405 | N33: Bokolmayo & Dollo Ado Woredas (Somali region) | O33: 2024 - 2027 | P33: Refugees & Host Communities | Q33: RRS, Somali Regional Government, Woreda Administration | R33: Farm Management Company (To be selected) | S33: Access to socio-economic opportunities
B34: FDPs/HC members already employed or self-employed increase their income, enhance their working conditions or maintain their resilient livelihoods | C34: Collective intervention | D34: MACP | E34: For the already established 129,000 economic opportunities, it will be critical to monitor whether these employment oportunities are maintained and that incomes are increassing. In order to monitor these, the services of professional impact evaluators will be required to assess incomes, expenditures, savings and quality of life. | F34: Pillar 2: ECONOMIC INCLUSION | G34: UNHCR, ILO, IFC | H34: 0 | I34: 400000 | J34: 0 | K34: 0 | L34: 0 | M34: 200,000.00 | N34: All Refugee Hosting Regions | O34: 2024 -2026 | P34: Refugees and Host Communities who have benefitted from productive assets/business support/financial services | Q34: RRS | R34: Possibly L-YFT (data tracking specialist organization) | S34: Access to socio-economic opportunities
B35: New wage employment and/or self-employment (business) opportunities are supported by PROSPECTS | C35: Collective intervention | D35: MACP | E35: To date, aproximately 129,000 people have received economic opportunities in different refugee hosting areas from investments made by 14 joint projects as part of Ethiopia's commitments to the Global Compact. In order to ensure the quality of refugee data, monitoring mechanisms will be supported through federal and regional Livelihoods and Economic Inclusion coordination structure technical platforms. Jobs that are newly created and maintained through wage and self employment will be monitored and reported on a yearly basis. The target is to double these opportunities by 2027. | F35: Pillar 2: ECONOMIC INCLUSION | G35: UNHCR, ILO, IFC | H35: 0 | I35: =300000 -> 300000 | J35: 0 | K35: 0 | L35: 0 | M35: 200,000.00 | N35: All refugee hosting Regions | O35: 2024 -2027 | P35: Development partners, INGOs, Local NGOs, Private Sector | Q35: RRS | R35: All stakeholder projects and programs implementing economic inclusion initiatives | S35: Access to socio-economic opportunities
B36: Community Contracting Approach | C36: Collective intervention | D36: MACP | E36: The ILO has a procurement tool called community contracting approach that empower communities by ensuring that they have an executive role in the identification, planning and implementation, monitoring and coordination of development initiatives. Hence, Introduce and cascade a Community Contracting Approach to construct a local primary school for the host community next to the Alemwach settlement; involving and building capacities of communities to deliver infrastructure assets while providing an adequate and safe learning environment for the pupils. | F36: Pilar 2: ECONOMIC INCLUSION | G36: ILO, UNICEF | H36: 0 | I36: 0 | J36: 50000 | K36: 0 | L36: 0 | N36: Amhara region | O36: 2024 - 2027 | P36: Host Communities | Q36: Local government in Dabat town | S36: Access to socio-economic opportunities | T36: EIIP
B37: Con/renov. of community school | C37: Collective intervention | D37: MACP | E37: Construction/renovation of a community school through community contracting approach | F37: Pilar 2: ECONOMIC INCLUSION | G37: ILO, UNICEF | H37: 0 | I37: 0 | J37: 200000 | K37: 0 | L37: 0 | N37: Amhara region | P37: Host Communities | Q37: Local government in Dabat town | S37: Access to socio-economic opportunities | T37: EIIP
B38: Contractor development | C38: Partner specific intervention | D38: MACP | E38: 1) To help overcome the difficulties that SMEs face, the ILO plans to support SMEs who have limited experience in effective business management, through a contractor development scheme that includes training in business management to institutionalize the construction industry for sustainability, 2) For issues related to exogenus factors susc as procurement policies, the ILO will work with the Public Property | F38: Pilar 2: ECONOMIC INCLUSION | G38: ILO | H38: 0 | I38: 0 | J38: 200000 | K38: 0 | L38: 0 | N38: Amhara, Somali and Addis Ababa | O38: 2024 - 2027 | P38: SMEs | Q38: ERA, MoUDI | S38: Access to socio-economic opportunities | T38: EIIP
B39: Occupational Safety and Health | C39: Partner specific intervention | D39: MACP | E39: The ILO will partner with private agencies working on Occupational Health and Safety (OSH), the mainstream media and ECA to create awareness and understanding of occupational safety and health in the construction sector. | F39: Pilar 2: ECONOMIC INCLUSION | G39: ILO | H39: 0 | I39: 0 | J39: 200000 | K39: 0 | L39: 0 | N39: Amhara, Somali and Addis Ababa | O39: 2024 - 2027 | P39: young, and elderly people | Q39: ECA, Mainstream media | R39: Private service providers | S39: Access to socio-economic opportunities | T39: EIIP
B40: Policy | C40: Partner specific intervention | D40: MACP | E40: The progress in the wider use of labour-based technology in infrastructure development in Ethiopia has not been good. The performance so far reflects key issues of policy, institutional arrangement, legal framework, contract documentation, incentives, and capacity to upscale. Labour–based technology should be an integral component of policy on employment and job creation, and improvement and maintenance and infrastructure. To address this, the ILO will carry out a policy intervention to review policy gaps related to the use of labour-based technology and advocate for the revision of the employment policy which has been in place since 2009. | F40: Pilar 2: ECONOMIC INCLUSION | G40: ILO | H40: 0 | I40: 0 | J40: 100000 | K40: 0 | L40: 0 | N40: Federal level | O40: 2024 - 2027 | Q40: MoUDI, MoLS | S40: Access to socio-economic opportunities | T40: EIIP
...

Sheet Tab 3 Policy Matrix
B2: Policy Priorities | C2: Key challenges | D2: Key milestones | E2: Key stakeholders | F2: Support through programming
A3: 1. | B3: Forcibly displaced populations obtain a legal identity through access to national identity documentation including digital IDs, civil registration including birth registration services, to facilitate their protection and the learning to earning pathway. | C3: Legislative obstacles, risk of refoulment due to lack of valid IDs, mandatory presence of both parents for birth registration, requirements for birth registration at the place of habitual residence and renewed keble ID, mandatory notification paper for registration of regugee children; restriction on moving the civil register books from the civil register offices, fees for birth certificates (for non refugees), limited demand for civil registration/Birth registration services; limited digitization and interoperability of existing digital systems; limited coordination between civil registration, and other services such as social services, health and education | D3: 1. Advocacy for removal of legal and procedural barriers for civil registration of FDP; 2. Revision of laws and policies; 3. Development of guidelines and standard operating procedures to ensure continuous registration of vital events in humanitarian contexts | E3: Immigration and Citizenship Service, Refugees and Returnees Service, National ID Program | F3: Support, review and revision of existing legal and policy framework, consultative process and advocacy for endorsement
A5: 2. | B5: Transformation of refugee camps into sustainable (urban) settlements. (2016 pledge), which will provide a pathway into inclusive national protection, educational, and employment support services. (Netherlands part of the mega pledge on economic inclusions and social protection) | C5: - Political instability and lack of political will -Bureaucratic hurdles -Limited access to resources which if inadequately allocated, can exacerbate prejudice and discrimination -Cultural differences especially in places like Alemwach where the refugee population, mostly Eritrean, does not share the same language or cultural, economic and livelihood practices and characteristics as the hosts -Limited job opportunities,lack of skills, and competition for employment. | D5: Guided by the Rural development strategy: -Guidelines and regulations that encourage the development of sustainable infrastructure, energy-efficient buildings, and environmentally friendly practices. -Adequate financing resources in the forms of grants, subsidies and low-interest loans to developers and individuals involved in sustainable settlement projects. -Government investment in infrastructure systems such as roads, water supply systems and waste management facilities in the settlements. -Government investment in training and capacity-building programmes for individuals involved in sustainable settlement projects, including technical training on sustainable construction practices, renewable energy systems, and waste management techniques. -Collaboration with international organisations, non-governmental organisations (NGOs), and other stakeholders would leverage their expertise and resources in supporting sustainable settlement projects | E5: Ministry of Urban Development and Infrastructure, Refugees and Returnees Agency (RRS) | F5: Implementation of the Sustainable Settlement and Shelter Refugee Response Roadmap - Developing resources for regional bureaus providing critical services to refugees. - Revisiting the directives on freedom of movement, access to justice, and right to work in light of MoU on Kebrebeyah, Alemwach, Bokh. -critical infrastructure improvements to support transition of services in WASH, housing, and digital connectivity. -Inclusion in social protection systems and facilitating linkages/evidence on operationalizing right to work
A7: 3. | B7: Strengthening inclusive child protection systems at all levels that cater to the needs of all children in Ethioipia inclduing refugee, asylum seekers and stateless children and host community children Implementation of inclusive national child protection, GBV and justice systems | C7: 1. Reluctance to provide case management services to the refugees, aylum seekers and stateless children through national case management system | D7: 1. Review and revision of the National Child Protection Case Management Framework to identify and address gaps through the case management technical working group | E7: Ministry of Women and Social Affairs, Refugee and Returnee Service | F7: 1. Suport review and revision of the of the Case Managment Framework through the National Case Management Techncial Working Group and revision of the case managemnet training package and providing training for the workforce
C8: 2. Lack of adeqaute skilled workforce for child protection and GBV, amongst other, for very low budget allocation for GBV and child protection in the federal and regional budgets | D8: 2. Advocacy for strengthening social service workforce based on the findings of the recently concluded social service workforce mapping and assessment conducted by the Ministry of Women and Social Affairs and supported by UNICEF including advocay for pubkic finance for child protection | E8: Ministry of Women and Social Affairs | F8: 2. Support advocacy strengthening social service workforce, including their capacity building throiugh institutionalized training
C9: 3. | D9: 3. Revision Alternative Childcare Directive to include refugee, asylum seekers and stateless children | E9: Ministry of Women and Social Affairs, Refugee and Returnee Service | F9: 3. Support consultatuve process and advocacy for endorsement and roll out of the Alternative Childcare Directives

Sheet Policy matrix - Pillar 3 
A2: Policy Priorities | B2: Key challenges | C2: Key milestones | D2: Key stakeholders | E2: Support through programming
A3: Revision of National Social Protection Policy to improve inclusion of FDPs and Host communities | B3: 1) Resistance from existing stakeholders or reluctance to adapt to the inclusion of FDPs and HCs. | C3: 1) Gain approval for the revised policy framework; | D3: Ministry of Women and Social Affairs, Refugee and Returnee Service, Minstry of Finance | E3: 1) Conduct policy advocacy workshops and consultations.
B4: 2) Legal and regulatory obstacles to amend the existing policy framework. | C4: 2)Develop clear guidline for the inclusion of FDPs and HCs; | E4: 2) Provide technical expertise in policy drafting.
B5: 3) Challenges gathering accurate data and analysis on FDPs and HCs to inform policy revisions. | C5: 3)Secure allocation of a buget for revised policy implementation | E5: 3) Advocate for policy revison through awareness campaigns.
A7: Transformation of refugee camps into sustainable (urban) settlements (2016 pledge), which will provide a pathway into inclusive national protection, educational and employment support services. (Netherlands part of the mega pledge on economic inclusions and social protection.) | B7: Transforming refugee camps into sustainable settlements is a complex process that requires government and other stakeholder support. Political instability, lack of political will, and bureaucratic hurdles can hinder implementation. The process requires planning and coordination, especially in relation to infrastructure development such as housing, schools, healthcare facilities and transport systems. In a context where access to resources is limited and if inadequately allocated, can exacerbate prejudice and discrimination. Transforming camps into urban settlements requires addressing cultural differences and promoting social integration. The case of Alemwach merits attention, as the refugee population, mostly Eritrean, does not share the same language or cultural, economic and livelihood practices and characteristics as the hosts which serve as barriers to promoting inclusion. Furthermore, limited job opportunities, lack of skills, and competition for employment can hinder the successful transformation of camps into urban settlements. | C7: The policy should define its financing sources in the forms of grants, subsidies and low-interest loans to developers and individuals involved in sustainable settlement projects. It is paramount for the government to invest in infrastructure systems such as roads, water supply systems and waste management facilities in the settlements to create a conducive environment for sustainable living. The government should provide training and capacity-building programmes for individuals involved in sustainable settlement projects, including technical training on sustainable construction practices, renewable energy systems, and waste management techniques. Collaboration with international organisations, non-governmental organisations (NGOs), and other stakeholders would leverage their expertise and resources in supporting sustainable settlement projects. | E7: Develop resources for regional bureaus providing critical services to refugees. Improve critical infrastructure improve services in WASH, housing, and digital connectivity. Implement the Sustainable Settlement and Shelter Refugee Response Roadmap 2022–2027. Revisit the directives on freedom of movement, access to justice, and right to work considering the MoU on Kebrebeyah Alemwach, Bokh, etc.

Sheet Tab3b Policy Progress
A1: POLICY INFORMATION | F1: ASESSMENT | M1: CONTRIBUTION TO POLICY DEVELOPMENT | U1: Country Team Feedback on Policy Priorities | V1: Country Team Feedback on Milestones
A2: PILLAR | B2: RIGHT | C2: POLICY PRIORITIES (UNICEF Led) | D2: POLICY MILESTONES | E2: Link to Results Framework indicators | F2: Assessment (2024) | G2: Assessment (2025) | H2: Asessesment (2026) | I2: Asessesment (2027) | J2: Description of relevant contribution made | K2: Sources of Verification | L2: Phase II progress | M2: 1. Needs and evidence | N2: 2. Commitments | O2: 3. Policy adoption/prevention | P2: 4. Resourcing | Q2: 5. Implementation | R2: 6. Coverage and use | S2: 7. Monitoring and Evaluation | U2: Indicate below 1) whether the policy priority is UNICEF lead (Yes/No); if it is No UNICEF led, indicate what partner leads the policy priority; if it is led by UNICEF, indicate whether there is any milestone left out (not included in column D) | V2: Indicate below for each milestone whether 1) UNICEF leads (Yes/No), if it is No UNICEF led, indicate what partner leads the milestone; 2) if it is led by UNICEF, indicate what other partners contribute to the milestone (or say none if this is the case)
A3: PROTECTION | B3: Access to national protection & case management | C3: 3. Strengthening inclusive child protection systems at all levels that cater to the needs of all children in Ethioipia inclduing refugee, asylum seekers and stateless children and host community children Implementation of inclusive national child protection, GBV and justice systems | D3: 3.1 Review and revision of the National Child Protection Case Management Framework to identify and address gaps through the case management technical working group | E3: 3.1a) Evidence on how PROSPECTS has contributed to a change in legal frameworks, policies and asylum system related to protection and durable solutions for refugees in line with international legal standards ​​ | F3: 1=No contribution to target | G3: 2=Initiated contribution to target | H3: 3=Approaches milestone target | I3: 4=Achieved milestone target | N3: X | O3: X
D4: 3.2 Advocacy for strengthening social service workforce based on the findings of the recently concluded social service workforce mapping and assessment conducted by the Ministry of Women and Social Affairs and supported by UNICEF including advocay for pubkic finance for child protection | F4: 3=Approaches milestone target | G4: 3=Approaches milestone target | N4: X | O4: X
D5: 3.3 Revision Alternative Childcare Directive to include refugee, asylum seekers and stateless children | N5: X | O5: X
A6: SOCIAL PROTECTION | B6: Inclusion of Refugee & FDP in National Social Protection Systems | C6: 4. Revision of National Social Protection Policy to improve inclusion of FDPs and Host communities | D6: 4.1 Gain approval for the revised policy framework | E6: 3.1b) Evidence on how PROSPECTS has contributed to a change in legal frameworks, policies and asylum system related to inclusive social protection for refugees and HCs, based on security standards and principles​​ | O6: X
D7: 4.2 Develop clear guideline for the inclusion of FDPs and HCs | Q7: X
D8: 4.3 Secure allocation of a buget for revised policy implementation | P8: X

Sheet Graphs
B1: FORMULA | F1: DATA
A2: Milestones | B2: 2024 | C2: 2025 | D2: 2026 | E2: 2027 | F2: 2024 | G2: 2025 | H2: 2026 | I2: 2027
A3: 3.1 Review and revision of the National Child Protection Case Management Framework to identify and address gaps through the case management technical working group | B3: =IF('Tab3b Policy Progress'!F3="1=No contribution to target ",1,IF('Tab3b Policy Progress'!F3="2=Initiated contribution to target",2,IF('Tab3b Policy Progress'!F3="3=Approaches milestone target",3,IF('Tab3b Policy Progress'!F3="4=Achieved milestone target",4,"")))) -> 1 | C3: =IF('Tab3b Policy Progress'!G3="1=No contribution to target ",1,IF('Tab3b Policy Progress'!G3="2=Initiated contribution to target",2,IF('Tab3b Policy Progress'!G3="3=Approaches milestone target",3,IF('Tab3b Policy Progress'!G3="4=Achieved milestone target",4,"")))) -> 2 | D3: =IF('Tab3b Policy Progress'!H3="1=No contribution to target ",1,IF('Tab3b Policy Progress'!H3="2=Initiated contribution to target",2,IF('Tab3b Policy Progress'!H3="3=Approaches milestone target",3,IF('Tab3b Policy Progress'!H3="4=Achieved milestone target",4,"")))) -> 3 | E3: =IF('Tab3b Policy Progress'!I3="1=No contribution to target ",1,IF('Tab3b Policy Progress'!I3="2=Initiated contribution to target",2,IF('Tab3b Policy Progress'!I3="3=Approaches milestone target",3,IF('Tab3b Policy Progress'!I3="4=Achieved milestone target",4,"")))) -> 4 | F3: =B3 -> 1 | G3: =C3 -> 2 | H3: =D3 -> 3 | I3: =E3 -> 4
A4: 3.2 Advocacy for strengthening social service workforce based on the findings of the recently concluded social service workforce mapping and assessment conducted by the Ministry of Women and Social Affairs and supported by UNICEF including advocay for pubkic finance for child protection | B4: =IF('Tab3b Policy Progress'!F4="1=No contribution to target ",1,IF('Tab3b Policy Progress'!F4="2=Initiated contribution to target",2,IF('Tab3b Policy Progress'!F4="3=Approaches milestone target",3,IF('Tab3b Policy Progress'!F4="4=Achieved milestone target",4,"")))) -> 3 | C4: =IF('Tab3b Policy Progress'!G4="1=No contribution to target ",1,IF('Tab3b Policy Progress'!G4="2=Initiated contribution to target",2,IF('Tab3b Policy Progress'!G4="3=Approaches milestone target",3,IF('Tab3b Policy Progress'!G4="4=Achieved milestone target",4,"")))) -> 3 | D4: =IF('Tab3b Policy Progress'!H4="1=No contribution to target ",1,IF('Tab3b Policy Progress'!H4="2=Initiated contribution to target",2,IF('Tab3b Policy Progress'!H4="3=Approaches milestone target",3,IF('Tab3b Policy Progress'!H4="4=Achieved milestone target",4,"")))) | E4: =IF('Tab3b Policy Progress'!I4="1=No contribution to target ",1,IF('Tab3b Policy Progress'!I4="2=Initiated contribution to target",2,IF('Tab3b Policy Progress'!I4="3=Approaches milestone target",3,IF('Tab3b Policy Progress'!I4="4=Achieved milestone target",4,"")))) | F4: =B4 -> 3 | G4: =C4 -> 3 | H4: =D4 | I4: =E4
A5: 3.3 Revision Alternative Childcare Directive to include refugee, asylum seekers and stateless children | B5: =IF('Tab3b Policy Progress'!F5="1=No contribution to target ",1,IF('Tab3b Policy Progress'!F5="2=Initiated contribution to target",2,IF('Tab3b Policy Progress'!F5="3=Approaches milestone target",3,IF('Tab3b Policy Progress'!F5="4=Achieved milestone target",4,"")))) | C5: =IF('Tab3b Policy Progress'!G5="1=No contribution to target ",1,IF('Tab3b Policy Progress'!G5="2=Initiated contribution to target",2,IF('Tab3b Policy Progress'!G5="3=Approaches milestone target",3,IF('Tab3b Policy Progress'!G5="4=Achieved milestone target",4,"")))) | D5: =IF('Tab3b Policy Progress'!H5="1=No contribution to target ",1,IF('Tab3b Policy Progress'!H5="2=Initiated contribution to target",2,IF('Tab3b Policy Progress'!H5="3=Approaches milestone target",3,IF('Tab3b Policy Progress'!H5="4=Achieved milestone target",4,"")))) | E5: =IF('Tab3b Policy Progress'!I5="1=No contribution to target ",1,IF('Tab3b Policy Progress'!I5="2=Initiated contribution to target",2,IF('Tab3b Policy Progress'!I5="3=Approaches milestone target",3,IF('Tab3b Policy Progress'!I5="4=Achieved milestone target",4,"")))) | F5: =B5 | G5: =C5 | H5: =D5 | I5: =E5
A6: 4.1 Gain approval for the revised policy framework; | B6: =IF('Tab3b Policy Progress'!F6="1=No contribution to target ",1,IF('Tab3b Policy Progress'!F6="2=Initiated contribution to target",2,IF('Tab3b Policy Progress'!F6="3=Approaches milestone target",3,IF('Tab3b Policy Progress'!F6="4=Achieved milestone target",4,"")))) | C6: =IF('Tab3b Policy Progress'!G6="1=No contribution to target ",1,IF('Tab3b Policy Progress'!G6="2=Initiated contribution to target",2,IF('Tab3b Policy Progress'!G6="3=Approaches milestone target",3,IF('Tab3b Policy Progress'!G6="4=Achieved milestone target",4,"")))) | D6: =IF('Tab3b Policy Progress'!H6="1=No contribution to target ",1,IF('Tab3b Policy Progress'!H6="2=Initiated contribution to target",2,IF('Tab3b Policy Progress'!H6="3=Approaches milestone target",3,IF('Tab3b Policy Progress'!H6="4=Achieved milestone target",4,"")))) | E6: =IF('Tab3b Policy Progress'!I6="1=No contribution to target ",1,IF('Tab3b Policy Progress'!I6="2=Initiated contribution to target",2,IF('Tab3b Policy Progress'!I6="3=Approaches milestone target",3,IF('Tab3b Policy Progress'!I6="4=Achieved milestone target",4,"")))) | F6: =B6 | G6: =C6 | H6: =D6 | I6: =E6
