Workbook
Name Chgesfixes: #REF!
Name ChgesVarMcube: #REF!
Name Coût_Invest: #REF!
Name Durée: #REF!
Name Nbabonnés: #REF!
Name Production: #REF!
Name Total_Tranche_1: #REF!
Name Total_Tranche_2: #REF!

Sheet Instructions
A1: LES INSTRUCTIONS A LIRE AVANT DE RENSEIGNER LES DQE
A3: 1 | B3: Les Lots sont classés par onglet;
A4: 2 | B4: Seules les cellules en jaune sont à renseigner;
A5: 3 | B5: Entrer les coûts unitaires dans les cellules en jaune uniquement;
A6: 4 | B6: Les cadres de devis sont formatés avec des formules;
A7: 5 | B7: En cas d'erreurs de formules ou de disfonctionnement des formules, veillez informer à l'adresse suivante : | C7: ivcprocurement@unicef.org
A8: 6 | B8: Ne renseigner que les lots auxquels vous soumissionnés

Sheet Allotissement
A1: Régions | B1: Centres | C1: Dépts | D1: S/Préfectures | E1: Localités | F1: Nb AEP Solaire | G1: Lots | H1: Délais
A2: Worodougou | B2: Centre - 1 | C2: Séguéla | D2: Dirabana | E2: Mongbara | F2: 1 | G2: Lot - 01 | H2: 07 mois
E3: Kénégbé Nord
E4: Bessala
E5: Souroumana
E6: Massala-Assolo
B7: Centre - 2 | C7: Séguéla | D7: Kamalo | E7: Bingoro | F7: 1 | G7: Lot - 02 | H7: 07 mois
E8: Sagoura-Dougoula

Sheet BPU_Lot-01_Centre 1
A1: N° | B1: Désignations | C1: Unités | D1: Prix unitaire F.CFA en chiffres | E1: Prix unitaire F.CFA en lettres
A2: 1 | B2: Mobilisation, installation de chantier, Forfaits généraux
A3: 1.1 | B3: Mobilisation, installation et repli du chantier | C3: u
A4: 1.2 | B4: Implantation du réseau | C4: u
A5: 1.3 | B5: Etudes et plans d'exécution (Etudes géotechniques + Notes de calculs des descentes de charge et du support métallique + Divers plans d'exécution) | C5: u
A6: 1.4 | B6: Essai de fonctionnement général des réseaux | C6: u
A7: 2 | B7: Forage
A8: 2.1 | B8: Implantation géophysique de trois (03) points de foration | C8: u
A9: 2.2 | B9: Réalisation de forages positifs de 10m3/h miminum à l'essai de pompage longue durée de 72 h en milieu de socle jusqu’à 150 m de profondeur équipé en PVC-forage de 6 pouces crépinés au droit des arrivées d'eau et pleins aux droits des zones stériles | C9: u
A10: 2.3 | B10: Rémunération de forages déclarés négatifs pour insuffisance de débit (un seul est pris en compte) | C10: u
A11: 2.4 | B11: Analyses physico-chimiques, bactériologiques et des métaux lourds de l’eau des forages | C11: u
A12: 2.5 | B12: Réalisation d'une piste d'accès de 6m de large depuis la voie principale | C12: u
A13: 2.6 | B13: Défrichement, abattage et dessouchage d'arbre, nivellement de la concession | C13: u
A14: 2.7 | B14: Construction d'une clôture en parpaing pour le forage de dimensions (Lxlxh) 10mx10mx2m avec une longrine et des poteaux espacés de 3m saillant à l'exterieur. Un couronnement (chaperon de mur) en béton-armé de largeur 10 cm sur tout le périmètre avec un portail à 2 battants 4mx2m à ouverture vers l'intérieur de la clôture y compris crépissage tyrolienne à l'extérieur et peinture à l'intérieur. Une niche avec porte grille métallique pour les équipements électriques, électromécaniques (inverseur, coffret de commande, coffret de démarrage). Epandage de gravier concassé sur toute la surface intérieure de la clôture. | C14: u
A15: 2.8 | B15: Construction de la nouvelle margelle en deux étages. Le premier sera de 1mx1mx 0,5m avec 0,30m enfouis dans le sol. Le deuxième sera superposé au premier avec les dimensions de 0,5mx0,5mx0,3m. Ce dernier recevra en son centre la tête de forage en inox ou en fonte DN 200, la margelle couvrira toute la longueur du manifold à poser | C15: u
A16: 2.9 | B16: Fourniture et pose d'une colonne d'exhaure en matériaux flexible de type foraduc ou boreline | C16: =D9 -> 0
A17: 2.10 | B17: Fourniture et pose d'une pompe immergée hybride AC/DC de 10 m3/h de 130 à 140m de HMT, colonne d'exhaure, boite de jonction, câbles d'alimentation électriques et accessoires. La pompe sera de 1er choix, | C17: u
A18: 2.11 | B18: Manifold complet en fonte ou en inox comprenant une ventouse, un clapet anti-retour, un filtre à tamis, un pressostat télémécanique, un manomètre à bain d'huile, une vannette de prise en laiton, un compteur volumétrique (DN 25-40), fileté, avec cadran sec et humide et une vanne de régulation à opercule. L'ensemble des pièces intermédiaires doit être en fonte ductile ou en inox, | C18: u
A19: 2.12 | B19: Fournitur et pose d'un anti-bélier de 100 litres avec une pression comprise entre 10 et 15 bars | C19: u
A20: 2.13 | B20: Fourniture et pose d'un coffret de commande de type Hybride DC/AC et d'un coffret de démarrage avec système de régulation automatique y/c électrodes et câbles unifilaires de protection ainsi que les câbles d’alimentation sous-fourreau ou gaine du coffret à la tête de forage, d'une protection contre la foudre et d'une prise de terre complet. | C20: u
A21: 2.14 | B21: Construction d'une ligne de moyenne tension de 0 à 1000m | C21: PM
A22: 2.15 | B22: Branchement et abonnement pour une compteur CIE | C22: PM
A23: 2.16 | B23: Fourniture d'une sonde lumineuse et sonore | C23: u
A24: 3 | B24: Conduite de refoulement PN 16
A25: 3.1 | B25: Fouille en terrain tendre | C25: ml
A26: 3.2 | B26: Grillage avertisseur | C26: ml
A27: 3.3 | B27: Plus-Value carapace latéritique (utilisation d'engins pneumatiques) | C27: m3
A28: 3.4 | B28: PEHD DN 63 (63x5.8 y/c té, bouchons et coudes en PEHD | C28: ml
A29: 3.5 | B29: PEHD DN 90 (90x8.2) y/c té, bouchons et coudes en PEHD | C29: ml
A30: 3.6 | B30: Fourniture et pose d'une vidange sous BAC sur le refoulement y/c toutes sujétions | C30: u
A31: 3.7 | B31: Fourniture et pose de fourreau | C31: ml
A32: 3.8 | B32: Balise de repérage | C32: u
A33: 3.9 | B33: Essai de pression sur le réseau de refoulement | C33: u/10ml
A34: 4 | B34: Réseau de distribution PN 10
A35: 4.1 | B35: Fouille en terrain tendre | C35: ml
A36: 4.2 | B36: Grillage avertisseur | C36: ml
A37: 4.3 | B37: Plus-Value carapace latéritique (utilisation d'engins pneumatiques) | C37: m3
A38: 4.4 | B38: PPR diam. 21/25 y/c té et coudes en PPR pour les bâtiments du centre de santé | C38: ml
A39: 4.5 | B39: PEHD diam. 33,6/40 y/c té, bouchons et coudes en PEHD pour la connexion du points d'eau de l'école primaire et le raccordement des BF | C39: ml
A40: 4.6 | B40: PEHD DN 63 (63x3.8) y/c té, bouchons et coudes en PEHD | C40: ml
...

Sheet DQE_Lot-01_Centre 1
A1: N° | B1: Désignations | C1: Unités | D1: Quantités | E1: Prix Unit. | F1: Prix Partiel F.CFA | G1: Prix Total F.CFA
A2: ='BPU_Lot-01_Centre 1'!A2 -> 1 | B2: ='BPU_Lot-01_Centre 1'!B2 -> Mobilisation, installation de chantier, Forfaits généraux | C2: ='BPU_Lot-01_Centre 1'!C2 -> 0 | G2: =SUM(F3:F6) -> 0
A3: ='BPU_Lot-01_Centre 1'!A3 -> 1.1 | B3: ='BPU_Lot-01_Centre 1'!B3 -> Mobilisation, installation et repli du chantier | C3: ='BPU_Lot-01_Centre 1'!C3 -> u | D3: 1 | E3: ='BPU_Lot-01_Centre 1'!D3 -> 0 | F3: =E3*D3 -> 0
A4: ='BPU_Lot-01_Centre 1'!A4 -> 1.2 | B4: ='BPU_Lot-01_Centre 1'!B4 -> Implantation du réseau | C4: ='BPU_Lot-01_Centre 1'!C4 -> u | D4: 1 | E4: ='BPU_Lot-01_Centre 1'!D4 -> 0 | F4: =E4*D4 -> 0
A5: ='BPU_Lot-01_Centre 1'!A5 -> 1.3 | B5: ='BPU_Lot-01_Centre 1'!B5 -> Etudes et plans d'exécution (Etudes géotechniques + Notes de calculs des descentes de charge et du support métallique + Divers plans d'exécution) | C5: ='BPU_Lot-01_Centre 1'!C5 -> u | D5: 1 | E5: ='BPU_Lot-01_Centre 1'!D5 -> 0 | F5: =E5*D5 -> 0
A6: ='BPU_Lot-01_Centre 1'!A6 -> 1.4 | B6: ='BPU_Lot-01_Centre 1'!B6 -> Essai de fonctionnement général des réseaux | C6: ='BPU_Lot-01_Centre 1'!C6 -> u | D6: 1 | E6: ='BPU_Lot-01_Centre 1'!D6 -> 0 | F6: =E6*D6 -> 0
A7: ='BPU_Lot-01_Centre 1'!A7 -> 2 | B7: ='BPU_Lot-01_Centre 1'!B7 -> Forage | C7: ='BPU_Lot-01_Centre 1'!C7 -> 0 | G7: =SUM(F8:F23) -> 0
A8: ='BPU_Lot-01_Centre 1'!A8 -> 2.1 | B8: ='BPU_Lot-01_Centre 1'!B8 -> Implantation géophysique de trois (03) points de foration | C8: ='BPU_Lot-01_Centre 1'!C8 -> u | D8: 3 | E8: ='BPU_Lot-01_Centre 1'!D8 -> 0 | F8: =E8*D8 -> 0
A9: ='BPU_Lot-01_Centre 1'!A9 -> 2.2 | B9: ='BPU_Lot-01_Centre 1'!B9 -> Réalisation de forages positifs de 10m3/h miminum à l'essai de pompage longue durée de 72 h en milieu de socle jusqu’à 150 m de profondeur équipé en PVC-forage de 6 pouces crépinés au droit des arrivées d'eau et pleins aux droits des zones stériles | C9: ='BPU_Lot-01_Centre 1'!C9 -> u | D9: =D8 -> 3 | E9: ='BPU_Lot-01_Centre 1'!D9 -> 0 | F9: =E9*D9 -> 0
A10: ='BPU_Lot-01_Centre 1'!A10 -> 2.3 | B10: ='BPU_Lot-01_Centre 1'!B10 -> Rémunération de forages déclarés négatifs pour insuffisance de débit (un seul est pris en compte) | C10: u | D10: PM | E10: ='BPU_Lot-01_Centre 1'!D10 -> 0
A11: ='BPU_Lot-01_Centre 1'!A11 -> 2.4 | B11: ='BPU_Lot-01_Centre 1'!B11 -> Analyses physico-chimiques, bactériologiques et des métaux lourds de l’eau des forages | C11: ='BPU_Lot-01_Centre 1'!C11 -> u | D11: =D8 -> 3 | E11: ='BPU_Lot-01_Centre 1'!D11 -> 0 | F11: =E11*D11 -> 0
A12: ='BPU_Lot-01_Centre 1'!A12 -> 2.5 | B12: ='BPU_Lot-01_Centre 1'!B12 -> Réalisation d'une piste d'accès de 6m de large depuis la voie principale | C12: ='BPU_Lot-01_Centre 1'!C12 -> u | D12: =D8 -> 3 | E12: ='BPU_Lot-01_Centre 1'!D12 -> 0 | F12: =E12*D12 -> 0
A13: ='BPU_Lot-01_Centre 1'!A13 -> 2.6 | B13: ='BPU_Lot-01_Centre 1'!B13 -> Défrichement, abattage et dessouchage d'arbre, nivellement de la concession | C13: ='BPU_Lot-01_Centre 1'!C13 -> u | D13: =D8 -> 3 | E13: ='BPU_Lot-01_Centre 1'!D13 -> 0 | F13: =E13*D13 -> 0
A14: ='BPU_Lot-01_Centre 1'!A14 -> 2.7 | B14: ='BPU_Lot-01_Centre 1'!B14 -> Construction d'une clôture en parpaing pour le forage de dimensions (Lxlxh) 10mx10mx2m avec une longrine et des poteaux espacés de 3m saillant à l'exterieur. Un couronnement (chaperon de mur) en béton-armé de largeur 10 cm sur tout le périmètre avec un portail à 2 battants 4mx2m à ouverture vers l'intérieur de la clôture y compris crépissage tyrolienne à l'extérieur et peinture à l'intérieur. Une niche avec porte grille métallique pour les équipements électriques, électromécaniques (inverseur, coffret de commande, coffret de démarrage). Epandage de gravier concassé sur toute la surface intérieure de la clôture. | C14: ='BPU_Lot-01_Centre 1'!C14 -> u | D14: =D9 -> 3 | E14: ='BPU_Lot-01_Centre 1'!D14 -> 0 | F14: =E14*D14 -> 0
A15: ='BPU_Lot-01_Centre 1'!A15 -> 2.8 | B15: ='BPU_Lot-01_Centre 1'!B15 -> Construction de la nouvelle margelle en deux étages. Le premier sera de 1mx1mx 0,5m avec 0,30m enfouis dans le sol. Le deuxième sera superposé au premier avec les dimensions de 0,5mx0,5mx0,3m. Ce dernier recevra en son centre la tête de forage en inox ou en fonte DN 200, la margelle couvrira toute la longueur du manifold à poser | C15: ='BPU_Lot-01_Centre 1'!C15 -> u | D15: =D9 -> 3 | E15: ='BPU_Lot-01_Centre 1'!D15 -> 0 | F15: =E15*D15 -> 0
A16: ='BPU_Lot-01_Centre 1'!A16 -> 2.9 | B16: ='BPU_Lot-01_Centre 1'!B16 -> Fourniture et pose d'une colonne d'exhaure en matériaux flexible de type foraduc ou boreline | C16: ='BPU_Lot-01_Centre 1'!C16 -> 0 | D16: =D8 -> 3 | E16: ='BPU_Lot-01_Centre 1'!D16 -> 0 | F16: =E16*D16 -> 0
A17: ='BPU_Lot-01_Centre 1'!A17 -> 2.10 | B17: ='BPU_Lot-01_Centre 1'!B17 -> Fourniture et pose d'une pompe immergée hybride AC/DC de 10 m3/h de 130 à 140m de HMT, colonne d'exhaure, boite de jonction, câbles d'alimentation électriques et accessoires. La pompe sera de 1er choix, | C17: ='BPU_Lot-01_Centre 1'!C17 -> u | D17: =D9 -> 3 | E17: ='BPU_Lot-01_Centre 1'!D17 -> 0 | F17: =E17*D17 -> 0
A18: ='BPU_Lot-01_Centre 1'!A18 -> 2.11 | B18: ='BPU_Lot-01_Centre 1'!B18 -> Manifold complet en fonte ou en inox comprenant une ventouse, un clapet anti-retour, un filtre à tamis, un pressostat télémécanique, un manomètre à bain d'huile, une vannette de prise en laiton, un compteur volumétrique (DN 25-40), fileté, avec cadran sec et humide et une vanne de régulation à opercule. L'ensemble des pièces intermédiaires doit être en fonte ductile ou en inox, | C18: ='BPU_Lot-01_Centre 1'!C18 -> u | D18: =D9 -> 3 | E18: ='BPU_Lot-01_Centre 1'!D18 -> 0 | F18: =E18*D18 -> 0
A19: ='BPU_Lot-01_Centre 1'!A19 -> 2.12 | B19: ='BPU_Lot-01_Centre 1'!B19 -> Fournitur et pose d'un anti-bélier de 100 litres avec une pression comprise entre 10 et 15 bars | C19: ='BPU_Lot-01_Centre 1'!C19 -> u | D19: =D9 -> 3 | E19: ='BPU_Lot-01_Centre 1'!D19 -> 0 | F19: =E19*D19 -> 0
A20: ='BPU_Lot-01_Centre 1'!A20 -> 2.13 | B20: ='BPU_Lot-01_Centre 1'!B20 -> Fourniture et pose d'un coffret de commande de type Hybride DC/AC et d'un coffret de démarrage avec système de régulation automatique y/c électrodes et câbles unifilaires de protection ainsi que les câbles d’alimentation sous-fourreau ou gaine du coffret à la tête de forage, d'une protection contre la foudre et d'une prise de terre complet. | C20: ='BPU_Lot-01_Centre 1'!C20 -> u | D20: =D9 -> 3 | E20: ='BPU_Lot-01_Centre 1'!D20 -> 0 | F20: =E20*D20 -> 0
A21: ='BPU_Lot-01_Centre 1'!A21 -> 2.14 | B21: ='BPU_Lot-01_Centre 1'!B21 -> Construction d'une ligne de moyenne tension de 0 à 1000m | C21: ='BPU_Lot-01_Centre 1'!C21 -> PM | D21: =D9 -> 3 | E21: ='BPU_Lot-01_Centre 1'!D21 -> 0 | F21: =E21*D21 -> 0
A22: ='BPU_Lot-01_Centre 1'!A22 -> 2.15 | B22: ='BPU_Lot-01_Centre 1'!B22 -> Branchement et abonnement pour une compteur CIE | C22: ='BPU_Lot-01_Centre 1'!C22 -> PM | D22: =D21 -> 3 | E22: ='BPU_Lot-01_Centre 1'!D22 -> 0 | F22: =E22*D22 -> 0
A23: ='BPU_Lot-01_Centre 1'!A23 -> 2.16 | B23: ='BPU_Lot-01_Centre 1'!B23 -> Fourniture d'une sonde lumineuse et sonore | C23: ='BPU_Lot-01_Centre 1'!C23 -> u | D23: 1 | E23: ='BPU_Lot-01_Centre 1'!D23 -> 0 | F23: =E23*D23 -> 0
A24: ='BPU_Lot-01_Centre 1'!A24 -> 3 | B24: ='BPU_Lot-01_Centre 1'!B24 -> Conduite de refoulement PN 16 | C24: ='BPU_Lot-01_Centre 1'!C24 -> 0 | G24: =SUM(F25:F33) -> 0
A25: ='BPU_Lot-01_Centre 1'!A25 -> 3.1 | B25: ='BPU_Lot-01_Centre 1'!B25 -> Fouille en terrain tendre | C25: ='BPU_Lot-01_Centre 1'!C25 -> ml | D25: =D28+D29 -> 3704 | E25: ='BPU_Lot-01_Centre 1'!D25 -> 0 | F25: =E25*D25 -> 0
A26: ='BPU_Lot-01_Centre 1'!A26 -> 3.2 | B26: ='BPU_Lot-01_Centre 1'!B26 -> Grillage avertisseur | C26: ='BPU_Lot-01_Centre 1'!C26 -> ml | D26: =D25 -> 3704 | E26: ='BPU_Lot-01_Centre 1'!D26 -> 0 | F26: =E26*D26 -> 0
A27: ='BPU_Lot-01_Centre 1'!A27 -> 3.3 | B27: ='BPU_Lot-01_Centre 1'!B27 -> Plus-Value carapace latéritique (utilisation d'engins pneumatiques) | C27: ='BPU_Lot-01_Centre 1'!C27 -> m3 | D27: =D25*25% -> 926 | E27: ='BPU_Lot-01_Centre 1'!D27 -> 0 | F27: =E27*D27 -> 0
A28: ='BPU_Lot-01_Centre 1'!A28 -> 3.4 | B28: ='BPU_Lot-01_Centre 1'!B28 -> PEHD DN 63 (63x5.8 y/c té, bouchons et coudes en PEHD | C28: ='BPU_Lot-01_Centre 1'!C28 -> ml | E28: ='BPU_Lot-01_Centre 1'!D28 -> 0 | F28: =E28*D28 -> 0
A29: ='BPU_Lot-01_Centre 1'!A29 -> 3.5 | B29: ='BPU_Lot-01_Centre 1'!B29 -> PEHD DN 90 (90x8.2) y/c té, bouchons et coudes en PEHD | C29: ='BPU_Lot-01_Centre 1'!C29 -> ml | D29: 3704 | E29: ='BPU_Lot-01_Centre 1'!D29 -> 0 | F29: =E29*D29 -> 0
A30: ='BPU_Lot-01_Centre 1'!A30 -> 3.6 | B30: ='BPU_Lot-01_Centre 1'!B30 -> Fourniture et pose d'une vidange sous BAC sur le refoulement y/c toutes sujétions | C30: ='BPU_Lot-01_Centre 1'!C30 -> u | D30: =D9 -> 3 | E30: ='BPU_Lot-01_Centre 1'!D30 -> 0 | F30: =E30*D30 -> 0
A31: ='BPU_Lot-01_Centre 1'!A31 -> 3.7 | B31: ='BPU_Lot-01_Centre 1'!B31 -> Fourniture et pose de fourreau | C31: ='BPU_Lot-01_Centre 1'!C31 -> ml | D31: 75 | E31: ='BPU_Lot-01_Centre 1'!D31 -> 0 | F31: =E31*D31 -> 0
A32: ='BPU_Lot-01_Centre 1'!A32 -> 3.8 | B32: ='BPU_Lot-01_Centre 1'!B32 -> Balise de repérage | C32: ='BPU_Lot-01_Centre 1'!C32 -> u | D32: =D25/50 -> 74.08 | E32: ='BPU_Lot-01_Centre 1'!D32 -> 0 | F32: =E32*D32 -> 0
A33: ='BPU_Lot-01_Centre 1'!A33 -> 3.9 | B33: ='BPU_Lot-01_Centre 1'!B33 -> Essai de pression sur le réseau de refoulement | C33: ='BPU_Lot-01_Centre 1'!C33 -> u/10ml | D33: =D25/10 -> 370.4 | E33: ='BPU_Lot-01_Centre 1'!D33 -> 0 | F33: =E33*D33 -> 0
A34: ='BPU_Lot-01_Centre 1'!A34 -> 4 | B34: ='BPU_Lot-01_Centre 1'!B34 -> Réseau de distribution PN 10 | C34: ='BPU_Lot-01_Centre 1'!C34 -> 0 | G34: =SUM(F35:F61) -> 0
A35: ='BPU_Lot-01_Centre 1'!A35 -> 4.1 | B35: ='BPU_Lot-01_Centre 1'!B35 -> Fouille en terrain tendre | C35: ='BPU_Lot-01_Centre 1'!C35 -> ml | D35: =D39+D40+D41+D42+D43 -> 25707 | E35: ='BPU_Lot-01_Centre 1'!D35 -> 0 | F35: =E35*D35 -> 0
A36: ='BPU_Lot-01_Centre 1'!A36 -> 4.2 | B36: ='BPU_Lot-01_Centre 1'!B36 -> Grillage avertisseur | C36: ='BPU_Lot-01_Centre 1'!C36 -> ml | D36: =D35 -> 25707 | E36: ='BPU_Lot-01_Centre 1'!D36 -> 0 | F36: =E36*D36 -> 0
A37: ='BPU_Lot-01_Centre 1'!A37 -> 4.3 | B37: ='BPU_Lot-01_Centre 1'!B37 -> Plus-Value carapace latéritique (utilisation d'engins pneumatiques) | C37: ='BPU_Lot-01_Centre 1'!C37 -> m3 | D37: =D35*30% -> 7712.1 | E37: ='BPU_Lot-01_Centre 1'!D37 -> 0 | F37: =E37*D37 -> 0
A38: ='BPU_Lot-01_Centre 1'!A38 -> 4.4 | B38: ='BPU_Lot-01_Centre 1'!B38 -> PPR diam. 21/25 y/c té et coudes en PPR pour les bâtiments du centre de santé | C38: ='BPU_Lot-01_Centre 1'!C38 -> ml | D38: 300 | E38: ='BPU_Lot-01_Centre 1'!D38 -> 0 | F38: =E38*D38 -> 0
A39: ='BPU_Lot-01_Centre 1'!A39 -> 4.5 | B39: ='BPU_Lot-01_Centre 1'!B39 -> PEHD diam. 33,6/40 y/c té, bouchons et coudes en PEHD pour la connexion du points d'eau de l'école primaire et le raccordement des BF | C39: ='BPU_Lot-01_Centre 1'!C39 -> ml | D39: 700 | E39: ='BPU_Lot-01_Centre 1'!D39 -> 0 | F39: =E39*D39 -> 0
A40: ='BPU_Lot-01_Centre 1'!A40 -> 4.6 | B40: ='BPU_Lot-01_Centre 1'!B40 -> PEHD DN 63 (63x3.8) y/c té, bouchons et coudes en PEHD | C40: ='BPU_Lot-01_Centre 1'!C40 -> ml | D40: 6678 | E40: ='BPU_Lot-01_Centre 1'!D40 -> 0 | F40: =E40*D40 -> 0
...

Sheet BPU_Lot-02_Centre 2
A1: N° | B1: Désignations | C1: Unités | D1: Prix unitaire F.CFA en chiffres | E1: Prix unitaire F.CFA en lettres
A2: 1 | B2: Mobilisation, installation de chantier, Forfaits généraux
A3: 1.1 | B3: Mobilisation, installation et repli du chantier | C3: u
A4: 1.2 | B4: Implantation topographique du réseau | C4: u
A5: 1.3 | B5: Etudes et plans d'exécution (Etudes géotechniques + Notes de calculs des descentes de charge et du support métallique + Divers plans d'exécution) | C5: u
A6: 1.4 | B6: Essai de fonctionnement général des réseaux | C6: u
A7: 2 | B7: Forage
A8: 2.1 | B8: Implantation géophysique de trois (03) points de foration | C8: u
A9: 2.2 | B9: Réalisation de forages positifs en milieu de socle jusqu’à 150 m de profondeur équipé en PVC-forage de 6 pouces crépinés au droit des arrivées d'eau et pleins aux droits des zones stériles | C9: u
A10: 2.3 | B10: Rémunération de forages déclarés négatifs pour insuffisance de débit | C10: u
A11: 2.4 | B11: Analyses physico-chimiques, bactériologiques et des métaux lourds de l’eau des forages | C11: u
A12: 2.5 | B12: Réalisation d'une piste d'ccès de 6m de large depuis la voie principale | C12: u
A13: 2.6 | B13: Défrichement, abattage et dessouchage d'arbre, nivellement de la concession | C13: u
A14: 2.7 | B14: Construction d'une clôture en parpaing pour le forage de dimensions (Lxlxh) 10mx10mx2m au minimum avec une longrine et des poteaux espacés de 3m. Un couronnement (chaperon de mur) en béton-armé de largeur 10 cm sur tout le périmètre avec un portail à 2 battants 3mx1,4m à ouverture vers l'intérieur de la clôture y compris crépissage tyrolienne à l'extérieur et peinture à l'intérieur. Une niche avec porte grille métallique pour les équipements électriques, électromécaniques (inverseur, coffret de commande, coffret de démarrage). Epandage du gravier concassé sur toute la surface intérieure de la clôture. | C14: u
A15: 2.8 | B15: Construction de la nouvelle margelle incluant toute la longueur du manifold et pose de la tête de forage en inox DN 200 | C15: u
A16: 2.9 | B16: Fourniture et pose d'une colonne d'exhaure en matériaux flexible de type foraduc ou boreline | C16: u
A17: 2.10 | B17: Fourniture et pose d'une pompe immergée hybride AC/DC de 10 m3/h de 130 à 140m de HMT, colonne d'exhaure, boite de jonction, câbles d'alimentation électriques et accessoires | C17: u
A18: 2.11 | B18: Manifold complet en fonte ou en inox comprenant une ventouse, un clapet anti-retour, un filtre à tamis, un pressostat télémécanique, un manomètre à bain d'huile, une vannette de prise en laiton, un compteur volumétrique (DN 25-40), fileté, avec cadran sec et humide et une vanne de régulation à opercule. L'ensemble des pièces intermédiaires doit être en fonte ductile ou en inox, | C18: u
A19: 2.12 | B19: Fournitur et pose d'un anti-belier de 100 litres avec une pression comprise entre 10 et 15 bars | C19: u
... A23: 2.16 | B23: Fourniture d'une sonde lumineuse et sonore | C23: u
A24: 3 | B24: Conduite de refoulement PN 16
A25: 3.1 | B25: Fouille en terrain tendre | C25: ml
A26: 3.2 | B26: Grillage avertisseur | C26: ml
A27: 3.3 | B27: Plus-Value carapace latéritique | C27: m3
A28: 3.4 | B28: PEHD diam. 53/63 y/c té, bouchons et coudes en PEHD | C28: ml
A29: 3.5 | B29: PEHD diam. 76,8/90 y/c té, bouchons et coudes en PEHD | C29: ml
A30: 3.6 | B30: Fourniture et pose d'une vidange sous BAC sur le refoulement y/c toutes sujétions | C30: u
A31: 3.7 | B31: Fourniture et pose de fourreau 160 | C31: ml
A32: 3.8 | B32: Balise de repérage | C32: u
A33: 3.9 | B33: Essai de pression sur le réseau de distribution | C33: ml
A34: 4 | B34: Réseau de distribution PN 10
A35: 4.1 | B35: Fouille en terrain tendre | C35: ml
A36: 4.2 | B36: Grillage avertisseur | C36: ml
A37: 4.3 | B37: Plus-Value carapace latéritique | C37: m3
A38: 4.4 | B38: PPR diam. 21/25 y/c té et coudes en PPR | C38: ml
A39: 4.5 | B39: PEHD diam. 33,6/40 y/c té, bouchons et coudes en PEHD pour la connexion du points d'eau de l'école primaire et le raccordement des BF | C39: ml
A40: 4.6 | B40: PEHD DN 63 (63x3.8) y/c té, bouchons et coudes en PEHD | C40: ml
A41: 4.7 | B41: PEHD DN 90 (90x5.4) y/c té, bouchons et coudes en PEHD | C41: ml
A42: 4.8 | B42: PEHD DN 110 (110x6.6) y/c té, bouchons et coudes en PEHD | C42: ml
A43: 4.9 | B43: PEHD DN 160 (160x9.5) y/c té, bouchons et coudes en PEHD | C43: ml
...

Sheet DQE_Lot-02_Centre 2
A1: N° | B1: Désignations | C1: Unités | D1: Quantités | E1: Prix Unit. | F1: Prix Partiel F.CFA | G1: Prix Total F.CFA
A2: ='BPU_Lot-02_Centre 2'!A2 -> 1 | B2: ='BPU_Lot-02_Centre 2'!B2 -> Mobilisation, installation de chantier, Forfaits généraux | C2: ='BPU_Lot-02_Centre 2'!C2 -> 0 | G2: =SUM(F3:F6) -> 0
A3: ='BPU_Lot-02_Centre 2'!A3 -> 1.1 | B3: ='BPU_Lot-02_Centre 2'!B3 -> Mobilisation, installation et repli du chantier | C3: ='BPU_Lot-02_Centre 2'!C3 -> u | D3: 1 | E3: ='BPU_Lot-02_Centre 2'!D3 -> 0 | F3: =E3*D3 -> 0
A4: ='BPU_Lot-02_Centre 2'!A4 -> 1.2 | B4: ='BPU_Lot-02_Centre 2'!B4 -> Implantation topographique du réseau | C4: ='BPU_Lot-02_Centre 2'!C4 -> u | D4: 1 | E4: ='BPU_Lot-02_Centre 2'!D4 -> 0 | F4: =E4*D4 -> 0
A5: ='BPU_Lot-02_Centre 2'!A5 -> 1.3 | B5: ='BPU_Lot-02_Centre 2'!B5 -> Etudes et plans d'exécution (Etudes géotechniques + Notes de calculs des descentes de charge et du support métallique + Divers plans d'exécution) | C5: ='BPU_Lot-02_Centre 2'!C5 -> u | D5: 1 | E5: ='BPU_Lot-02_Centre 2'!D5 -> 0 | F5: =E5*D5 -> 0
A6: ='BPU_Lot-02_Centre 2'!A6 -> 1.4 | B6: ='BPU_Lot-02_Centre 2'!B6 -> Essai de fonctionnement général des réseaux | C6: ='BPU_Lot-02_Centre 2'!C6 -> u | D6: 1 | E6: ='BPU_Lot-02_Centre 2'!D6 -> 0 | F6: =E6*D6 -> 0
A7: ='BPU_Lot-02_Centre 2'!A7 -> 2 | B7: ='BPU_Lot-02_Centre 2'!B7 -> Forage | G7: =SUM(F8:F23) -> 0
A8: ='BPU_Lot-02_Centre 2'!A8 -> 2.1 | B8: ='BPU_Lot-02_Centre 2'!B8 -> Implantation géophysique de trois (03) points de foration | C8: ='BPU_Lot-02_Centre 2'!C8 -> u | D8: 2 | E8: ='BPU_Lot-02_Centre 2'!D8 -> 0 | F8: =E8*D8 -> 0
A9: ='BPU_Lot-02_Centre 2'!A9 -> 2.2 | B9: ='BPU_Lot-02_Centre 2'!B9 -> Réalisation de forages positifs en milieu de socle jusqu’à 150 m de profondeur équipé en PVC-forage de 6 pouces crépinés au droit des arrivées d'eau et pleins aux droits des zones stériles | C9: ='BPU_Lot-02_Centre 2'!C9 -> u | D9: =D8 -> 2 | E9: ='BPU_Lot-02_Centre 2'!D9 -> 0 | F9: =E9*D9 -> 0
A10: ='BPU_Lot-02_Centre 2'!A10 -> 2.3 | B10: ='BPU_Lot-02_Centre 2'!B10 -> Rémunération de forages déclarés négatifs pour insuffisance de débit | C10: ='BPU_Lot-02_Centre 2'!C10 -> u | D10: PM | E10: ='BPU_Lot-02_Centre 2'!D10 -> 0
A11: ='BPU_Lot-02_Centre 2'!A11 -> 2.4 | B11: ='BPU_Lot-02_Centre 2'!B11 -> Analyses physico-chimiques, bactériologiques et des métaux lourds de l’eau des forages | C11: ='BPU_Lot-02_Centre 2'!C11 -> u | D11: =D9 -> 2 | E11: ='BPU_Lot-02_Centre 2'!D11 -> 0 | F11: =E11*D11 -> 0
A12: ='BPU_Lot-02_Centre 2'!A12 -> 2.5 | B12: ='BPU_Lot-02_Centre 2'!B12 -> Réalisation d'une piste d'ccès de 6m de large depuis la voie principale | C12: ='BPU_Lot-02_Centre 2'!C12 -> u | D12: =D9 -> 2 | E12: ='BPU_Lot-02_Centre 2'!D12 -> 0 | F12: =E12*D12 -> 0
A13: ='BPU_Lot-02_Centre 2'!A13 -> 2.6 | B13: ='BPU_Lot-02_Centre 2'!B13 -> Défrichement, abattage et dessouchage d'arbre, nivellement de la concession | C13: ='BPU_Lot-02_Centre 2'!C13 -> u | D13: =D9 -> 2 | E13: ='BPU_Lot-02_Centre 2'!D13 -> 0 | F13: =E13*D13 -> 0
A14: ='BPU_Lot-02_Centre 2'!A14 -> 2.7 | B14: ='BPU_Lot-02_Centre 2'!B14 -> Construction d'une clôture en parpaing pour le forage de dimensions (Lxlxh) 10mx10mx2m au minimum avec une longrine et des poteaux espacés de 3m. Un couronnement (chaperon de mur) en béton-armé de largeur 10 cm sur tout le périmètre avec un portail à 2 battants 3mx1,4m à ouverture vers l'intérieur de la clôture y compris crépissage tyrolienne à l'extérieur et peinture à l'intérieur. Une niche avec porte grille métallique pour les équipements électriques, électromécaniques (inverseur, coffret de commande, coffret de démarrage). Epandage du gravier concassé sur toute la surface intérieure de la clôture. | C14: ='BPU_Lot-02_Centre 2'!C14 -> u | D14: =D9 -> 2 | E14: ='BPU_Lot-02_Centre 2'!D14 -> 0 | F14: =E14*D14 -> 0
A15: ='BPU_Lot-02_Centre 2'!A15 -> 2.8 | B15: ='BPU_Lot-02_Centre 2'!B15 -> Construction de la nouvelle margelle incluant toute la longueur du manifold et pose de la tête de forage en inox DN 200 | C15: ='BPU_Lot-02_Centre 2'!C15 -> u | D15: =D9 -> 2 | E15: ='BPU_Lot-02_Centre 2'!D15 -> 0 | F15: =E15*D15 -> 0
A16: ='BPU_Lot-02_Centre 2'!A16 -> 2.9 | B16: ='BPU_Lot-02_Centre 2'!B16 -> Fourniture et pose d'une colonne d'exhaure en matériaux flexible de type foraduc ou boreline | C16: ='BPU_Lot-02_Centre 2'!C16 -> u | D16: =D9 -> 2 | E16: ='BPU_Lot-02_Centre 2'!D16 -> 0 | F16: =E16*D16 -> 0
A17: ='BPU_Lot-02_Centre 2'!A17 -> 2.10 | B17: ='BPU_Lot-02_Centre 2'!B17 -> Fourniture et pose d'une pompe immergée hybride AC/DC de 10 m3/h de 130 à 140m de HMT, colonne d'exhaure, boite de jonction, câbles d'alimentation électriques et accessoires | C17: ='BPU_Lot-02_Centre 2'!C17 -> u | D17: 2 | E17: ='BPU_Lot-02_Centre 2'!D17 -> 0 | F17: =E17*D17 -> 0
A18: ='BPU_Lot-02_Centre 2'!A18 -> 2.11 | B18: ='BPU_Lot-02_Centre 2'!B18 -> Manifold complet en fonte ou en inox comprenant une ventouse, un clapet anti-retour, un filtre à tamis, un pressostat télémécanique, un manomètre à bain d'huile, une vannette de prise en laiton, un compteur volumétrique (DN 25-40), fileté, avec cadran sec et humide et une vanne de régulation à opercule. L'ensemble des pièces intermédiaires doit être en fonte ductile ou en inox, | C18: ='BPU_Lot-02_Centre 2'!C18 -> u | D18: 2 | E18: ='BPU_Lot-02_Centre 2'!D18 -> 0 | F18: =E18*D18 -> 0
A19: ='BPU_Lot-02_Centre 2'!A19 -> 2.12 | B19: ='BPU_Lot-02_Centre 2'!B19 -> Fournitur et pose d'un anti-belier de 100 litres avec une pression comprise entre 10 et 15 bars | C19: ='BPU_Lot-02_Centre 2'!C19 -> u | D19: 2 | E19: ='BPU_Lot-02_Centre 2'!D19 -> 0 | F19: =E19*D19 -> 0
A20: ='BPU_Lot-02_Centre 2'!A20 -> 2.13 | B20: ='BPU_Lot-02_Centre 2'!B20 -> Fourniture et pose d'un coffret de commande de type Hybride DC/AC ou similaire et d'un coffret de démarrage avec système de régulation automatique y/c électrodes et câbles unifilaires de protection ainsi que les câbles d’alimentation sous-fourreau ou gaine du coffret à la tête de forage, d'une protection contre la foudre et d'une prise de terre complet. | C20: ='BPU_Lot-02_Centre 2'!C20 -> u | D20: 2 | E20: ='BPU_Lot-02_Centre 2'!D20 -> 0 | F20: =E20*D20 -> 0
A21: ='BPU_Lot-02_Centre 2'!A21 -> 2.14 | B21: ='BPU_Lot-02_Centre 2'!B21 -> Construction d'une ligne de moyenne tension de 0 à 1000m | C21: ='BPU_Lot-02_Centre 2'!C21 -> Fft | D21: =D9 -> 2 | E21: ='BPU_Lot-02_Centre 2'!D21 -> 0 | F21: =E21*D21 -> 0
A22: ='BPU_Lot-02_Centre 2'!A22 -> 2.15 | B22: ='BPU_Lot-02_Centre 2'!B22 -> Branchement et abonnement pour une compteur CIE | C22: ='BPU_Lot-02_Centre 2'!C22 -> Fft | D22: =D21 -> 2 | E22: ='BPU_Lot-02_Centre 2'!D22 -> 0 | F22: =E22*D22 -> 0
A23: ='BPU_Lot-02_Centre 2'!A23 -> 2.16 | B23: ='BPU_Lot-02_Centre 2'!B23 -> Fourniture d'une sonde lumineuse et sonore | C23: ='BPU_Lot-02_Centre 2'!C23 -> u | D23: 1 | E23: ='BPU_Lot-02_Centre 2'!D23 -> 0 | F23: =E23*D23 -> 0
A24: ='BPU_Lot-02_Centre 2'!A24 -> 3 | B24: ='BPU_Lot-02_Centre 2'!B24 -> Conduite de refoulement PN 16 | G24: =SUM(F25:F33) -> 0
A25: ='BPU_Lot-02_Centre 2'!A25 -> 3.1 | B25: ='BPU_Lot-02_Centre 2'!B25 -> Fouille en terrain tendre | C25: ='BPU_Lot-02_Centre 2'!C25 -> ml | D25: =D28+D29 -> 1635 | E25: ='BPU_Lot-02_Centre 2'!D25 -> 0 | F25: =E25*D25 -> 0
A26: ='BPU_Lot-02_Centre 2'!A26 -> 3.2 | B26: ='BPU_Lot-02_Centre 2'!B26 -> Grillage avertisseur | C26: ='BPU_Lot-02_Centre 2'!C26 -> ml | D26: =D25 -> 1635 | E26: ='BPU_Lot-02_Centre 2'!D26 -> 0 | F26: =E26*D26 -> 0
A27: ='BPU_Lot-02_Centre 2'!A27 -> 3.3 | B27: ='BPU_Lot-02_Centre 2'!B27 -> Plus-Value carapace latéritique | C27: ='BPU_Lot-02_Centre 2'!C27 -> m3 | D27: =D25*10% -> 163.5 | E27: ='BPU_Lot-02_Centre 2'!D27 -> 0 | F27: =E27*D27 -> 0
A28: ='BPU_Lot-02_Centre 2'!A28 -> 3.4 | B28: ='BPU_Lot-02_Centre 2'!B28 -> PEHD diam. 53/63 y/c té, bouchons et coudes en PEHD | C28: ='BPU_Lot-02_Centre 2'!C28 -> ml | E28: ='BPU_Lot-02_Centre 2'!D28 -> 0 | F28: =E28*D28 -> 0
A29: ='BPU_Lot-02_Centre 2'!A29 -> 3.5 | B29: ='BPU_Lot-02_Centre 2'!B29 -> PEHD diam. 76,8/90 y/c té, bouchons et coudes en PEHD | C29: ='BPU_Lot-02_Centre 2'!C29 -> ml | D29: 1635 | E29: ='BPU_Lot-02_Centre 2'!D29 -> 0 | F29: =E29*D29 -> 0
A30: ='BPU_Lot-02_Centre 2'!A30 -> 3.6 | B30: ='BPU_Lot-02_Centre 2'!B30 -> Fourniture et pose d'une vidange sous BAC sur le refoulement y/c toutes sujétions | C30: ='BPU_Lot-02_Centre 2'!C30 -> u | D30: =D9 -> 2 | E30: ='BPU_Lot-02_Centre 2'!D30 -> 0 | F30: =E30*D30 -> 0
A31: ='BPU_Lot-02_Centre 2'!A31 -> 3.7 | B31: ='BPU_Lot-02_Centre 2'!B31 -> Fourniture et pose de fourreau 160 | C31: ='BPU_Lot-02_Centre 2'!C31 -> ml | D31: 100 | E31: ='BPU_Lot-02_Centre 2'!D31 -> 0 | F31: =E31*D31 -> 0
A32: ='BPU_Lot-02_Centre 2'!A32 -> 3.8 | B32: ='BPU_Lot-02_Centre 2'!B32 -> Balise de repérage | C32: ='BPU_Lot-02_Centre 2'!C32 -> u | D32: =D29/75 -> 21.8 | E32: ='BPU_Lot-02_Centre 2'!D32 -> 0 | F32: =E32*D32 -> 0
A33: ='BPU_Lot-02_Centre 2'!A33 -> 3.9 | B33: ='BPU_Lot-02_Centre 2'!B33 -> Essai de pression sur le réseau de distribution | C33: ='BPU_Lot-02_Centre 2'!C33 -> ml | D33: =D25/10 -> 163.5 | E33: ='BPU_Lot-02_Centre 2'!D33 -> 0 | F33: =E33*D33 -> 0
A34: ='BPU_Lot-02_Centre 2'!A34 -> 4 | B34: ='BPU_Lot-02_Centre 2'!B34 -> Réseau de distribution PN 10 | G34: =SUM(F35:F62) -> 0
A35: ='BPU_Lot-02_Centre 2'!A35 -> 4.1 | B35: ='BPU_Lot-02_Centre 2'!B35 -> Fouille en terrain tendre | C35: ='BPU_Lot-02_Centre 2'!C35 -> ml | D35: =D39+D40+D41+D42+D43 -> 7698 | E35: ='BPU_Lot-02_Centre 2'!D35 -> 0 | F35: =E35*D35 -> 0
A36: ='BPU_Lot-02_Centre 2'!A36 -> 4.2 | B36: ='BPU_Lot-02_Centre 2'!B36 -> Grillage avertisseur | C36: ='BPU_Lot-02_Centre 2'!C36 -> ml | D36: =D35 -> 7698 | E36: ='BPU_Lot-02_Centre 2'!D36 -> 0 | F36: =E36*D36 -> 0
A37: ='BPU_Lot-02_Centre 2'!A37 -> 4.3 | B37: ='BPU_Lot-02_Centre 2'!B37 -> Plus-Value carapace latéritique | C37: ='BPU_Lot-02_Centre 2'!C37 -> m3 | D37: =D35*30% -> 2309.4 | E37: ='BPU_Lot-02_Centre 2'!D37 -> 0 | F37: =E37*D37 -> 0
A38: ='BPU_Lot-02_Centre 2'!A38 -> 4.4 | B38: ='BPU_Lot-02_Centre 2'!B38 -> PPR diam. 21/25 y/c té et coudes en PPR | C38: ='BPU_Lot-02_Centre 2'!C38 -> ml | D38: 100 | E38: ='BPU_Lot-02_Centre 2'!D38 -> 0 | F38: =E38*D38 -> 0
A39: ='BPU_Lot-02_Centre 2'!A39 -> 4.5 | B39: ='BPU_Lot-02_Centre 2'!B39 -> PEHD diam. 33,6/40 y/c té, bouchons et coudes en PEHD pour la connexion du points d'eau de l'école primaire et le raccordement des BF | C39: ='BPU_Lot-02_Centre 2'!C39 -> ml | D39: =(7*100)+(15*6) -> 790 | E39: ='BPU_Lot-02_Centre 2'!D39 -> 0 | F39: =E39*D39 -> 0
A40: ='BPU_Lot-02_Centre 2'!A40 -> 4.6 | B40: ='BPU_Lot-02_Centre 2'!B40 -> PEHD DN 63 (63x3.8) y/c té, bouchons et coudes en PEHD | C40: ='BPU_Lot-02_Centre 2'!C40 -> ml | D40: 5020 | E40: ='BPU_Lot-02_Centre 2'!D40 -> 0 | F40: =E40*D40 -> 0
...

Sheet Recap
A1: RECAP
A2: LOT | B2: DESIGNATIONS | D2: MONTANT
A3: Lot-01 | B3: Centre - 1 | C3: Mongbara / Kénégbé Nord / Bessala / Souroumana / Massala-Assolo | D3: ='DQE_Lot-01_Centre 1'!G94 -> 0
B5: Arrêté le présent devis (Lot-01) à la somme de :
A12: LOT | B12: DESIGNATIONS | D12: MONTANT
A13: Lot-02 | B13: Centre - 2 | C13: Bingoro / Sagoura-Dougoula | D13: ='DQE_Lot-02_Centre 2'!G95 -> 0
B15: Arrêté le présent devis (Lot-02) à la somme de :
